BEGIN:VCALENDAR
VERSION:2.0
PRODID:-//TEST Apricus e.V.//NONSGML kigkonsult.se iCalcreator 2.41.92//
CALSCALE:GREGORIAN
METHOD:PUBLISH
UID:30386237-6631-4038-a532-303666373661
X-WR-CALNAME:iCagenda
X-WR-CALDESC:Event Management Extension for Joomla!
X-WR-RELCALID:3E26604A-50F4-4449-8B3E-E4F4932D05B5
X-WR-TIMEZONE:Europe/Berlin
BEGIN:VTIMEZONE
TZID:Europe/Berlin
TZUNTIL:20231029T010000Z
BEGIN:STANDARD
TZNAME:CET
DTSTART:20211031T030000
TZOFFSETFROM:+0200
TZOFFSETTO:+0100
RDATE:20221030T030000
END:STANDARD
BEGIN:DAYLIGHT
TZNAME:CEST
DTSTART:20210328T020000
TZOFFSETFROM:+0100
TZOFFSETTO:+0200
RDATE:20220327T020000
RDATE:20230326T020000
END:DAYLIGHT
END:VTIMEZONE
BEGIN:VEVENT
UID:63666535-6532-4533-a532-313632326630
DTSTAMP:20260425T221242Z
CATEGORIES:Skilaufen\, Skaten
CLASS:PUBLIC
DESCRIPTION;ALTREP="CID:<FFFF__=0ABBE548DFE235B58f9e8a93d@coffeebean.com>":
 Wichtige Information von Jana\, 6.1.2022:\nNiemand kann sagen\, wie sich a
 lles mit Omikron und Coronaeindämmungsverordnungen entwickeln wird in den 
 nächsten Wochen. Planen müssen wir aber trotzdem. Der Herbergsleiter und i
 ch denken und hoffen\, dass alles wieder offen und möglich sein wird am er
 sten Februar-WE. Momentan sind touristische Übernachtungen in Sachen aller
 dings verboten und diese Bestimmungen wurden gerade noch einmal erneuert. 
 Sie gelten jetzt bis zum 14.1. Über den neuesten Stand informiere ich mich
  immer hier: Aktuelle Reiseinformationen &amp\; FAQ | DJH-Landesverband Sa
 chsen e. V.\nFür die Planungssicherheit brauche ich aber nach wie vor eine
  verbindliche Zusage (einige haben ja schon zugesagt) - eigentlich laut Au
 sschreibung bis heute\, 6.1.\, aber ich verlängere die Deadline für die bi
 sher Unentschlossenen bis Montag\, 10.01. - dann liegt das Apricus-Regiona
 l-Wochenende auch hinter uns. Reserviert und gebucht habe ich bisher nur 8
  Plätze\, deshalb gilt das Prinzip: wer zuerst kommt\, mahlt zuerst - best
 immt kann ich die Anzahl der Plätze aber auch bei entsprechender Interesse
 nzahl erhöhen.\nDann freue ich mich über eure Rückmeldungen und wünsch` eu
 ch was\,Jana\n\nAusschreibung\nLiebe Apricüsse und Gäste\,\n\nder Winter n
 aht und damit auch hoffentlich der Schnee!\nWir starten sportlich in das n
 eue Jahr mit einem Skilanglaufwochenende im schönen Erzgebirge. Es verschl
 ägt uns\, nun schon zum dritten Mal\, in das ausgemachte Ski&shy\;lang&shy
 \;laufgebiet Frauenstein-Nassau. Dort werden wir von Freitag\, 4.2. bis So
 nntag\, 6.2.2022 in der Jugendherberge Frauenstein untergebracht sein. Der
  dort tätige Koch ist spezialisiert auf lokale Küche und hat seinen früher
 en Job in einem renommierten Restaurant in der Schweiz quittiert\, um wied
 er in seiner Heimat erzgebirgische Kartoffel&shy\;suppe\, Buchteln (Hefekl
 öße) mit Heidelbeeren oder Quarkkeulchen herstellen zu können. Kulinarisch
  wird dieses Wochenende also schon mal ein Highlight werden!\nDie Anreise 
 per Bahn\, Bus und Zug oder Auto ist für Freitag ab 17 Uhr geplant – Bahnr
 eisende aus Berlin\, Brandenburg oder Leipzig können bis Dresden oder Frei
 berg fahren und ab dort mit dem Regionalbus nach Frauenstein. Mit dem Auto
  fährt man die Autobahn A4 bis Abfahrt Siebenlehn und weiter auf der B101 
 über Freiberg nach Frauenstein.\nNachtrodeln 2019\nWer bis 18 Uhr vor Ort 
 ist\, kommt sogleich in den Genuss der oben beschriebenen köstlichen Küche
 . Nach dem Abendbrot gehen wir gemeinsam in den dunklen Wald und nehmen un
 sere Schlitten mit (in der JH zur Ausleihe vorhanden)… denn dort organisie
 rt die JH im Winter jeden Freitag ein Nachtrodeln mit Fackeln\, dazu Glühw
 ein und Kinderpunsch wenige hundert Meter hinterm Haus.\nDas lasst euch bi
 tte nicht entgehen!\nAm Samstag heißt es dann „Auf die Bretter“ – die Loip
 en verlaufen direkt vor dem Haus und wir werden wohl eine Tour ins benachb
 arte Nassau machen. Alles ist recht gut ausgeschildert und es gibt auch di
 e Möglichkeit zur Einkehr unterwegs. Da das legendäre Internationale Nassa
 uer Hundeschlittenrennen\, das einige bereits kennen\, in diesem Jahr scho
 n zum zweiten Mal pandemiebedingt ausfällt\, könnten wir uns alternativ di
 e Silbermannorgel in Nassau ansehen.\nIn jedem Fall sollten wir bis zum Ei
 nbruch der Dunkelheit wieder in der JH sein und können uns dort bei lecker
 stem Essen (siehe oben) und in gemütlicher Runde von den „Strapazen des Ta
 ges“ erholen. Ein Klavier ist vorhanden und gerne können auch wieder weite
 re Musikinstrumente mitgebracht werden. Außerdem gibt es in der JH die übl
 iche Ausstattung mit Tischtennis und Kicker sowie diversen Gesellschafts&s
 hy\;spiele. Die Getränkeversorgung werde ich noch klären\, es wird auf jed
 en Fall was da sein für euch. \;-)\nEindrücke unseres Frauenstein-Wochenen
 des 2020\nSonntag möchten wir dann entweder noch eine kleinere LL-Runde dr
 ehen\, die vorm Haus startet und gegen Mittag ebenda endet – oder\, für di
 e\, die das nicht wollen\, bietet sich die Besichtigung der Burgruine Frau
 enstein mit angrenzender (ehemaliger) Sprungschanze an – bis Mitte der 70e
 r Jahre war Frauenstein auch ein alpines Skigebiet\, eben wegen der 40m la
 ngen und 36 Grad steilen (Aufsprunghang) Skisprungschanze.\nIn jedem Fall 
 werden wir noch Gelegenheit haben\, am Frauensteiner Markt in die erstklas
 sige Konditorei zu gehen\, um dort beispielsweise sächsischen Käsekuchen z
 u essen\, bevor wir uns wieder auf den Heimweg machen.\n&nbsp\;\nTeilnehme
 rbeitrag\n*) Nachweis beim Organisator vorlegen **) Die Preise für Kinder 
 und Jugendliche sind durch den Verein gestützt&nbsp\;/ reduziert  \n\n\n\n
 \n\nTN-Gruppe\nApricus\nGäste\n\n\n\n\nErwachsene\n\n77\n87\n\n\nErmäßigt 
 / Hartz-IV-Empfänger *\n\n62\n72\n\n\nJugendliche bis 26 Jahre **\n\n50\n5
 4\n\n\nKinder 7 bis 14 Jahre **\n\n35\n39\n\n\n\nDie Teilnehmerbeträge gel
 ten für: 2x Übernachtung + Halbpension (Frühstück und Abend&shy\;essen)\, 
 inklusive Kurtaxe\, Bettwäsche und Hygienemehraufwand. Eventuell kommt noc
 h ein Lunchpaket für mittags dazu\, sowie Getränke und Knabberzeug für den
  Abend. An- und Abreise erfolgt individuell und auf eigene Kosten.\nHier n
 och die Adresse und der Link zur Website der JH Frauenstein :\n\nJugendher
 berge FrauensteinWalkmühlenstraße 1309623 Frauenstein\n\nIn der Jugendherb
 erge besteht die Möglichkeit\, Skier (Langlauf und Alpin) oder Schlitten a
 uszuleihen.\nAnmeldungen\n...bitte per Mail ab sofort bis spätestens 6.1.2
 022 an: jana_schwedler@yahoo.de.\nWer noch Fragen hat\, schreibt ebenfalls
  einfach eine E-Mail an mich. Ich werde die Fragen sammeln und mich in der
  JH erkundigen. Bei ganz dringenden Fragen könnt ihr mich auch anrufen/“wh
 atsappen“ unter 0179-1254553.\nDie Anmeldungen gelten nur bei gleichzeitig
 er Einzahlung der Teilnehmerbeiträge auf das {loadmoduleid 114}.\nBeachtet
  auch die bei unseren Veranstaltungen gültigen Corona-Regeln (s.u.).\nIn V
 orfreude auf ein schnee- und ereignisreiches Wochenende im Erzgebirge!Jana
 \n&nbsp\;\n\nCorona-Regeln bei Apricus-Veranstaltungen\n{loadmoduleid 135}
DTSTART:20220204T150000Z
DTEND:20220206T170000Z
GEO:00;0
LOCATION:
ORGANIZER:
SEQUENCE:1
SUMMARY:Winter-/Skiwochenende in Frauenstein
TRANSP:OPAQUE
URL:https://test.apricus-ev.de/component/icagenda/119-winter-skiwochenende-
 in-frauenstein?layout=vcal
END:VEVENT
END:VCALENDAR
