BEGIN:VCALENDAR
VERSION:2.0
PRODID:-//TEST Apricus e.V.//NONSGML kigkonsult.se iCalcreator 2.41.92//
CALSCALE:GREGORIAN
METHOD:PUBLISH
UID:32343365-3637-4433-b236-656635386661
X-WR-CALNAME:iCagenda
X-WR-CALDESC:Event Management Extension for Joomla!
X-WR-RELCALID:3E26604A-50F4-4449-8B3E-E4F4932D05B5
X-WR-TIMEZONE:Europe/Berlin
BEGIN:VTIMEZONE
TZID:Europe/Berlin
TZUNTIL:20231029T010000Z
BEGIN:STANDARD
TZNAME:CET
DTSTART:20211031T030000
TZOFFSETFROM:+0200
TZOFFSETTO:+0100
RDATE:20221030T030000
END:STANDARD
BEGIN:DAYLIGHT
TZNAME:CEST
DTSTART:20210328T020000
TZOFFSETFROM:+0100
TZOFFSETTO:+0200
RDATE:20220327T020000
RDATE:20230326T020000
END:DAYLIGHT
END:VTIMEZONE
BEGIN:VEVENT
UID:64643039-3731-4031-b632-633563366664
DTSTAMP:20260425T215228Z
CATEGORIES:Skilaufen\, Skaten
CLASS:PUBLIC
DESCRIPTION;ALTREP="CID:<FFFF__=0ABBE548DFE235B58f9e8a93d@coffeebean.com>":
 Schnee oder kein Schnee\, das ist hier die Frage...\nWie angekündigt\, geh
 en wir vom 11. bis 13. Februar auf Wintertour im Thüringer Wald. Wie winte
 rlich es wird\, wissen wir noch nicht. Falls der bisher so lasche Winter s
 ich doch noch an seiner Ehre gepackt fühlt und Frau und Herr Holle noch ei
 n paar Flocken aus ihren Schlafsäcken schütteln lässt\, nehmen wir die Ski
  mit. Die Prognosen sehen gar nicht mal so schlecht aus. Wenn nicht gehen 
 wir eben ohne die Bretter\, die den Winterwald bedeuten. Auf jeden Fall da
 bei haben solltet ihr aber einen warmen Schlafsack mit Isomatte - und Zelt
 e\, gern können wir auch Zeltgemeinschaften vermitteln. Für einen heißen T
 ee oder eine Suppe wären Kocher auch ganz gut. Ihr ahnt es schon - wir sch
 lafen draußen im 1000-Sterne-Hotel.\nSowohl der genaue Treffpunkt als auch
  die Route werden aufgrund der Wetterlage kurzfristig festgelegt\, um mögl
 ichst winterliche Bedingungen zu ermöglichen. Voraussichtlich werden wir a
 m Freitag zwischen 20&nbsp\;und 21&nbsp\;Uhr in Oberhof losgehen (Anreise 
 z.B. per Zug/Bus von Erfurt 19:35&nbsp\;Uhr). Genauere Infos zu Ort\, Zeit
  und Ski oder Nicht-Ski gibt es am Mittwochabend (9.2.). Gebt uns deshalb 
 bitte Bescheid\, wie wir euch erreichen können (Email/Telefon/Telegram/Waz
 Ab). Keine Ski zu haben zählt übrigens nicht als Ausrede: wenn wir vorher 
 Bescheid wissen\, besorgen wir welche. Und wer Anfänger ist\, bekommt das 
 Skifahren beigebracht.\nVerpflegung? Keine oder ihr bringt euch selber was
  mit.\nTeilnehmerbeitrag: Die Veranstaltung zählt als verkettete Tagestour
 en\, das heißt: Apricus-Mitglieder müssen nichts zahlen - Gäste zahlen 1€ 
 pro Veranstaltungstag für die Sportversicheren (wer das Rennsteiglied vors
 ingen kann und das auch tut\, bekommt 50% erlassen).\nHinsichtlich Corona 
 weisen wir auf die bei unseren Veranstaltungen gültigen Regeln hin (s.u.).
  Da wir insbesondere abends für einige Stunden auch unter einem gemeinsame
 n Dach sitzen könnten\, bitten wir Euch um entsprechende Tests falls Ihr n
 icht 2G seid.\nNoch Fragen? Dann fragen! com@uni-jena.de oder01577 - 83064
 06\nWir freuen uns auf eine schöne Wintertour mit euch über die höchsten G
 ipfel des Thüringer Waldes und auf kuschlige Abende bei Kerzenschein oder 
 Lagerfeuer.Aziza + Osama\n{loadmoduleid 135}
DTSTART:20220211T190000Z
DTEND:20220213T180000Z
GEO:00;0
LOCATION:Thüringen
ORGANIZER:
SEQUENCE:1
SUMMARY:Winterwandern mit Zelt
TRANSP:OPAQUE
URL:https://test.apricus-ev.de/component/icagenda/120-winterwandern-mit-zel
 t?layout=vcal
END:VEVENT
END:VCALENDAR
