BEGIN:VCALENDAR
VERSION:2.0
PRODID:-//TEST Apricus e.V.//NONSGML kigkonsult.se iCalcreator 2.41.92//
CALSCALE:GREGORIAN
METHOD:PUBLISH
UID:37666565-3864-4139-b664-666335313834
X-WR-CALNAME:iCagenda
X-WR-CALDESC:Event Management Extension for Joomla!
X-WR-RELCALID:3E26604A-50F4-4449-8B3E-E4F4932D05B5
X-WR-TIMEZONE:Europe/Berlin
BEGIN:VTIMEZONE
TZID:Europe/Berlin
TZUNTIL:20231029T010000Z
BEGIN:STANDARD
TZNAME:CET
DTSTART:20211031T030000
TZOFFSETFROM:+0200
TZOFFSETTO:+0100
RDATE:20221030T030000
END:STANDARD
BEGIN:DAYLIGHT
TZNAME:CEST
DTSTART:20210328T020000
TZOFFSETFROM:+0100
TZOFFSETTO:+0200
RDATE:20220327T020000
RDATE:20230326T020000
END:DAYLIGHT
END:VTIMEZONE
BEGIN:VEVENT
UID:37636330-6339-4231-b362-396135323338
DTSTAMP:20260425T231731Z
CATEGORIES:Laufen
CLASS:PUBLIC
DESCRIPTION;ALTREP="CID:<FFFF__=0ABBE548DFE235B58f9e8a93d@coffeebean.com>":
 Hallo zusammen\,\nmal (wieder) was ganz anderes: 60.&nbsp\;Leipziger Focke
 berglauf am Samstag\, den 5.3.\nDer Verein „Leipziger Triathlon e.V.“ vera
 nstaltet seit Mitte der 90er zweimal jährlich den „Fockeberglauf“ (s.a. Ho
 mepage des Veranstalters).\nDer Start ist am Fuße des 153&nbsp\;m hohen eh
 emaligen Schuttberges. Es geht zuerst einen Waldweg bergauf\, dabei sind a
 uf ca. einem Kilometer 45&nbsp\;Höhenmeter zu überwinden. Nach einer klein
 en Runde auf der Dammkrone des Fockeberg-Plateaus geht es wieder auf Aspha
 lt einen Kilometer bergab. Die ganze Runde ist zwei Kilometer lang. Drei d
 ieser Runden sind beim Fitnesslauf und sechs sind beim Hauptlauf zu absolv
 ieren. Seit Kurzem gibt es auch einen Einsteiger mit nur einer Runde - abe
 r damit wollen wir uns nicht aufhalten - oder?\nIn der ersten Runde gibt e
 s einen Bergpreis - wer in der ersten Runde die Bergankunft gewinnt\, beko
 mmt den Sonderpreis. Bedingung ist jedoch\, den Lauf zu finishen!\nDamit w
 ir den Winterspeck schnell wegbekommen und das Jahr richtig sportlich begi
 nnen\, nehmen wir diese kleine Herausforderung an und erobern 6-mal (oder 
 „nur“ 3-mal) den Hammer-Berg!?\nOrganisatorisches\n\nStart ist 10:00&nbsp\
 ;Uhr am Fuße des Berges.\nDie Anmeldung erfolgt bis spätestens 09:40&nbsp\
 ;Uhr vor Ort.\nStartpreis sind 10&nbsp\;€.\nEvtl. und wahrscheinlich wird 
 die 3G-Regel gelten (s.a. Homepage des Veranstalters)\n\nWer von außerhalb
  kommt und eine Übernachtung vorher benötigt\, kann sich gern bei mir per 
 Mai unter mkraus70@yahoo.de oder telefonisch unter 0176-31330108 melden un
 d einquartieren\, oder wir suchen eine preiswerte Übernachtung in der Nähe
 . (Von mir aus ist der „Berg“ 4&nbsp\;km entfernt und mit dem Bus um 08:40
 &nbsp\;Uhr oder gut per Rad erreichbar.)\nAlso dann: auf in einen aktiven 
 Frühling!\nEs grüßt und freut sich\,Der Micha
DTSTART:20220305T083000Z
DTEND:20220305T150000Z
GEO:00;0
LOCATION:Leipzig
ORGANIZER:
SEQUENCE:1
SUMMARY:60. Fockeberglauf
TRANSP:OPAQUE
URL:https://test.apricus-ev.de/component/icagenda/121-fockeberglauf?layout=
 vcal
END:VEVENT
END:VCALENDAR
