BEGIN:VCALENDAR
VERSION:2.0
PRODID:-//TEST Apricus e.V.//NONSGML kigkonsult.se iCalcreator 2.41.92//
CALSCALE:GREGORIAN
METHOD:PUBLISH
UID:38646632-3137-4236-b136-393263613363
X-WR-CALNAME:iCagenda
X-WR-CALDESC:Event Management Extension for Joomla!
X-WR-RELCALID:3E26604A-50F4-4449-8B3E-E4F4932D05B5
X-WR-TIMEZONE:Europe/Berlin
BEGIN:VTIMEZONE
TZID:Europe/Berlin
TZUNTIL:20240331T010000Z
BEGIN:STANDARD
TZNAME:CET
DTSTART:20211031T030000
TZOFFSETFROM:+0200
TZOFFSETTO:+0100
RDATE:20221030T030000
RDATE:20231029T030000
END:STANDARD
BEGIN:DAYLIGHT
TZNAME:CEST
DTSTART:20220327T020000
TZOFFSETFROM:+0100
TZOFFSETTO:+0200
RDATE:20230326T020000
END:DAYLIGHT
END:VTIMEZONE
BEGIN:VEVENT
UID:32613435-6332-4665-b136-616266346135
DTSTAMP:20260425T231751Z
CATEGORIES:Laufen
CLASS:PUBLIC
DESCRIPTION;ALTREP="CID:<FFFF__=0ABBE548DFE235B58f9e8a93d@coffeebean.com>":
 Teilnahme an der StWB-Teamstaffel in Brandenburg an der Havel\nNachdem sic
 h leider im Oktober vergangenen Jahres – vielleicht auch aufgrund der beso
 nderen Situation – nicht ausreichend Läufer für eine komplette Staffel gef
 unden haben\, wollen wir 2022 wieder versuchen\, mit (mindestens) einem Ap
 ricus-Team an der Teamstaffel in Brandenburg an der Havel teilzunehmen. Di
 e schöne Laufstrecke führt zu einem großen Teil an der Havel und deren Neb
 engewässern entlang durch die Stadt Brandenburg.\nOrganisatorisches\n\nPro
  Team werden 4 Laufbegeisterte gesucht\, die jeweils eine 5-km-Runde laufe
 n.\nAnmeldeschluss beim Veranstalter SCC Events ist am Montag\, 30.05.2022
 . Bitte bei Interesse kurzfristig melden! Es ist auch möglich\, noch am Ve
 ranstaltungstag vor Ort nachzumelden\, die Teilnahme ist dann aber nicht s
 ichergestellt.\nEs gelten grundsätzlich die Allgemeinen Bedingungen zur Te
 ilnahme an SCC-Laufsportveranstaltungen – Details siehe https://www.teamst
 affel-brandenburg.de/\nTreffpunkt\, Start- und Wechselzone: Wohnmobil Stel
 lplätze am Dom\, Grillendamm 4\, 14776 Brandenburg an der Havel.\nBitte nu
 r anmelden\, wenn euch die Teilnahme sicher möglich ist. Der 09.06.2022 is
 t ein Donnerstag. Startzeit ist 18:30 Uhr\; ich werde ab ca. 16:30 vor Ort
  sein.\nDie Startgebühr übernimmt Apricus.\nDa die Startgebühr bei Nichtan
 tritt nicht zurückgezahlt wird\, wäre es gut\, mindestens eine/n Reservelä
 ufer/in zu haben. Die Teilnehmer können nach der Anmeldung vom Teamkapitän
  noch bis zum Starttag ergänzt oder geändert werden.\nAls Qualifikation is
 t eine persönliche 5000-m-Zeit von ca. 38 Minuten ausreichend (die Zeitbeg
 renzung für das gesamte Team liegt bei 2 Stunden 30 Minuten) – schneller i
 st natürlich besser.\n\nAnmeldung\n...unter Beachtung der organisatorische
 n Hinweise per E-Mail an JensA@apricus-ev.de oder telefonisch unter 0175&n
 bsp\;1602839. mit vollständigem Namen\, Geburtsdatum und Geschlecht.\nWeit
 ere Hinweise\nFalls jemand nicht mitlaufen kann oder will\, aber Lust hat\
 , die Teilnehmer anzufeuern\, kann er/sie natürlich gerne zur Veranstaltun
 g kommen – auch kurzfristig. Damit man sich auf dem Veranstaltungsgelände 
 nicht verfehlt\, bitte ich um eine kurze Info.\nAuf einen sportlichen Aben
 d in Brandenburg an der Havel freut sich\nJens
DTSTART:20220609T160000Z
DTEND:20220609T200000Z
GEO:00;0
LOCATION:Brandenburg an der Havel
ORGANIZER:
SEQUENCE:1
SUMMARY:Teilnahme an der Teamstaffel Brandenburg
TRANSP:OPAQUE
URL:https://test.apricus-ev.de/component/icagenda/135-teamstaffel-brandenbu
 rg?layout=vcal
END:VEVENT
END:VCALENDAR
