BEGIN:VCALENDAR
VERSION:2.0
PRODID:-//TEST Apricus e.V.//NONSGML kigkonsult.se iCalcreator 2.41.92//
CALSCALE:GREGORIAN
METHOD:PUBLISH
UID:36626630-3566-4133-b566-616436306565
X-WR-CALNAME:iCagenda
X-WR-CALDESC:Event Management Extension for Joomla!
X-WR-RELCALID:3E26604A-50F4-4449-8B3E-E4F4932D05B5
X-WR-TIMEZONE:Europe/Berlin
BEGIN:VTIMEZONE
TZID:Europe/Berlin
TZUNTIL:20240331T010000Z
BEGIN:STANDARD
TZNAME:CET
DTSTART:20211031T030000
TZOFFSETFROM:+0200
TZOFFSETTO:+0100
RDATE:20221030T030000
RDATE:20231029T030000
END:STANDARD
BEGIN:DAYLIGHT
TZNAME:CEST
DTSTART:20220327T020000
TZOFFSETFROM:+0100
TZOFFSETTO:+0200
RDATE:20230326T020000
END:DAYLIGHT
END:VTIMEZONE
BEGIN:VEVENT
UID:39643038-3437-4830-b739-363964373663
DTSTAMP:20260425T221205Z
CATEGORIES:Radfahren
CLASS:PUBLIC
DESCRIPTION;ALTREP="CID:<FFFF__=0ABBE548DFE235B58f9e8a93d@coffeebean.com>":
 Hallo Leute\,\nSo sah es 2019 aus.\n2022 findet endlich wieder die weltgrö
 ßte Fahrraddemonstration und damit die ADFC-Sternfahrt im 'Vollformat' nac
 h Berlin statt. Dabei setzen sich etliche tausend&nbsp\;Menschen auf die R
 äder\, um die Brandenburger und Berliner Straßen inklusive einiger Abschni
 tte auf den Stadtautobahnen zu erobern. Das Ganze findet am Sonntag den 12
 .&nbsp\;Juni statt. Genauere Informationen zur Veranstaltung findet Ihr hi
 er: Sternfahrt Berlin auf der ADFC-Seite. \nWichtig: Das ganze findet im R
 ahmen des Umweltfestes Berlin statt. Dort wird sich unser kleiner Verein a
 uch mit einem Info-Stand präsentieren. Dazu erhaltet Ihr gesonderte Inform
 ationen von Jana und Heiko.\nDieses Jahr starten wir zum vierten Mal einen
  Zubringer aus Leipzig als gemeinsamen Strahl mit dem ADFC Leipzig. Wer Lu
 st hat\, mal was Verrücktes zu machen und ab Leipzig oder irgendwo unterwe
 gs mit einzusteigen... hier die Fahrtentabelle\, wann wir wo sein werden:
 \n\n*) Bei einer kleinen Verspätung stoßen wir zur ADFC-Sternfahrt auf der
  B1 in Werder dazu&nbsp\;- sollte es noch später werden\, fahren wir direk
 t nach Potsdam und lassen Werder links liegen.\n**) Für Anreisende aus Ber
 lin: wegen Schienenersatzverkehr zwischen Beelitz-Heilstätten und Borkheid
 e fahren wir von Beelitz-Heilstätten nach Ankunft des Zuges (7:58&nbsp\;Uh
 r) über die Landesstraße nach Klaistow\, wo wir an der Straßenkreuzung auf
  die Leipzig-Radler treffen werden.\n\n\n\nTreffpunkt\nStation\nan\nab\n\n
 \n\nLeipzig Hbf.\, Westseitekm 0→00:45 Uhr\nBad Düben\, Brunnen / B107km 3
 702:35&nbsp\;Uhr02:50&nbsp\;Uhr\nWittenberg\, Aral-Tankstelle (Berliner St
 raße)km 7304:35&nbsp\;Uhr05:20&nbsp\;Uhr\nTreuenbrietzen\, Bahnhofkm 10206
 :45&nbsp\;Uhr07:00&nbsp\;Uhr\nBorkheide\, Bahnhof **km 12107:55&nbsp\;Uhr0
 8:10&nbsp\;Uhr\nWerder (Havel)\, Bahnhof *km 14309:15&nbsp\;Uhr→&nbsp\;9:3
 0 Uhr\n\n\nIn Werder beginnt die offizielle Sternfahrt\, zu deren Teilnahm
 e ich Euch gern motivieren möchte.&nbsp\; Der Start dort ist 09:30&nbsp\;U
 hr - in Potsdam (Hbf) geht es um 11:30&nbsp\;Uhr weiter\, Berlin-Mitte wir
 d dann nach rund 40 weiteren Kilometern ca.&nbsp\;14:00&nbsp\;Uhr erreicht
 .\nTeilnahme\nWer früher als ab Werder mitfahren möchte\, meldet sich bitt
 e bei uns\n\nMichael Kraus: 0176-31330108 oder Jens Arnold: 0175-1602839\n
 oder per Mail an michael.kraus@adfc-leipzig.de\n\ndamit wir uns wegen des 
 Treffens und allem Weiteren abstimmen können.\nWer in Werder oder später h
 inzukommen möchte\, braucht nicht Bescheid zu sagen - kann das aber trotzd
 em machen\, damit wir uns in der Menge dann auch finden.\nKosten\nDie Anre
 ise ab Leipzig als Apricus-/ADFC-Leipzig-Tour kostet 4€ für die Organisati
 on. Nichtmitglieder im ADFC oder bei Apricus zahlen zusätzlich 1€ als Ver&
 shy\;siche&shy\;rungs&shy\;beitrag.\nAlso dann bis zum 12.&nbsp\;Juni&nbsp
 \;- früh 00:45&nbsp\;Uhr - in Leipzig… oder irgendwo dazwischen (siehe Zei
 tplan)!\nEs freuen sichMicha und Jens
DTSTART:20220611T220000Z
DTEND:20220612T140000Z
GEO:00;0
LOCATION:
ORGANIZER:
SEQUENCE:1
SUMMARY:Berliner Sternradtour - Zubringer ab Leipzig
TRANSP:OPAQUE
URL:https://test.apricus-ev.de/component/icagenda/137-berliner-sternradtour
 -zubringer-ab-leipzig?layout=vcal
END:VEVENT
END:VCALENDAR
