BEGIN:VCALENDAR
VERSION:2.0
PRODID:-//TEST Apricus e.V.//NONSGML kigkonsult.se iCalcreator 2.41.92//
CALSCALE:GREGORIAN
METHOD:PUBLISH
UID:31306232-3735-4237-b962-303865343438
X-WR-CALNAME:iCagenda
X-WR-CALDESC:Event Management Extension for Joomla!
X-WR-RELCALID:3E26604A-50F4-4449-8B3E-E4F4932D05B5
X-WR-TIMEZONE:Europe/Berlin
BEGIN:VTIMEZONE
TZID:Europe/Berlin
TZUNTIL:20241027T010000Z
BEGIN:STANDARD
TZNAME:CET
DTSTART:20211031T030000
TZOFFSETFROM:+0200
TZOFFSETTO:+0100
RDATE:20221030T030000
RDATE:20231029T030000
END:STANDARD
BEGIN:DAYLIGHT
TZNAME:CEST
DTSTART:20220327T020000
TZOFFSETFROM:+0100
TZOFFSETTO:+0200
RDATE:20230326T020000
RDATE:20240331T020000
END:DAYLIGHT
END:VTIMEZONE
BEGIN:VEVENT
UID:62633939-3535-4137-b334-363965646132
DTSTAMP:20260425T214123Z
CATEGORIES:Wandern
CLASS:PUBLIC
DESCRIPTION;ALTREP="CID:<FFFF__=0ABBE548DFE235B58f9e8a93d@coffeebean.com>":
 Die diesjährige Apricus-Herbstwanderung führt uns nördlich von Sangerhause
 n in das Mansfelder Land. Weithin sichtbar in der Mansfelder Südharz-Regio
 n sind die Spitzkegelhalden des Kupferschieferbergbaus\, die sogenannten „
 Pyramiden“ des Mansfelder Landes. Sie gelten als Wahrzeichen der Region un
 d Zeitzeugen der über 800 Jahre alten Kupferbergbautradition.\nDie Anreise
  ist Freitag den 07.10. zum Campingplatz „Am Waldbad“ in Grillenberg (ein 
 Ortsteil von Sangerhausen)\, dort sind zwei Übernachtungen in eigenen Zelt
 en geplant. Am Freitag-Abend können wir noch gemeinsam einen kleinen Spazi
 ergang durch den Ort Grillenberg machen.\nEine Rundwanderung am Sonnabend 
 führt uns durch die wunderschöne Südharzer Landschaft mit Wiesen\, Wäldern
  und Weiden. Wir erwandern die Steigerschleife: von Grillenberg das Hohest
 eintal hinauf zum Cuxloch\, weiter zur Marieneiche und über die Kohlenstra
 ße\, vorbei am Jugendwaldheim Wildenstall zum Kunstteich. Dort gibt es die
  Möglichkeit zur Stärkung im Restaurant&nbsp\;&amp\; Waldcafé „Am Kunsttei
 ch“. Anschließend geht es weiter den Bergbaulehrpfad entlang\, vorbei an d
 em Erlebniszentrum Bergbau „Röhrigschacht Wettelrode“ durch den Kalmusgrun
 d in Richtung Kippmühle und wieder zu unserem Ausgangspunkt in Grillenberg
 . Dabei passieren wir immer wieder die über Tage durch Grabungen freigeleg
 ten kleinen Schächte (Pingen) aus Zeiten des Kupferbergbaus. Bei einem kle
 inen Umweg können wir auch in dem Ort Wettelrode eine immerhin 500-jährige
  Linde bewundern.\nDen Abend werden wir am Grill mit Bratwürsten (bringe i
 ch mit) und anderem Grillgut (was sich jeder noch so auf den Grill legen m
 öchte) gemeinsam verbringen.\nWer am Sonntag nochmals Lust auf eine Wander
 ung verspürt\, der kann z.B. noch zum Aussichtspunkt Hohe Linde oder zur W
 üstung Hohenrode wandern.\nOrganisatorisches\n\nTeilnehmeranzahl begrenzt 
 (max. 8-10&nbsp\;Personen)\nÜbernachtung im Zelt (2x auf Zeltplatz in Gril
 lenberg)\nTreffpunkt: Freitag\, 18:00 €&nbsp\; Uhr\, Zeltplatz\nAnreise z.
 B. per Zug bis Sangerhausen und dann mit dem Bus(nach meiner Recherche let
 zter Bus am Abend: Linie&nbsp\;460\, 19:24 Uhr ab Sangerhausen\, 19:47 Uhr
  an Grillenberg)\n\nKosten:\n\neigene und selbstfinanzierte Anreise\ndie Z
 eltplatzübernachtung und ein paar Bratwürste inklusive Brötchen und Senf s
 owie eine Kiste Gerstensaft werden gesponsort\nfür die sonstige Verpflegun
 g bzw. Getränke\, Gaststättenbesuche oder Eintrittspreise ist jeder für si
 ch selbst verantwortlich\nGäste zahlen pro Tourentag (Sonnabend + Sonntag)
  1€ für die Versicherung.\n\nAnmeldung bitte an heiko.griebsch@web.de.\nVi
 ele GrüßeHeiko
DTSTART:20221007T160000Z
DTEND:20221009T160000Z
GEO:00;0
LOCATION:
ORGANIZER:
SEQUENCE:1
SUMMARY:Herbstwanderung mit Zelt
TRANSP:OPAQUE
URL:https://test.apricus-ev.de/component/icagenda/151-herbstwanderung-mit-z
 elt?layout=vcal
END:VEVENT
END:VCALENDAR
