BEGIN:VCALENDAR
VERSION:2.0
PRODID:-//TEST Apricus e.V.//NONSGML kigkonsult.se iCalcreator 2.41.92//
CALSCALE:GREGORIAN
METHOD:PUBLISH
UID:34333434-6331-4236-a261-343733363664
X-WR-CALNAME:iCagenda
X-WR-CALDESC:Event Management Extension for Joomla!
X-WR-RELCALID:3E26604A-50F4-4449-8B3E-E4F4932D05B5
X-WR-TIMEZONE:Europe/Berlin
BEGIN:VTIMEZONE
TZID:Europe/Berlin
TZUNTIL:20241027T010000Z
BEGIN:STANDARD
TZNAME:CET
DTSTART:20221030T030000
TZOFFSETFROM:+0200
TZOFFSETTO:+0100
RDATE:20231029T030000
END:STANDARD
BEGIN:DAYLIGHT
TZNAME:CEST
DTSTART:20220327T020000
TZOFFSETFROM:+0100
TZOFFSETTO:+0200
RDATE:20230326T020000
RDATE:20240331T020000
END:DAYLIGHT
END:VTIMEZONE
BEGIN:VEVENT
UID:65326631-3235-4165-b363-643637326238
DTSTAMP:20260425T231749Z
CATEGORIES:Wandern
CLASS:PUBLIC
DESCRIPTION;ALTREP="CID:<FFFF__=0ABBE548DFE235B58f9e8a93d@coffeebean.com>":
 Vier-Seen-Wanderung im Nordosten Berlins\nAm Samstag\, dem 12. November\, 
 wollen wir zu Fuß ein beliebtes Naherholungsgebiet in den Berliner Stadtte
 ilen Weißensee und Hohenschönhausen erkunden.\nWir treffen uns um 10:00&nb
 sp\;Uhr am Strandbad Weißensee\, erreichbar mit der Straßenbahn M4 (z.B. a
 b S+U+Regionalbahnhof Alexanderplatz) in Richtung Falkenberg oder Hohensch
 önhausen\, Zingster Straße - Haltestelle Weißer See. Von dort umrunden wir
  zunächst den für den Stadtteil namensgebenden Weißen See.\nDann geht es w
 eiter zum Naturschutzgebiet Fauler See\, einem eiszeitlichen naturbelassen
 en Gewässer\, das allerdings mehr Sumpf ist als See und einer reichhaltige
 n Ufervegetation aber auch vielen Wasservögeln eine Heimat bietet. Wir gel
 angen nach Hohenschönhausen und nach ein paar Schritten zum Obersee. Im Un
 terschied zu allen anderen Seen auf unserer Runde\, die durch die Eiszeit 
 geformt wurden\, ist dieser See künstlich angelegt worden. Um 1900 diente 
 er als Wasserspeicher und Eislieferant für die benachbarte Löwenbrauerei.
 \nAnschließend haben wir eine Einkehr verdient und setzen danach unsere Wa
 nderung fort und umrunden den Orankesee\, der wegen seines Strandbades vie
 len Berlinern ein Begriff ist. Für Freunde des Sprungs ins kalte Wasser se
 i gesagt: Beide Strandbäder sind mittlerweile leider geschlossen. Schließl
 ich gelangen wir auf grünen Wegen durch Kleingartenanlagen und Parks zurüc
 k zu unserem Ausgangspunkt.\nDie kleine Wanderung ist ca. 12 km lang. Eine
  Anmeldung bis Donnerstag\, dem 10.11. ist wünschenswert\, da wir wissen w
 ollen\, wie viele Plätze wir in der Gaststätte bestellen sollen. Meldet Eu
 ch dafür am besten per Mail unter FrankP@apricus-ev.de.\nGäste zahlen\, wi
 e immer\, 1€ für die Versicherung.\nAuf Euer Kommen freuen sich\,Frank und
  Marianne
DTSTART:20221112T090000Z
DTEND:20221112T170000Z
GEO:00;0
LOCATION:
ORGANIZER:
SEQUENCE:1
SUMMARY:Wanderung am Planungswochenende
TRANSP:OPAQUE
URL:https://test.apricus-ev.de/component/icagenda/158-wanderung-am-planungs
 wochenende?layout=vcal
END:VEVENT
END:VCALENDAR
