BEGIN:VCALENDAR
VERSION:2.0
PRODID:-//TEST Apricus e.V.//NONSGML kigkonsult.se iCalcreator 2.41.92//
CALSCALE:GREGORIAN
METHOD:PUBLISH
UID:39333131-6264-4236-a563-303036616661
X-WR-CALNAME:iCagenda
X-WR-CALDESC:Event Management Extension for Joomla!
X-WR-RELCALID:3E26604A-50F4-4449-8B3E-E4F4932D05B5
X-WR-TIMEZONE:Europe/Berlin
BEGIN:VTIMEZONE
TZID:Europe/Berlin
TZUNTIL:20261025T010000Z
BEGIN:STANDARD
TZNAME:CET
DTSTART:20241027T030000
TZOFFSETFROM:+0200
TZOFFSETTO:+0100
RDATE:20251026T030000
END:STANDARD
BEGIN:DAYLIGHT
TZNAME:CEST
DTSTART:20250330T020000
TZOFFSETFROM:+0100
TZOFFSETTO:+0200
RDATE:20260329T020000
END:DAYLIGHT
END:VTIMEZONE
BEGIN:VEVENT
UID:36643132-3837-4433-b536-383262396539
DTSTAMP:20260425T215227Z
CATEGORIES:Radfahren
CLASS:PUBLIC
DESCRIPTION;ALTREP="CID:<FFFF__=0ABBE548DFE235B58f9e8a93d@coffeebean.com>":
 Liebe Apricusse\,\nunsere diesjährige Traditionsveranstaltung\, die Coswig
 er Radwandertage\, erfährt diesmal das Thüringer Holzland zwischen Jena un
 d Gera. Aufgrund ihrer ungünstigen Böden wurde die Region um Eisenberg her
 um\, von jeher kaum landwirtschaftlich genutzt also werden wir hier eher B
 orke als Halm vorfinden. Geteilt wird die Landschaft von Mühltal und Zeitz
 grund\, zwei wirklich sehenswerten Tälern in denen es neben den namensgebe
 nden Mühlen und jeder Menge Holz\, auch Sandstein\, Schwarzstörche und bes
 onders starke Männer zu bestaunen gibt.\nUnterkommen werden wir in der Jug
 endherberge Froschmühle\, mitten im Wald\, mit weiteren Mühlen in der Umge
 bung. Einen Link zur Unterkunft gibt es hier:&nbsp\;https://www.jugendherb
 erge.de/jugendherbergen/eisenberg/\, die Adresse lautet: Froschmühle\, Müh
 ltal 5\, 07607 Eisenberg.\nAnreise am Freitag\, 18. April 2025:\nWie jedes
  Jahr möchten wir wieder die weiteste Anreise mit dem Fahrrad sowie die be
 ste Gruppenanreise bei der Weit- und Meistbeteiligung auszeichnen. Die zum
  Nachweis auszufüllende Fahrtenkontrollkarte könnt ihr euch hier laden:&nb
 sp\;fahrtenkontrollkarte.pdf. Frühester Wertungsstart ist der 18.04.2025\,
  00:00&nbsp\;Uhr\, Wertungsende ist 22:00&nbsp\;Uhr. Wer nach 19:00&nbsp\;
 Uhr ankommt\, muss rechtzeitig Bescheid geben\, damit wir Abendessen zurüc
 kstellen können.&nbsp\;\n\nAnreisemöglichkeiten:\n\nvon Jena/Westen aus üb
 er Bahnhof: Hermsdorf-Klosterlausnitz - erst Richtung Eisenberg\, dann übe
 r Weißenborn ins “Mühltal”\nVon Berlin/Leipzig/etc über Bahnhof: Crossen a
 n der Elster - erst nach Hartmannsdorf\, dort Richtung Eisenberg\, in Kurs
 dorf dann abzweigen ins “Mühltal”\n\n\n\nSamstag\, 19. April 2025:\nBeabsi
 chtigt sind zwei Touren\, eine große (über 60-70km) und eine kleine (über 
 30-40km)\nSonntag\, 20. April 2025:\nThe same procedure as every year: Ral
 lye\, Ostereiersuche und Auswertung der Wettbewerbe.\nLasst Euch überrasch
 en\, was auf Euch wartet und bringt den notwendigen Elan mit. Der Tag wird
  dann mit der traditionellen Auswertung der Wettbewerbe und dem gemütliche
 n Beisammensein ausklingen.\nOrganisatorisches\n\nOrganisation insgesamt d
 urch Osama Mustafa und Thomas Prochazka.\n\nKosten\n*) Die Preise für Kind
 er und Jugendliche bis 26 Jahre sind durch den Verein gestützt/reduziert. 
  \n\n\n\n\n\nTN-Gruppe\nApricus\nGäste\n\n\n\n\nErwachsene\n\n160\n175\n\n
 \nBürgergeldempfänger/Studenten ab 27 Jahre\n\n145\n160\n\n\nJugendliche 1
 6-26 Jahre *\n\n120\n126\n\n\nKinder/Jugendliche 3-15 Jahre *\n\n110\n116
 \n\n\n\n\nBettwäsche ist inbegriffen\; Hand-/Badetuch ist mitzubringen ebe
 nso wie Hausschuhe.\nEine Feuerstelle gibt es\, das Feuerholz müssen wir a
 ber mitbringen\, bzw. vor Ort im Wald sammeln.\n\nGetreu unserem Motto „Na
 tur gemeinsam aktiv erleben“ wollen wir jedem ermöglichen\, an unseren Ver
 anstaltungen teilzunehmen. Daher gibt es besonders für Kinder\, Jugendlich
 e und Familien schon einige Fördermöglichkeiten\, beispielsweise für die R
 eisekosten oder Zuschüsse aus einem Spendentopf.Genaue Informationen erhal
 tet Ihr unter folgendem Link: Fördermöglichkeiten bei Apricus-Veranstaltun
 gen. Wenn für Jemanden der Teilnehmerbeitrag zu hoch ist\, meldet euch bit
 te unbedingt bei uns. \nAnmeldung\nFür die Organisation ist eine Anmeldung
  aus Zeitgründen (für die Unterkunft) möglichst bald erforderlich. Anmelde
 schluss ist der 16. März 2025. Damit kann die Unterkunft eine entsprechend
 e Zimmerverteilung (2er/4er/6er) vornehmen. Für die Reservierung der/des R
 estaurants/Gaststätte(n) am Tag ist das auch wichtig. Über Ostern ist beka
 nntlich viel los und da müssen wir Organisatoren entsprechend anfragen.\nA
 nmeldungen bitte bei Thomas Prochazka unter thomas.prochazka13@gmail.com o
 der 0151-19427060. Dabei bitte angeben\, welche Tagestour (klein ~40km ode
 r groß ~60km) Ihr mitmachen wollt. Damit kann dann nach einer geeigneten G
 elegenheit zur Einkehr (Gaststätte/Restaurant) geschaut werden.\nDie Anmel
 dung gilt nur bei Einzahlung auf das {loadposition ap-kontodaten}\nBis dan
 n\,Osama und Thomas
DTSTART:20250418T080000Z
DTEND:20250421T130000Z
GEO:00;0
LOCATION:Eisenberg\, Froschmühle
ORGANIZER:
SEQUENCE:1
SUMMARY:39. Coswiger Radwandertage 2025
TRANSP:OPAQUE
URL:https://test.apricus-ev.de/component/icagenda/39-coswiger-radwandertage
 -2025?layout=vcal
END:VEVENT
END:VCALENDAR
