BEGIN:VCALENDAR
VERSION:2.0
PRODID:-//TEST Apricus e.V.//NONSGML kigkonsult.se iCalcreator 2.41.92//
CALSCALE:GREGORIAN
METHOD:PUBLISH
UID:61643766-3032-4136-b635-653938383939
X-WR-CALNAME:iCagenda
X-WR-CALDESC:Event Management Extension for Joomla!
X-WR-RELCALID:3E26604A-50F4-4449-8B3E-E4F4932D05B5
X-WR-TIMEZONE:Europe/Berlin
BEGIN:VTIMEZONE
TZID:Europe/Berlin
TZUNTIL:20221030T010000Z
BEGIN:STANDARD
TZNAME:CET
DTSTART:20201025T030000
TZOFFSETFROM:+0200
TZOFFSETTO:+0100
RDATE:20211031T030000
END:STANDARD
BEGIN:DAYLIGHT
TZNAME:CEST
DTSTART:20200329T020000
TZOFFSETFROM:+0100
TZOFFSETTO:+0200
RDATE:20210328T020000
RDATE:20220327T020000
END:DAYLIGHT
END:VTIMEZONE
BEGIN:VEVENT
UID:33333063-3836-4537-a137-646637396665
DTSTAMP:20260425T221253Z
CATEGORIES:Treffen
CLASS:PUBLIC
DESCRIPTION;ALTREP="CID:<FFFF__=0ABBE548DFE235B58f9e8a93d@coffeebean.com>":
 Dieses Mal privat als Videokonferenz\nDa wir trotz allem nicht planlos ins
  nächste Jahr gehen wollen\, treffen wir uns nun andersartig zum Planen un
 d Brunchen. Dazu haben wir für den Sonntag\, 15.&nbsp\;November\, 11:00&nb
 sp\;Uhr eine Zoom-Session 'Apricus: Jahresplanung 2021' vorbereitet.\nWir 
 laden alle - die zu der Zeit können und wollen - ein\, sich ein üppiges Fr
 ühstück auf den Tisch zu zaubern\, mit uns gemeinsam zu brunchen und das n
 ächste Jahr mit - hoffentlich wieder - vielen\, vielen Aktivitäten zu plan
 en.\nBei der Gelegenheit haben wir auch die Möglichkeit\, uns einmal über 
 unser Aller Wohlbefinden auszutauschen.\nFür Teilnehmer und potenzielle Or
 ganisatoren\nNäheres zu den Einwahldaten erfahrt ihr über die unten angege
 bene Kontaktadresse.\nWer nicht teilnehmen kann\, aber dennoch Aktivitäten
  für 2021 anbieten und planen möchte\, den bitten wir darum\, uns diese Pl
 äne vorab zukommen zu lassen.\nKontakt: mkraus70@yahoo.de oder 0176 313301
 08\nWichtig:\n\nWenn möglich einen Ausweichtermin mitgeben\, damit wir ein
 e Terminkollision mit anderen Aktivitäten vermeiden können.\nBitte einen 3
 -4 Zeiler mitgeben\, der die Aktivität beschreibt\, den wir vorab im Kalen
 der oder unseren Onlineauftritten veröffentlichen können.\n\nAlso dann\,la
 sst es Euch gut gehen in diesen Zeiten!\nVielleicht dann bis zum 15.11. zu
 m Brunch am Bildschirm.Es grüßt Der Micha.
DTSTART:20201115T100000Z
DTEND:20201115T150000Z
GEO:00;0
LOCATION:
ORGANIZER:
SEQUENCE:1
SUMMARY:Planungsbrunch
TRANSP:OPAQUE
URL:https://test.apricus-ev.de/component/icagenda/53-leipzig-wanderung-und-
 planungsbrunch/2020-11-15-11-00?layout=vcal
END:VEVENT
END:VCALENDAR
