BEGIN:VCALENDAR
VERSION:2.0
PRODID:-//TEST Apricus e.V.//NONSGML kigkonsult.se iCalcreator 2.41.92//
CALSCALE:GREGORIAN
METHOD:PUBLISH
UID:39656362-6134-4737-b136-316665383230
X-WR-CALNAME:iCagenda
X-WR-CALDESC:Event Management Extension for Joomla!
X-WR-RELCALID:3E26604A-50F4-4449-8B3E-E4F4932D05B5
X-WR-TIMEZONE:Europe/Berlin
BEGIN:VTIMEZONE
TZID:Europe/Berlin
TZUNTIL:20251026T010000Z
BEGIN:STANDARD
TZNAME:CET
DTSTART:20231029T030000
TZOFFSETFROM:+0200
TZOFFSETTO:+0100
RDATE:20241027T030000
END:STANDARD
BEGIN:DAYLIGHT
TZNAME:CEST
DTSTART:20230326T020000
TZOFFSETFROM:+0100
TZOFFSETTO:+0200
RDATE:20240331T020000
RDATE:20250330T020000
END:DAYLIGHT
END:VTIMEZONE
BEGIN:VEVENT
UID:37343031-3437-4162-b138-386437393163
DTSTAMP:20260425T231651Z
CATEGORIES:Laufen
CLASS:PUBLIC
DESCRIPTION;ALTREP="CID:<FFFF__=0ABBE548DFE235B58f9e8a93d@coffeebean.com>":
 Hallo zusammen\,\nmal (wieder) was ganz anderes: 64.&nbsp\;Leipziger Focke
 berglauf am Samstag\, den 02.03.\nDer Verein „Leipziger Triathlon e.V.“ ve
 ranstaltet seit Mitte der 90er zweimal jährlich den „Fockeberglauf“ (s.a. 
 Homepage des Veranstalters).\nDer Start ist am Fuße des 153&nbsp\;m hohen 
 ehemaligen Schuttberges. Es geht zuerst einen Waldweg bergauf\, dabei sind
  auf ca. einem Kilometer 45&nbsp\;Höhenmeter zu überwinden. Nach einer kle
 inen Runde auf der Dammkrone des Fockeberg-Plateaus geht es wieder auf Asp
 halt einen Kilometer bergab. Die ganze Runde ist zwei Kilometer lang. Drei
  dieser Runden sind beim Fitnesslauf und sechs sind beim Hauptlauf zu abso
 lvieren. Seit Kurzem gibt es auch einen Einsteiger mit nur einer Runde - a
 ber damit wollen wir uns nicht aufhalten - oder?\nIn der ersten Runde gibt
  es einen Bergpreis - wer in der ersten Runde die Bergankunft gewinnt\, be
 kommt den Sonderpreis. Bedingung ist jedoch\, den Lauf zu finishen!\nDamit
  wir den Winterspeck schnell wegbekommen und das Jahr richtig sportlich be
 ginnen\, nehmen wir diese kleine Herausforderung an und erobern 6-mal (ode
 r „nur“ 3-mal) den Hammer-Berg!?\nOrganisatorisches\n\nStart ist 10:00&nbs
 p\;Uhr am Fuße des Berges.\nDie Anmeldung erfolgt bis spätestens 09:45 Uhr
  vor Ort.\nStartpreis sind 10&nbsp\;€.\n\nAlso dann: auf in einen aktiven 
 Frühling!\nEs grüßt und freut sich\,Der Micha
DTSTART:20240302T083000Z
DTEND:20240302T140000Z
GEO:00;0
LOCATION:Leipzig
ORGANIZER:
SEQUENCE:1
SUMMARY:64. Fockeberglauf
TRANSP:OPAQUE
URL:https://test.apricus-ev.de/component/icagenda/64-fockeberglauf?layout=v
 cal
END:VEVENT
END:VCALENDAR
