BEGIN:VCALENDAR
VERSION:2.0
PRODID:-//TEST Apricus e.V.//NONSGML kigkonsult.se iCalcreator 2.41.92//
CALSCALE:GREGORIAN
METHOD:PUBLISH
UID:31643330-6235-4465-a562-386662616263
X-WR-CALNAME:iCagenda
X-WR-CALDESC:Event Management Extension for Joomla!
X-WR-RELCALID:3E26604A-50F4-4449-8B3E-E4F4932D05B5
X-WR-TIMEZONE:Europe/Berlin
BEGIN:VTIMEZONE
TZID:Europe/Berlin
TZUNTIL:20230326T010000Z
BEGIN:STANDARD
TZNAME:CET
DTSTART:20201025T030000
TZOFFSETFROM:+0200
TZOFFSETTO:+0100
RDATE:20211031T030000
RDATE:20221030T030000
END:STANDARD
BEGIN:DAYLIGHT
TZNAME:CEST
DTSTART:20210328T020000
TZOFFSETFROM:+0100
TZOFFSETTO:+0200
RDATE:20220327T020000
END:DAYLIGHT
END:VTIMEZONE
BEGIN:VEVENT
UID:63376339-3864-4732-b364-363162346266
DTSTAMP:20260425T215715Z
CATEGORIES:Absage bzw. Verschiebung
CLASS:PUBLIC
DESCRIPTION;ALTREP="CID:<FFFF__=0ABBE548DFE235B58f9e8a93d@coffeebean.com>":
 Information vom 12.5.\nHallo zusammen\,\nleider müssen wir die Radwanderta
 ge 2021 endgültig begraben. Das KiEZ hat heute früh abgesagt. Ich wünsche 
 Euch trotzdem schöne Feiertage.\nGruß\, Thomas\n\n...dieses Jahr zu Pfings
 ten.\nNach der Absage 2020 wollen wir es dieses Jahr wieder probieren. Im 
 herrlichen Havelland am Glindower See befindet sich das KiEZ Inselparadies
  Petzow. Dort werden wir unser Quartier aufschlagen. Nur wenige 100 Meter 
 entfernt ist auch der Schwielowsee erreichbar. Die Landschaft in dieser Ge
 gend ist geprägt von Obstplantagen\, Spargelhöfen\, viel Wald und vor alle
 m reichlich Wasser.\nDa es unwahrscheinlich ist\, dass wir die Radwanderta
 ge zu Ostern durchführen können\, haben wir uns entschieden\, dieses Jahr 
 auf Pfingsten auszuweichen. Das heißt leider auch\, dass der Freitag ein n
 ormaler Tag ist und ihr dafür Urlaub einplanen müsstet\, wenn ihr an der W
 eit- und Meistbeteiligung bei der Anreise teilnehmen wollt\, oder wenn ihr
  es ohnehin etwas weiter habt.\n\nWichtig: Auf Grund der anhaltenden Einsc
 hränkungen wegen des Virus' kann es passieren\, dass die Veranstaltung aus
 fällt oder in ihrer Art geändert werden muss. Lasst euch davon erst mal ni
 cht schrecken. Im schlechtesten Fall bekommt ihr eure Teilnahmegebühren zu
 rück. Über absehbare Plan-Änderungen halten wir euch auf dem Laufenden.\nD
 a wahrscheinlich erst kurzfristig absehbar ist\, ob es und was dann geht v
 erzichten wir dieses Jahr auch auf den Früh- und Spätbucher-Spaß und verwe
 isen auf das – für die Herberge – späteste Anmeldedatum als Anmeldeschluss
 .\n\nFreitag\n… findet eine Weit- und Meistbeteiligung statt. Die Anreise 
 sollte bis 17:30&nbsp\;Uhr erfolgen\, um in die Wertung zu kommen\, aber a
 uch\, um am Abendbrot teilnehmen zu können. Ein Zurückstellen ist höchstwa
 hrscheinlich\, laut Erfahrungen der vorigen Jahre nicht möglich. Für Teiln
 ehmer\, die wirklich nicht bis um 18:00&nbsp\;Uhr anreisen können\, bemühe
 n wir uns um eine Lösung.\nSamstag\n… starten wir nach dem Frühstück um 10
 :00&nbsp\;Uhr zu den obligatorischen Fahrradtouren. Diesmal werden sich di
 e kleine und große Tour auch durch die Länge deutlich unterscheiden. Die k
 leine Tour wird mit 30-40&nbsp\;km wie gewohnt auf Kinder und Familien zug
 eschnitten sein. Für die anderen ist eine große Tour mit 70-80 km vorgeseh
 en. Eine Entscheidung kann auch noch kurzfristig vor Ort erfolgen. Für Ver
 pflegung unterwegs wird gesorgt. In welcher Form können wir zum jetzigen Z
 eitpunkt noch nicht sagen. Verhungern wird aber mit Sicherheit keiner.\nMe
 hr Details wo es hingehen wird und was es zu sehen gibt\, können wir wegen
  der aktuellen Einschränkungen erst kurz vor der Veranstaltung fertig plan
 en. Also lasst euch einfach überraschen.\nAuf jeden Fall wird es viel Wass
 er rechts und links der Route geben und je nach Wetter landen wir auch mal
  drinnen. Den Abend können wir ganz gemütlich an einem Lagerfeuer auskling
 en lassen\, denn die Unterlagen für die Rallye gibt es erst am Sonntag frü
 h. Für alle Kinder und wer sich sonst noch gruseln möchte\, gibt es dann n
 och eine kleine Nachtwanderung. Also: Lampen nicht vergessen.\nSonntag\n… 
 ist endlich wieder Rallyetag. Ab 9:00&nbsp\;Uhr bis zum Mittag hat jeder Z
 eit\, seinen Schlachtplan zu erstellen. Der Start erfolgt dann ab 12:30&nb
 sp\;Uhr mit hoffentlich nicht zu vollem Bauch und ihr könnt die Kalorien g
 leich wieder verbrennen. Die Rallye wird nach dem von den Navigationsfreun
 den sehr beliebten Stempelsystem erfolgen. Man muss nur „am 3. Baum links\
 , über den Fluss und nach der vierten Rechtskurve\, hinter der Hecke“ in d
 as Navi eingeben und dann geht alles fast vollautomatisch.&nbsp\;?\nNach d
 er Rallye werden wir schauen\, ob dieses Jahr der Pfingstochse etwas verst
 eckt hat\, da wir ja keine Ostereiersuche veranstalten können.\nAm Abend w
 erden die Gewinner hoch prämiert und dann heißt es: das Tanzbein schwingen
  oder wir schauen nochmal ans Feuer.\nMontag\n… ist der Abreisetag. Bis 09
 :30&nbsp\;Uhr müssen wir die Zimmer räumen.\nDa einige von uns&nbsp\;/ euc
 h die gleiche Richtung auf dem Heimweg haben\, bietet sich eine gemeinsame
  Abreise an\, wobei noch einmal Kilometer und Kulturpunkte für die Apricus
 -Jahreswertung gesammelt werden könnten.\nInformationen\nAnreise und Adres
 se:\n\nFreitag bis 17:30&nbsp\;Uhr (oder es wird eng mit dem Abendbrot)\nZ
 um Inselparadies 9-12\, 14542 Werder (Havel)\n\nNächster Bahnhof ist Caput
 h-Geltow. Besser erreichbar ist aber der Bahnhof Werder\, wo regelmäßig RE
  fahren.\nPreise:\n\n*) Bitte Nachweis Organisator vorlegen **) Die Preise
  für Kinder und Jugendliche sind durch den Verein gestützt / reduziert\nHi
 nweis: Kinder\, Jugendliche und Familien können einen Zuschuss zu den An- 
 und Abreisekosten bei der Anmeldung beantragen (formlos beim Organisator).
 \n  \n\n\n\n\n\nTN-Gruppe\nApricus\nGäste\n\n\n\n\nErwachsene\n\n120\n135
 \n\n\nErmäßigt / Hartz-IV-Empfänger *\n\n105\n120\n\n\nJugendliche bis 26 
 Jahre\, Studenten **\n\n80\n86\n\n\nKinder 7 bis 14 Jahre **\n\n60\n66\n\n
 \nKinder 4 bis 6 Jahre **\n\n50\n56\n\n\n\nDer Anmeldeschluss ist der 25.&
 nbsp\;April.\nIm Preis enthalten sind:\n\n3x Übernachtung\nalle Mahlzeiten
  (ohne Getränke)\nLagerfeuer\neine hammermäßig organisierte Veranstaltung
 \n\nBettwäsche kann vor Ort für 5\,50&nbsp\;€ auf eigene Kosten gemietet w
 erden.\nFür die Nachtwanderung bitte Taschenlampen mitbringen.\nAnmeldung
 \nBitte anmelden per E-Mail an radwandertage2021@apricus-ev.de oder bei Th
 omas per Telefon unter 0160-97061324.\nWie immer gilt die Anmeldung nur be
 i gleichzeitiger Einzahlung des Teilnehmerbeitrages auf das{loadmoduleid 1
 14}.\nAuf aktive und schöne Radwandertage und darauf\, euch alle wiederzus
 ehen freuen sichder Jens\, der Thomas und der Micha
DTSTART:20210520T220000Z
DTEND:20210524T160000Z
GEO:00;0
LOCATION:
ORGANIZER:
SEQUENCE:1
SUMMARY:Coswiger Radwandertage in Petzow
TRANSP:OPAQUE
URL:https://test.apricus-ev.de/component/icagenda/79-coswiger-radwandertage
 ?layout=vcal
END:VEVENT
END:VCALENDAR
