BEGIN:VCALENDAR
VERSION:2.0
PRODID:-//TEST Apricus e.V.//NONSGML kigkonsult.se iCalcreator 2.41.92//
CALSCALE:GREGORIAN
METHOD:PUBLISH
UID:62663136-3761-4031-a433-653730306531
X-WR-CALNAME:iCagenda
X-WR-CALDESC:Event Management Extension for Joomla!
X-WR-RELCALID:3E26604A-50F4-4449-8B3E-E4F4932D05B5
X-WR-TIMEZONE:Europe/Berlin
BEGIN:VTIMEZONE
TZID:Europe/Berlin
TZUNTIL:20230326T010000Z
BEGIN:STANDARD
TZNAME:CET
DTSTART:20201025T030000
TZOFFSETFROM:+0200
TZOFFSETTO:+0100
RDATE:20211031T030000
RDATE:20221030T030000
END:STANDARD
BEGIN:DAYLIGHT
TZNAME:CEST
DTSTART:20210328T020000
TZOFFSETFROM:+0100
TZOFFSETTO:+0200
RDATE:20220327T020000
END:DAYLIGHT
END:VTIMEZONE
BEGIN:VEVENT
UID:36333634-3434-4364-a531-303165313831
DTSTAMP:20260425T213431Z
CATEGORIES:Absage bzw. Verschiebung
CLASS:PUBLIC
DESCRIPTION;ALTREP="CID:<FFFF__=0ABBE548DFE235B58f9e8a93d@coffeebean.com>":
 Liebe Apricusse\,\ndie Neiße-Oder-Radtour muss ich leider wegen einer Fami
 lienfeier auf das Wochenende vom 24.&nbsp\;- 26.&nbsp\;September verlegen.
  Ich hoffe\, dass noch niemand den alten Termin fest eingeplant hat! Alle 
 Informationen zur Tour findet ihr zu gegebener Zeit auf der Unterseite des
  neuen Termins.\nFrank
DTSTART:20210917T130000Z
DTEND:20210919T160000Z
GEO:00;0
LOCATION:Forst\, Frankfurt (Oder)
ORGANIZER:
SEQUENCE:1
SUMMARY:Neiße-Oder-Radtour
TRANSP:OPAQUE
URL:https://test.apricus-ev.de/component/icagenda/93-neisse-oder-radtour?la
 yout=vcal
END:VEVENT
END:VCALENDAR
