BEGIN:VCALENDAR
VERSION:2.0
PRODID:-//TEST Apricus e.V.//NONSGML kigkonsult.se iCalcreator 2.41.92//
CALSCALE:GREGORIAN
METHOD:PUBLISH
UID:64616633-3933-4738-b236-643930383037
X-WR-CALNAME:iCagenda
X-WR-CALDESC:Event Management Extension for Joomla!
X-WR-RELCALID:3E26604A-50F4-4449-8B3E-E4F4932D05B5
X-WR-TIMEZONE:Europe/Berlin
BEGIN:VTIMEZONE
TZID:Europe/Berlin
TZUNTIL:20251026T010000Z
BEGIN:STANDARD
TZNAME:CET
DTSTART:20221030T030000
TZOFFSETFROM:+0200
TZOFFSETTO:+0100
RDATE:20231029T030000
RDATE:20241027T030000
END:STANDARD
BEGIN:DAYLIGHT
TZNAME:CEST
DTSTART:20230326T020000
TZOFFSETFROM:+0100
TZOFFSETTO:+0200
RDATE:20240331T020000
RDATE:20250330T020000
END:DAYLIGHT
END:VTIMEZONE
BEGIN:VEVENT
UID:32636233-3036-4166-a632-323138366537
DTSTAMP:20260425T221241Z
CATEGORIES:Radfahren
CLASS:PUBLIC
DESCRIPTION;ALTREP="CID:<FFFF__=0ABBE548DFE235B58f9e8a93d@coffeebean.com>":
 ...und Delitzscher Tiergarten\nDie Tour führt uns zunächst zum Haus am See
  am Leipziger Auensee\, wo ein kurzer Stopp und Toilettengang möglich ist.
 \nWeiter geht es über Lindenthal bis zum Schladitzer See und zur Schladitz
 er Bucht\, wo wir eine kleine Kaffeepause machen werden. Der See ist das T
 agebaurestloch des ehemaligen Braunkohletagebaus Breitenfeld. Die Kohleför
 derung begann hier 1986. Der Erschließung fielen der Ort Lössen und der Sc
 hladitzer Ortsteil Kömmlitz zum Opfer. Nach 1990 wurde der nunmehr unrenta
 ble Tagebau stillgelegt. Der ehemalige Ort Schladitz blieb dadurch vom Abb
 au unberührt. Planungen\, die eine Ausweitung des Tagebaus Breitenfeld bis
  an den nördlichen Stadtrand von Leipzig sowie die Verlegung der A14 vorsa
 hen\, wurden nicht mehr realisiert. Der Schladitzer See wird seit 2003 als
  Badesee und Wassersportzentrum genutzt. Die Nutzung des Sees begann damit
  schon Jahre vor dem Erreichen des geplanten Endwasserspiegels von 104&nbs
 p\;m&nbsp\;ü.&nbsp\;NN.\nNach der Pause wechseln wir zum Werbeliner See un
 d passieren dabei auf der aufgeforsteten Kippe nahe Hayna das technische D
 enkmal des Schaufelrades SRS 6300. An dieser eindrucksvollen Landmarke sin
 d mehrere Reste von Tagebaugroßmaschinen ausgestellt in deren Zentrum das 
 Schaufelrad auf einem Betonfundament platziert wurde. Besucher können sich
  zudem über die Zeitzeugen der Industriegeschichte in der Region an mehrer
 en Informationstafeln belesen.\nDen Werbeliner See passieren wir auf der W
 estseite. Der See\, gelegen auf der Fläche des ehemaligen Ortes Werbelin\,
  ist ein ca. 450&nbsp\;Hektar großer Tagebaurestsee\, der durch Flutung (2
 008 abgeschlossen) aus dem Tagebau Delitzsch-Südwest entstand. 1975 begann
  hier die Braunkohleförderung. In der Folgezeit mussten dadurch die Orte K
 attersnaundorf\, Grabschütz und Werbelin (ehemals Rundling) weichen. Der S
 ee wurde von 1998 bis 2010 aus der Neuen Luppe geflutet. Im Mai 2019 wurde
  das Naturschutzgebiet Werbeliner See ausgewiesen\, mit dem Ziel die herau
 sragende Artenvielfalt langfristig zu erhalten\, was den See und die Insel
  im Nordwesten zu einem hervorragenden Beobachtungsziel von Zugvögeln mach
 t.\nCa. 14:00&nbsp\;Uhr nach ca. 34&nbsp\;km werden wir Delitzsch erreiche
 n und begeben uns zum Tiergarten. Der Tiergarten Delitzsch ist ein kleiner
 er Zoo. Auf einer Fläche von etwa vier Hektar leben rund 600 Tiere in 120 
 verschiedenen Arten. Die Anlage in der Loberaue\, nordwestlich des Stadtpa
 rks\, besteht seit 1968. Neben dem Besuch des Tiergartens werden wir hier 
 eine späte Mittagspause einlegen\, wofür ich ca. 2\,5 Stunden einplane und
  jeder individuell durch den Zoo schlendern oder die Pause genießen kann.
 \nAnschließend besteht die Möglichkeit\, ab dem Bahnhof Delitzsch in Richt
 ungen Leipzig\, Halle (über Bitterfeld) oder Eilenburg mit der S-Bahn abzu
 reisen oder mit mir direkt wieder an den Seen entlang (nur diesmal die jew
 eils andere Seite) nach Hause zu radeln.\n\nTreffpunkt: 10:00 Uhr in der A
 DFC-Geschäftsstelle Leipzig\, Ranstädter Steinweg&nbsp\;1\nEnde: ca. 19:00
  Uhr selber Ort oder ggf. mit S-Bahn ab Delitzsch\nKosten: 2€ für Apricus-
 /ADFC-Mitglieder\, 3€ für Gäste\nLänge: ca. 34 km (68 km hin und zurück)\n
 Untergrund: teilweise unbefestigte Wege\nAnmeldung (nicht erforderlich) an
  und Infos bei: Michael Kraus – 0176 31330108 – michael.kraus@adfc-leipzig
 .de\n\nMan sieht sich im Leipziger Norden!Der Micha
DTSTART:20231028T073000Z
DTEND:20231028T150000Z
GEO:00;0
LOCATION:
ORGANIZER:
SEQUENCE:1
SUMMARY:Abradeln im Leipziger Norden
TRANSP:OPAQUE
URL:https://test.apricus-ev.de/component/icagenda/abradeln-im-leipziger-nor
 den?layout=vcal
END:VEVENT
END:VCALENDAR
