BEGIN:VCALENDAR
VERSION:2.0
PRODID:-//TEST Apricus e.V.//NONSGML kigkonsult.se iCalcreator 2.41.92//
CALSCALE:GREGORIAN
METHOD:PUBLISH
UID:36613735-3137-4633-a339-646635383134
X-WR-CALNAME:iCagenda
X-WR-CALDESC:Event Management Extension for Joomla!
X-WR-RELCALID:3E26604A-50F4-4449-8B3E-E4F4932D05B5
X-WR-TIMEZONE:Europe/Berlin
BEGIN:VTIMEZONE
TZID:Europe/Berlin
TZUNTIL:20271031T010000Z
BEGIN:STANDARD
TZNAME:CET
DTSTART:20251026T030000
TZOFFSETFROM:+0200
TZOFFSETTO:+0100
RDATE:20261025T030000
END:STANDARD
BEGIN:DAYLIGHT
TZNAME:CEST
DTSTART:20250330T020000
TZOFFSETFROM:+0100
TZOFFSETTO:+0200
RDATE:20260329T020000
RDATE:20270328T020000
END:DAYLIGHT
END:VTIMEZONE
BEGIN:VEVENT
UID:30373661-3966-4233-b961-363133336464
DTSTAMP:20260425T213427Z
CATEGORIES:Wandern
CLASS:PUBLIC
DESCRIPTION;ALTREP="CID:<FFFF__=0ABBE548DFE235B58f9e8a93d@coffeebean.com>":
 Hallo liebe Apricüssen und Gäste\,\ndas Jahr neigt sich dem Ende und damit
  rückt die letzte Apricuswanderung des Kalenderjahres näher:\nWir treffen 
 uns dieses Mal 10:35&nbsp\;Uhr&nbsp\;am Bahnhof Griebo. Von dort geht es z
 unächst zum Apollensberg mit hoffentlich schönem Blick ins Elbtal. Weiter 
 geht's den Apollensdorfer Weg nach Möllensdorf. Kurz vor dem Ziel geht's e
 in Stückchen über den Luthersteg ins idyllische Grieboer Bachtal um dann k
 urz darauf die ersten Hütten vom Weihnachtsmarkt zu sehen. Hier kann jede(
 r) eine Runde drehen und sich stärken und beköstigen bevor es dann zurückg
 eht.\nNach Coswig gehen wir zunächst das kleine Stück zum Luthersteg zurüc
 k\, laufen dann aber auf die andere Bachseite \, 'erklimmen' den Hubertusb
 erg und lassen uns danach auf dem Bismarckstieg am Wörpener Bach entlang n
 ach Coswig führen. Zum Abschluss und nach Lust und Laune und Zeit kann hie
 r jede(r) noch über unseren kleinen Weihnachtsmarkt schlenkern und den Tag
  ausklingen lassen.Achtung: die Tour findet schon Samstag\, den 13.12. sta
 tt!\n\nLänge ca. 15 km\nKosten für Nichtmitglieder:&nbsp\;1€ (für Versiche
 rung)\n\nEs freut sich auf euch\,Andreas Koch (Tesi)
DTSTART:20251213T093500Z
DTEND:20251213T160000Z
GEO:00;0
LOCATION:
ORGANIZER:
SEQUENCE:1
SUMMARY:Adventswanderung
TRANSP:OPAQUE
URL:https://test.apricus-ev.de/component/icagenda/adventswanderung-2025?lay
 out=vcal
END:VEVENT
END:VCALENDAR
