BEGIN:VCALENDAR
VERSION:2.0
PRODID:-//TEST Apricus e.V.//NONSGML kigkonsult.se iCalcreator 2.41.92//
CALSCALE:GREGORIAN
METHOD:PUBLISH
UID:31396436-3936-4862-b030-323437636138
X-WR-CALNAME:iCagenda
X-WR-CALDESC:Event Management Extension for Joomla!
X-WR-RELCALID:3E26604A-50F4-4449-8B3E-E4F4932D05B5
X-WR-TIMEZONE:Europe/Berlin
BEGIN:VTIMEZONE
TZID:Europe/Berlin
TZUNTIL:20251026T010000Z
BEGIN:STANDARD
TZNAME:CET
DTSTART:20231029T030000
TZOFFSETFROM:+0200
TZOFFSETTO:+0100
RDATE:20241027T030000
END:STANDARD
BEGIN:DAYLIGHT
TZNAME:CEST
DTSTART:20230326T020000
TZOFFSETFROM:+0100
TZOFFSETTO:+0200
RDATE:20240331T020000
RDATE:20250330T020000
END:DAYLIGHT
END:VTIMEZONE
BEGIN:VEVENT
UID:34323664-6563-4363-a463-316230633630
DTSTAMP:20260425T213434Z
CATEGORIES:Wandern
CLASS:PUBLIC
DESCRIPTION;ALTREP="CID:<FFFF__=0ABBE548DFE235B58f9e8a93d@coffeebean.com>":
 Der Erlebnissportverband „Apricus“ e.V. lädt ein zur Weihnachtsmarktwander
 ung von Coswig über die Waldweihnacht Möllensdorf zum Coswiger Weihnachtsm
 arkt der Vereine am 17.12.2023\nDie Wanderung hatten wir bereits zwei Mal 
 gemacht\, allerdings machte da der Lockdown uns 2021 teilweise den Strich 
 durch die Rechnung\, da zwar die Waldweihnacht in Möllensdorf stattfand\, 
 aber der Markt in Coswig kurzfristigst abgesagt worden war. Die Wanderunge
 n waren dennoch ein schöner Erfolg und so rufen wir auch dieses Jahr wiede
 r dazu auf und hoffen\, dass dieses Jahr wieder jedem Teilnehmer alles mög
 lich sein wird. Im letzten Jahr fand ja zudem auch im Coswiger Schloss ein
  kleiner Weihnachtsmarkt statt mit der Möglichkeit\, einen Blick in das Co
 swiger Schloss zu werfen\, dieses Jahr soll die Wanderung auf dem Schlossh
 of beendet werden\, wo uns Udo Eiserbeck mit einem wärmenden Feuer empfäng
 t.\nStart ist am Bahnhof Coswig auf der Seite des Netto-Markts. Treffpunkt
  ist 10:30&nbsp\;Uhr\, die ankommenden Züge werden abgewartet\, so sie pün
 ktlich sind.\nVom Bahnhof Coswig aus wandern wir dieses Jahr rechts der St
 raße nach Möllensdorf durch Wälder und über ein Feld und gelangen linkssei
 tig an den Grieboer Bach\, wo wir das Gelände des Waldweihnachtsmarktes Mö
 llensdorf erreichen.\nHier gibt es dann eine Pause für den individuellen B
 ummel über den Markt und zur Stärkung\, bevor wir uns dann erneut zusammen
 finden\, um dann nach Coswig zurück zu wandern. In Coswig bewundern wir di
 e weihnachtlich geschmückten Straßen und lassen dann die Wanderung gemütli
 ch auf dem Coswiger Adventsmarkt ausklingen\, den die Stadt Coswig gemeins
 am mit den Vereinen und Gewerbetreibenden an diesem Nachmittag ausrichtet.
  Der Markt findet in diesem Jahr nur auf dem Marktplatz statt\, aber für u
 ns soll es einen kleinen Empfang vom Schlüsselverwalter im Schlosshof gebe
 n.\nDie Wanderstrecke ist ca. 15&nbsp\;km lang (1&nbsp\;km Bummel über den
  Möllensdorfer Markt schon eingerechnet).\nEine Anmeldung bis 15.12.2023 w
 äre schön\, aber wir nehmen auch kurzfristig entschlossene Teilnehmer mit\
 , Gäste zahlen die üblichen 1&nbsp\;€ für die Sportunfallversicherung vor 
 Ort\, sonst entstehen keine weiteren Kosten. Den Verzehr auf den Weihnacht
 smärkten zahlt natürlich jeder selbst.\nAnmeldung bei Torsten Hammer\, Tel
 efon: 034903/189761 (auch AB nutzen) bzw. thapricus@aol.com
DTSTART:20231217T090000Z
DTEND:20231217T160000Z
GEO:00;0
LOCATION:
ORGANIZER:
SEQUENCE:1
SUMMARY:Adventswanderung
TRANSP:OPAQUE
URL:https://test.apricus-ev.de/component/icagenda/adventswanderung?layout=v
 cal
END:VEVENT
END:VCALENDAR
