BEGIN:VCALENDAR
VERSION:2.0
PRODID:-//TEST Apricus e.V.//NONSGML kigkonsult.se iCalcreator 2.41.92//
CALSCALE:GREGORIAN
METHOD:PUBLISH
UID:37653565-3037-4364-b039-396234343632
X-WR-CALNAME:iCagenda
X-WR-CALDESC:Event Management Extension for Joomla!
X-WR-RELCALID:3E26604A-50F4-4449-8B3E-E4F4932D05B5
X-WR-TIMEZONE:Europe/Berlin
BEGIN:VTIMEZONE
TZID:Europe/Berlin
TZUNTIL:20201025T010000Z
BEGIN:STANDARD
TZNAME:CET
DTSTART:20181028T030000
TZOFFSETFROM:+0200
TZOFFSETTO:+0100
RDATE:20191027T030000
END:STANDARD
BEGIN:DAYLIGHT
TZNAME:CEST
DTSTART:20190331T020000
TZOFFSETFROM:+0100
TZOFFSETTO:+0200
RDATE:20200329T020000
END:DAYLIGHT
END:VTIMEZONE
BEGIN:VEVENT
UID:30643337-6563-4865-a334-623066376361
DTSTAMP:20260425T232424Z
CATEGORIES:Laufen
CLASS:PUBLIC
DESCRIPTION;ALTREP="CID:<FFFF__=0ABBE548DFE235B58f9e8a93d@coffeebean.com>":
 Nachdem wir in den letzten beiden Jahren als Verein an der Berliner bzw. B
 randenburger Teamstaffel teilgenommen haben\, wollen wir uns in diesem Jah
 r etwas steigern und am Airfield Run teilnehmen. Hierbei handelt es sich u
 m eine Marathonstaffel – die 5 Teilnehmer laufen insgesamt eine Strecke vo
 n 42\,195 km\, aufgeteilt in verschieden lange Teilstrecken (2x 5 km \, 2x
  10 km und 1x 12\,195 km). Das Rennen findet auf dem Gelände des ehemalige
 n Flughafens Berlin-Tempelhof statt. Start\, Wechselbereich und Ziel liege
 n in den denkmalgeschützten Hangars.\nOrganisatorisches\n\nEs gelten grund
 sätzlich die Allgemeinen Bedingungen zur Teilnahme an SCC-Laufsportveranst
 altungen – Details siehe https://www.airfield-run.de\nBitte nur anmelden\,
  wenn euch die Teilnahme sicher möglich ist. Der 14.04.2019 ist ein Sonnta
 g. Startzeit ist 10:00 Uhr\; ich werde wahrscheinlich ab ca. 08:45 Uhr vor
  Ort sein.\nDie Startgebühr übernimmt Apricus.\nDa die Startgebühr bei Nic
 htantritt nicht zurückgezahlt wird\, wäre es gut\, mindestens eine/n Reser
 veläufer/in zu haben. Die konkreten Teilnehmer werden vom Teamkapitän ca. 
 7 Tage vor dem Rennen angemeldet. Als Qualifikation ist eine persönliche 5
 .000-m-Zeit von ca. 30 min bzw. 10.000-m-Zeit von ca. 60 min ausreichend (
 die Zeitbegrenzung für das gesamte Team liegt bei 4 Stunden 30 Minuten) – 
 schneller ist natürlich besser.\nDie Anfahrt sollte mit öffentlichen Verke
 hrsmitteln erfolgen (Fahrrad ist auch möglich – Fahrräder sind auf dem Gel
 ände erlaubt). Der nächstliegende U-Bahnhof ist Paradestraße (Linie U6).\n
 \nAnmeldung\n...unter Beachtung der organisatorischen Hinweise per E-Mail 
 an JensA&lt\;@&gt\;apricus-ev.de. mit vollständigem Namen\, Geburtsdatum\,
  Geschlecht und der bevorzugten und maximalen Teilstreckenlänge (5 km\, 10
  km oder 12\,195 km).Weitere Hinweise\nFalls jemand nicht mitlaufen kann o
 der will\, aber Lust hat\, die Teilnehmer anzufeuern\, kann er/sie natürli
 ch gerne zur Veranstaltung kommen – auch kurzfristig. Damit man sich auf d
 em Veranstaltungsgelände nicht verfehlt\, bitte ich um eine kurze Info.\nA
 uf einen sportlichen Sonntag in Berlin-Tempelhof freut sichJens
DTSTART:20190414T060000Z
DTEND:20190414T110000Z
GEO:00;0
LOCATION:
ORGANIZER:
SEQUENCE:1
SUMMARY:'Airfield Run' auf dem Tempelhofer Feld\, Berlin
TRANSP:OPAQUE
URL:https://test.apricus-ev.de/component/icagenda/airfield-run-auf-dem-temp
 elhofer-feld-berlin?layout=vcal
END:VEVENT
END:VCALENDAR
