BEGIN:VCALENDAR
VERSION:2.0
PRODID:-//TEST Apricus e.V.//NONSGML kigkonsult.se iCalcreator 2.41.92//
CALSCALE:GREGORIAN
METHOD:PUBLISH
UID:32303531-3436-4334-a537-376662353861
X-WR-CALNAME:iCagenda
X-WR-CALDESC:Event Management Extension for Joomla!
X-WR-RELCALID:3E26604A-50F4-4449-8B3E-E4F4932D05B5
X-WR-TIMEZONE:Europe/Berlin
BEGIN:VTIMEZONE
TZID:Europe/Berlin
TZUNTIL:20261025T010000Z
BEGIN:STANDARD
TZNAME:CET
DTSTART:20231029T030000
TZOFFSETFROM:+0200
TZOFFSETTO:+0100
RDATE:20241027T030000
RDATE:20251026T030000
END:STANDARD
BEGIN:DAYLIGHT
TZNAME:CEST
DTSTART:20240331T020000
TZOFFSETFROM:+0100
TZOFFSETTO:+0200
RDATE:20250330T020000
RDATE:20260329T020000
END:DAYLIGHT
END:VTIMEZONE
BEGIN:VEVENT
UID:62333335-3861-4139-b362-333438316238
DTSTAMP:20260425T215229Z
CATEGORIES:Treffen
CLASS:PUBLIC
DESCRIPTION;ALTREP="CID:<FFFF__=0ABBE548DFE235B58f9e8a93d@coffeebean.com>":
 Hallo liebe Apricusse\,\nAnfang Oktober möchten wir zum diesjährigen Kultu
 rwochenende (verlängert) der polnischen Hauptstadt einen Besuch abstatten.
  Warschau ist die bevölkerungsreichste Stadt des Landes (mit knapp 1.900.0
 00 Einwohnern) und kulturelles\, wirtschaftliches Zentrum sowie ehemaliger
  Sitz der polnischen Könige.\nAls eines der wichtigsten Verkehrs-\, Wirtsc
 hafts- und Handelszentren Mittel- und Osteuropas genießt Warschau große po
 litische und kulturelle Bedeutung. In der Stadt befinden sich zahlreiche n
 ationale und internationale Institutionen\, Universitäten\, Theater\, Muse
 en und Baudenkmäler. Beidseitig am Strom der Weichsel der Woiwodschaft Mas
 owien gelegen\, stellt sie das Zentrum der zweitgrößten Agglomeration Pole
 ns mit rund 3\,5&nbsp\;Millionen Einwohnern im Großraum Warschau dar. Der 
 Warschauer Innenstadtbezirk beherbergt das UNESCO-Welterbe der wiederaufge
 bauten Warschauer Altstadt.\nNeben dem intensiven Erkunden der Stadt per F
 uß und Tram werden wir auch wieder eine Bootstour auf der Weichsel unterne
 hmen (wenn das Wetter mitspielt).\nWo wir übernachten\, können wir erst bu
 chen und bekannt geben\, wenn wir wissen\, wie viele mitkommen werden. Dar
 um benötigen wir jetzt auch eine schnelle Anmeldung von Euch. Je nach dem\
 , wie es passt\, wird es eine Ferienwohnung oder eine Herberge werden.\nWi
 chtig: Wir nutzen den Feiertag in der Woche\, um ein verlängertes Wochenen
 de aus der Tour zu machen und bleiben wegen der einfacheren Rückreise bis 
 Montag. Also sind 2 Urlaubstage oder Überstundenabbau nötig.\nAnreise und 
 Abreise\nWir organisieren die Anreise per Zug am Donnerstag (3.10.) sodass
  wir am Nachmittag dort ankommen. Ebenso organisieren wir die Abreise per 
 Zug am Montag (7.10.)\, sodass alle nach Hause kommen.\nBitte gebt bei der
  Anmeldung Bescheid\, ob wir die An-/Abreise für Euch mitplanen sollen. We
 r zu den Zeiten nicht kann\, oder sonstwie anders an-/abreisen möchte\, gi
 bt gern Bescheid.\nTeilnehmerbeiträge\n*) Die Preise für Kinder und Jugend
 liche sind durch den Verein gestützt!  \n\n\n\n\nTN-Gruppe\nApricus\nGäste
 \n\n\n\n\nErwachsene\n\n195\n215\n\n\nBürgergeld-/ALG-Empfänger\n\n165\n18
 5\n\n\nJugendliche / Studenten&nbsp\;(bis 26&nbsp\;J.)\n\n150\n158\n\n\nKi
 nder bis 14&nbsp\;J.*\n\n120\n128\n\n\n\nIm Preis enthalten sind alle Über
 nachtungen und etwas Organisationsaufwand.\nNicht enthalten sind die An- u
 nd Abreise sowie Dinge die man vor Ort so braucht\, inklusive Essen und Tr
 inken. (Generell planen wir mit dem größeren Teil Selbstverpflegung).\nMit
 zubringen:\nDas werden wir noch recherchieren und zeitnah vor der Reise be
 kannt geben.\nAnmeldung\nAnmeldeschluss ist der 24.08.2024 (Samstag)\, dam
 it wir die Züge preiswert buchen können und somit wegen der Übernachtungsp
 lätze auf der sicheren Seite stehen. Spätere Anmeldungen sind - ggf. mit e
 rheblichen Eigenaufwand&nbsp\;- möglich. Bitte meldet Euch bei mir\, Micha
 \, unter&nbsp\;mkraus70@yahoo.de oder telefonisch: 0176-31330108.\nSo - ic
 h hoffe\, nichts vergessen zu haben. Wenn doch meldet Euch gern.\nAuf eine
 n erlebnisreichen Ausflug\, auf Pierogi\, Bigos und Zywiec und auf Euch fr
 euen sich\,Evy und Micha\n\nPS: Wer sich schon mal in gedanklichen Bildern
  und interessanten Fakten eines Durch-und--durch-Polenkenners auf die Reis
 e vorbereiten möchte\, dem sei die Trilogie von Steffen Möller empfohlen:
 \n\nViva Polonia\, Als deutscher Gastarbeiter in Polen\nViva Warszawa\, Po
 len für Fortgeschrittene\nExpedition zu den Polen\, Eine Reise mit dem Ber
 lin-Waszawa-Express - dessen Fahrt hier auf das Vergnüglichste beschrieben
  wird\n\nFür ganz speziell Interessierte der ultimative Geheimtip: ein Tic
 ket für Möllers Comedy-Programm 'Polnische Paartherapie' (https://steffen.
 pl/de/polnische-paartherapie-2/)
DTSTART:20241003T150000Z
DTEND:20241007T160000Z
GEO:00;0
LOCATION:
ORGANIZER:
SEQUENCE:1
SUMMARY:Aktiv-Kultur-Wochenende in Warschau
TRANSP:OPAQUE
URL:https://test.apricus-ev.de/component/icagenda/aktiv-kultur-wochenende-3
 ?layout=vcal
END:VEVENT
END:VCALENDAR
