BEGIN:VCALENDAR
VERSION:2.0
PRODID:-//TEST Apricus e.V.//NONSGML kigkonsult.se iCalcreator 2.41.92//
CALSCALE:GREGORIAN
METHOD:PUBLISH
UID:32326539-3032-4231-a237-303134333064
X-WR-CALNAME:iCagenda
X-WR-CALDESC:Event Management Extension for Joomla!
X-WR-RELCALID:3E26604A-50F4-4449-8B3E-E4F4932D05B5
X-WR-TIMEZONE:Europe/Berlin
BEGIN:VTIMEZONE
TZID:Europe/Berlin
TZUNTIL:20271031T010000Z
BEGIN:STANDARD
TZNAME:CET
DTSTART:20241027T030000
TZOFFSETFROM:+0200
TZOFFSETTO:+0100
RDATE:20251026T030000
RDATE:20261025T030000
END:STANDARD
BEGIN:DAYLIGHT
TZNAME:CEST
DTSTART:20250330T020000
TZOFFSETFROM:+0100
TZOFFSETTO:+0200
RDATE:20260329T020000
RDATE:20270328T020000
END:DAYLIGHT
END:VTIMEZONE
BEGIN:VEVENT
UID:35623033-6433-4065-b337-383061643364
DTSTAMP:20260425T231731Z
CATEGORIES:Treffen
CLASS:PUBLIC
DESCRIPTION;ALTREP="CID:<FFFF__=0ABBE548DFE235B58f9e8a93d@coffeebean.com>":
 Hallo liebe Apricusse\nDie liebe Evy und ich haben uns dieses Jahr für die
  schwedische Hauptstadt Stockholm als Apricus-Kultur-Stadt entschieden.\n
 \nDas Bild Stockholms hat sich in der Geschichte der Stadt aufgrund der sk
 andinavischen Landhebung stark verändert. Teile\, die heute zum Festland g
 ehören\, waren vor einigen hundert Jahren noch Inseln. Ein Meerbusen der O
 stsee umschließt die Stadt im Osten mit zahlreichen Buchten\, Landzungen s
 owie etwa 24.000 größeren und kleineren Inseln (Schären). Dieses Gebiet wi
 rd Stockholmer Schärengarten (Skärgården) genannt. \nStockholm liegt am Au
 sfluss des Sees Mälaren in die Ostsee\, dem Riddarfjärden. Der See erstrec
 kt sich 120&nbsp\;Kilometer nach Westen ins Landesinnere. Slussen\, eine S
 chleuse mitten in Stockholm\, trennt das Süßwasser des Mälarsees vom Salzw
 asser der Ostsee. \nWasser macht etwa 30 Prozent der Stadtfläche aus. Die 
 Stadt bezieht ihr Trinkwasser aus dem Mälaren und die hohe Wasserqualität 
 erlaubt es\, mitten in der Innenstadt Lachse zu angeln. Die Stadt erstreck
 t sich über 14 Inseln\, die durch 53 Brücken verbunden sind. Ein großer Te
 il der Stadt besteht aus Waldregionen. \n\nWir reisen Donnerstag Nachmitta
 g mit dem schwedischen Nachtzug ab Berlin (17:31 Uhr) an und erreichen Sto
 ckholm ca. um 10 morgens.\nWas uns dann und die nächsten Tage erwartet\, v
 erraten wir einfach mal noch nicht im Detail\, sondern freuen uns darauf\,
  euch zu überraschen und euch für die Stadt und die Menschen zu begeistern
 .\nNur so viel\, wir sind ja ein Erlebnissportverein\, also werden wir uns
  auf jeden Fall irgendwie bewegen. Außerdem gibt es – wie beschrieben – in
  Stockholm viel Wasser. Also wird eben dieses sicherlich eine Rolle spiele
 n.\nDie Rückfahrt startet Montag ebenfalls mit dem Nachtzug nach Berlin (1
 7:34 Uhr).\n&nbsp\;\nTreffpunkt zur Anreise: Donnerstag 2.10. Berlin Freis
 itz Zollpackhof (sehr nah am Hauptbahnhof) ca. 16:00 Uhr\nAnkunft zurück i
 n Berlin: Dienstag 7.10. 10:31 Uhr\nPreise:&nbsp\;\n*) Bitte Nachweis vorl
 egen  \n\n\n\n\n\nTN-Gruppe\nApricus\nGäste\n\n\n\n\nErwachsene\n\n240\n25
 5\n\n\nBürgergeld / Student ab 27 Jahre *\n\n210\n225\n\n\nJugendliche 16-
 26 Jahre\n\n210\n216\n\n\nKinder / Jugendliche 3-15 Jahre\n\n180\n186\n\n
 \n\nIm Preis enthalten: \n\nÜbernachtung und Frühstück\neinige Kulturpunkt
 e\n\nIm Preis nicht enthalten:\n\nAn- und Abreise mit dem Nachtzug\nMittag
 essen und Abendbrot\nWeitere Aktivitäten (Bsp: Schifffahrt)\n\nÜbernachtun
 g:\n\nWahrscheinlich in einem Studiohotel mit 2-Bett Zimmern\n\nMitbringen
 :\n\nReisepass/Ausweis\nKreditkarte (in Schweden wird extrem viel damit be
 zahlt) oder Geld zum tauschen\n\nAnmeldung:\n\nBei mkraus70@yahoo.de oder 
 unter 0176 31330108\nBis spätestens 14.Juli (spätere müssen sich dann selb
 st um Unterkunft und Anreise kümmern)\n\nAuf Stockholm\, die Schweden und 
 …. auf Euch freuen sich\nEvy und Micha
DTSTART:20251002T140000Z
DTEND:20251007T083000Z
GEO:00;0
LOCATION:
ORGANIZER:
SEQUENCE:1
SUMMARY:Aktiv-Kultur-Wochenende
TRANSP:OPAQUE
URL:https://test.apricus-ev.de/component/icagenda/aktiv-kultur-wochenende-4
 ?layout=vcal
END:VEVENT
END:VCALENDAR
