BEGIN:VCALENDAR
VERSION:2.0
PRODID:-//TEST Apricus e.V.//NONSGML kigkonsult.se iCalcreator 2.41.92//
CALSCALE:GREGORIAN
METHOD:PUBLISH
UID:62663833-6565-4638-b233-383036663230
X-WR-CALNAME:iCagenda
X-WR-CALDESC:Event Management Extension for Joomla!
X-WR-RELCALID:3E26604A-50F4-4449-8B3E-E4F4932D05B5
X-WR-TIMEZONE:Europe/Berlin
BEGIN:VTIMEZONE
TZID:Europe/Berlin
TZUNTIL:20251026T010000Z
BEGIN:STANDARD
TZNAME:CET
DTSTART:20221030T030000
TZOFFSETFROM:+0200
TZOFFSETTO:+0100
RDATE:20231029T030000
RDATE:20241027T030000
END:STANDARD
BEGIN:DAYLIGHT
TZNAME:CEST
DTSTART:20230326T020000
TZOFFSETFROM:+0100
TZOFFSETTO:+0200
RDATE:20240331T020000
RDATE:20250330T020000
END:DAYLIGHT
END:VTIMEZONE
BEGIN:VEVENT
UID:66633563-3734-4336-b866-313865363238
DTSTAMP:20260425T221202Z
CATEGORIES:Treffen
CLASS:PUBLIC
DESCRIPTION;ALTREP="CID:<FFFF__=0ABBE548DFE235B58f9e8a93d@coffeebean.com>":
 \nHallo liebe Apricusse\,\nam Monatswechsel September auf Oktober möchten 
 wir zum diesjährigen verlängerten Kulturwochenende der dänischen Hauptstad
 t einen Besuch abstatten.\nKopenhagen ist die mit Abstand größte Stadt des
  Landes (mit knapp 900.000 Einwohnern) und kulturelles\, wirtschaftliches 
 Zentrum sowie Sitz des königlichen Hauses. Generell ist die Stadt als eine
  der lebenswertesten Städte bekannt\, seit einigen Jahren vor allem auch a
 ls „Fahrrad-Hauptstadt“\, wo sehr viel für den Rad- und den Fußverkehr ver
 bessert wurde und damit die allgemeine Lebens- und Aufenthaltsqualität erh
 eblich gestiegen ist.\nAllein das zu erleben ist die Reise wert. Wir könne
 n/werden uns dazu vor Ort auch Fahrräder ausleihen.\nDaneben ist Kopenhage
 n auch eine große Hafenstadt und es gibt viel am und auch auf dem Wasser z
 u sehen. Zu entdecken gibt es auch sonst recht viel und wir werden die Füß
 e ordentlich qualmen lassen auf dem Weg zu den vielen kleinen und großen S
 ehenswürdigkeiten. Zum Beispiel:\n\nDie 1\,25 Meter große Lille Havfrue (d
 ie kleine Meerjungfrau) ist das bekannteste Wahrzeichen der Stadt.\nZwisch
 en den Fußgängerzonen und dem Inderhavn erstreckt sich das Schloss Christi
 ansborg (Christiansborg Slot). Seit 1918 Sitz des Parlaments\, befindet es
  sich an der Stelle einer älteren Burg mit einem 90&nbsp\;Meter hohen Schl
 ossturm. An der Nordseite des Schlosses steht die 1826 vollendete klassizi
 stische Schlosskirche.\nNördlich von Schloss Amalienborg (Königssitz) erst
 reckt sich Kastellet (Kastell)\, ein Überbleibsel der alten Stadtbefestigu
 ng.\nviele weitere Kirchen und….\n...aber und für einige sicher am wichtig
 sten: Wir werden das Olsenbandemuseum besuchen und weitere Erkundungen zu 
 den Filmen und Filmhelden der 70/80er Jahre anstellen.\n\nÜbernachten werd
 en wir in Krogestykket 61\, 2730 Herlev\, etwas außerhalb und nördlich der
  Stadt\, wo wir ein Haus mit reichlich Betten gemietet haben. Falls wir me
 hr Leutchen werden\, schauen wir mal\, wie/wo wir da was aufstocken können
 .\nAnreise und Abreise\nWir organisieren die Anreise per Zug am Freitag de
 n 29.9. so\, dass wir am Nachmittag ankommen (also wäre wohl 1 Urlaubstag 
 nötig). Ebenso ist die Abreise mit dem Zug am Dienstag den 3.10. so geplan
 t\, dass alle nach Hause kommen.\nBitte gebt bei der Anmeldung Bescheid\, 
 ob wir die An-/Abreise für Euch mitplanen sollen. Wer zu den Zeiten nicht 
 kann\, oder sonst irgendwie anders an- oder abreisen möchte\, gibt gern Be
 scheid.\nPreise\n*) Nachweis beim Organisator vorlegen.**) Die Preise für 
 Kinder und Jugendliche sind durch den Verein gestützt!  \n\n\n\n\nTN-Grupp
 e\nApricus\nGäste\n\n\n\n\nErwachsene\n\n180\n200\n\n\nBürgergeld-/ALG-Emp
 fänger*\n\n160\n180\n\n\nJugendliche bis 26&nbsp\;J./nbsp\;/ Studenten\n\n
 145\n153\n\n\nKinder bis 14&nbsp\;J.**\n\n125\n133\n\n\n\nIm Preis enthalt
 en sind alle Übernachtungen und etwas Organisationsaufwand. Nicht enthalte
 n sind die An- und Abreise sowie alles vor Ort Benötigte incl. Essen und T
 rinken. (Generell planen wir mit dem größeren Teil Selbstverpflegung).\nMi
 tzubringen: ... das werden wir noch recherchieren und zeitnah vor der Reis
 e bekanntgeben.\nAnmeldungen\n...bitte be Michael Kraus\, per Mail unter&n
 bsp\;mkraus70@yahoo.de oder telefonisch: 0176-31330108. Anmeldeschluss ist
  der 16.07.2023 (Sonntag)\, damit wir die Züge preiswert buchen können und
  auch wegen der Übernachtungsplätze auf der sicheren Seite stehen. Spätere
  Anmeldungen sind – ggf. mit erheblichen Eigenaufwand – möglich.\nSo\, ich
  hoffe\, nichts vergessen zu haben. Wenn doch - meldet Euch gern.\nAuf ein
 en erlebnisreichen Ausflug und auf Euch freuen sichEvy\, Annett\, Micha
DTSTART:20230929T150000Z
DTEND:20231003T160000Z
GEO:00;0
LOCATION:
ORGANIZER:
SEQUENCE:1
SUMMARY:Aktiv-Kultur-Wochenende Kopenhagen
TRANSP:OPAQUE
URL:https://test.apricus-ev.de/component/icagenda/aktiv-kultur-wochenende-k
 openhagen?layout=vcal
END:VEVENT
END:VCALENDAR
