BEGIN:VCALENDAR
VERSION:2.0
PRODID:-//TEST Apricus e.V.//NONSGML kigkonsult.se iCalcreator 2.41.92//
CALSCALE:GREGORIAN
METHOD:PUBLISH
UID:61343337-3462-4836-b263-303431626133
X-WR-CALNAME:iCagenda
X-WR-CALDESC:Event Management Extension for Joomla!
X-WR-RELCALID:3E26604A-50F4-4449-8B3E-E4F4932D05B5
X-WR-TIMEZONE:Europe/Berlin
BEGIN:VTIMEZONE
TZID:Europe/Berlin
TZUNTIL:20230326T010000Z
BEGIN:STANDARD
TZNAME:CET
DTSTART:20201025T030000
TZOFFSETFROM:+0200
TZOFFSETTO:+0100
RDATE:20211031T030000
RDATE:20221030T030000
END:STANDARD
BEGIN:DAYLIGHT
TZNAME:CEST
DTSTART:20210328T020000
TZOFFSETFROM:+0100
TZOFFSETTO:+0200
RDATE:20220327T020000
END:DAYLIGHT
END:VTIMEZONE
BEGIN:VEVENT
UID:65336336-3733-4565-b835-323739626433
DTSTAMP:20260425T231651Z
CATEGORIES:Radfahren
CLASS:PUBLIC
DESCRIPTION;ALTREP="CID:<FFFF__=0ABBE548DFE235B58f9e8a93d@coffeebean.com>":
 Spät gab es nun doch noch das Okay zum Zelten in Bräsen\, womit die Verans
 taltung nun doch kurzfristig stattfinden kann.\nWir dürfen auf dem Gelände
  der Sternwarte Bräsen in der Nacht vom 28. zum 29.08.2021 unsere Zelte au
 fstellen. Bitte beachten\, dass es auf dem Gelände keinen Wasseranschluss 
 und kein WC gibt\, es ist also ein wenig wie wild zelten\, wo alles mitgeb
 racht werden muss. Dafür können wir einen Grill auf dem Gelände nutzen und
  die Freunde vom Betreiberverein der Sternwarte würden auch Würstchen\, St
 eaks und einiges an Getränken besorgen\, was jedoch verbindlich vorab best
 ellt werden muss.\nEin See mit Badestelle ist ca. 1\,5 km entfernt.\nWegen
  der Corona-Bestimmungen muss vorab auch eine Teilnehmerliste eingereicht 
 werden\, daher ist es wichtig\, die Anmeldung für jeden Teilnehmer komplet
 t zu machen (Adresse\, Geburtsdatum\, Telefon- oder Mailadresse). Bitte au
 ch angeben\, ob und wieviele Würstchen\, Steaks\, Wasser Sprudel\, Wasser 
 Still\, Limo\, Cola\, Bier Hell\, Bier Dunkel mitbesorgt werden sollen (Im
  Falle einer spontanen Nichtanreise verpflichtet sich der Besteller zur Be
 zahlung der bestellten Waren).\nFür die Orientierungspunkte ist es ebenso 
 wichtig\, anzugeben\, von wo aus man mit dem Rad am Samstag startet.\nProg
 ramm\nSamstag\, 28.08.2021\nAnreise per Fahrrad auf eigene Faust... Jeder 
 Teilnehmer bekommt vorab einen Orientierungspunkt genannt\, den er unterwe
 gs finden und einsammeln muss. Reisen mehrere Leute gemeinsam an\, müssen 
 sie alle Punkte jedes einzelnen Teilnehmers einsammeln. Sprich zwei Leute 
 = zwei Orientierungspunkte\, drei Leute = drei Orientierungspunkte usw. …
 \nZielkontrolle in Bräsen an der Sternwarte ist von 17 bis 19 Uhr.\nNach d
 em Aufbauen der Zelte und dem Abendbrot werden wir gemeinsam mit den Freun
 den vom Astro-Klub eine Himmels- /Sternebeobachtung durchführen und sicher
 lich bis in die Nacht hinein viel lernen\, wir entschweben in die Weite de
 s Himmels bevor wir unter den Sternen in unsere Zelte kriechen.\nSonntag\,
  29.08.2021\nGemeinsame Radtour von Bräsen durch die Wälder des Naturparks
  Fläming\, Start 10.30 Uhr ab der Sternwarte (Tagesgäste können sich hier 
 gern anschließen). Auf der geführten Tour werden wir einige heimatkundlich
 e Sehenswürdigkeiten besuchen – dabei geht es nicht nur auf Straßen\, sond
 ern auch über Waldwege vorwärts. In Cobbelsdorf bestünde die Möglichkeit z
 ur Einkehr auf eigene Kosten.\nBis Nudersdorf werden wir gemeinsam radeln\
 , ab hier gibt es dann die Möglichkeit\, nach Coswig oder nach Wittenberg 
 zu radeln.\nVerbindliche Anmeldung bis zum 24.08.2021 bei Torsten Hammer\,
  Tel. 034903-189761 (auch AB nutzen!) oder thapricus@aol.com bei gleichzei
 tiger Einzahlung der Teilnehmerbeiträge auf das Apricus-Konto.\nIn den Tei
 lnehmerbeiträgen enthalten ist die Teilnahme am Programm und das Zelten au
 f dem Gelände der Sternwarte.\nMitglieder: 10 €\, Nichtmitglieder 15 €\nNi
 chtmitglieder\, die nur zur Radtour am Sonntag kommen zahlen 1 € für die S
 portunfallversicherung.\nVerpflegung: Selbstverpflegung aus der Packtasche
  bzw. Nutzung des Angebotes\, Grillgut und diverse Getränke bei den Astro-
 Klub – Freunden zu bestellen.\nAchtung! Die Übernachtungskapazität ist beg
 renzt\, die Plätze werden daher im Windhundverfahren vergeben.
DTSTART:20210828T080000Z
DTEND:20210829T160000Z
GEO:00;0
LOCATION:
ORGANIZER:
SEQUENCE:1
SUMMARY:Erlebniswochenende mit Fahrrad in Bräsen
TRANSP:OPAQUE
URL:https://test.apricus-ev.de/component/icagenda/aktivwochenende-in-braese
 n?layout=vcal
END:VEVENT
END:VCALENDAR
