BEGIN:VCALENDAR
VERSION:2.0
PRODID:-//TEST Apricus e.V.//NONSGML kigkonsult.se iCalcreator 2.41.92//
CALSCALE:GREGORIAN
METHOD:PUBLISH
UID:35643738-3866-4231-b634-333639636431
X-WR-CALNAME:iCagenda
X-WR-CALDESC:Event Management Extension for Joomla!
X-WR-RELCALID:3E26604A-50F4-4449-8B3E-E4F4932D05B5
X-WR-TIMEZONE:Europe/Berlin
BEGIN:VTIMEZONE
TZID:Europe/Berlin
TZUNTIL:20251026T010000Z
BEGIN:STANDARD
TZNAME:CET
DTSTART:20231029T030000
TZOFFSETFROM:+0200
TZOFFSETTO:+0100
RDATE:20241027T030000
END:STANDARD
BEGIN:DAYLIGHT
TZNAME:CEST
DTSTART:20230326T020000
TZOFFSETFROM:+0100
TZOFFSETTO:+0200
RDATE:20240331T020000
RDATE:20250330T020000
END:DAYLIGHT
END:VTIMEZONE
BEGIN:VEVENT
UID:35616630-3664-4365-a238-386139363439
DTSTAMP:20260425T213433Z
CATEGORIES:Radfahren
CLASS:PUBLIC
DESCRIPTION;ALTREP="CID:<FFFF__=0ABBE548DFE235B58f9e8a93d@coffeebean.com>":
 Frühlingstour nach Geithain\, 17.3.\nDie ca. 60&nbsp\;km lange Fahrradtour
  führt uns durch eine sehr abwechslungsreiche Landschaft - bis Großdeuben 
 befinden wir uns im Grünen und am Fluss. Auf dem weiteren Weg kommen wir d
 urch Böhlen und lassen dessen Industriegebiet rechts liegen. Am Braunkohle
 kraftwerk Lippendorf vorbei und durch die vom Braunkohleabbau geprägte Lan
 dschaft erreichen wir auf Nebenstraßen Neukieritzsch. Zwischen Regis-Breit
 ingen und dem Ort Hasselbach liegt rechts der Hasselbacher See\, ein ehema
 liges Tagebaurestloch\, das jetzt ein renaturiertes Ausflugsgebiet ist. An
 steuern können wir den See jedoch nicht.\nHinter Hasselbach verlassen wir 
 dann den Pleißeradweg in Richtung Frohburg\, der Weg wird ab dort etwas hü
 gelig. Am Campinglatz Pahna können wir noch eine Pause einzulegen\, bevor 
 wir dann das Schloss Frohburg erreichen. Das Schloss können wir uns leider
  nur von außen ansehen\, da das Museum noch im Winterschlaf ist. Hier best
 ünde die Möglichkeit\, in die S-Bahn in Richtung Leipzig oder Geithain ein
 zusteigen\, geplant ist aber\, die weiteren ca. 15&nbsp\;km bis Geithain n
 och auf dem Rad zurückzulegen.\nVon Geithain geht es mit dem Zug zurück na
 ch Leipzig (die RB über Bad Lausick und die S-Bahn über Borna werden dort 
 eingesetzt\, alternativ mit dem RE von Chemnitz).\n\nTreffpunkt: 10:00&nbs
 p\;Uhr an der Sachsenbrücke\, Anton-Bruckner-Allee\, Leipzig\nBringt Euch 
 bitte Picknick und ausreichend Getränke mit\, da es nicht so viele Gaststä
 tten auf der Strecke gibt.\nKosten: Für Apricus- oder ADFC Mitglieder 2&nb
 sp\;€\, für Gäste 3&nbsp\;€ (enthält Versicherungsschutz).\nAnmeldung: ist
  nicht notwendig – wäre aber nett. Dann bitte bei Thomas Stark per Mail un
 ter troeglitz1966@aol.com oder telefonisch unter 0160-97061324 melden.\n\n
 Bis bald\,Thomas
DTSTART:20240317T090000Z
DTEND:20240317T170000Z
GEO:00;0
LOCATION:
ORGANIZER:
SEQUENCE:1
SUMMARY:Anradeln bei Leipzig
TRANSP:OPAQUE
URL:https://test.apricus-ev.de/component/icagenda/anradeln-bei-leipzig-2?la
 yout=vcal
END:VEVENT
END:VCALENDAR
