BEGIN:VCALENDAR
VERSION:2.0
PRODID:-//TEST Apricus e.V.//NONSGML kigkonsult.se iCalcreator 2.41.92//
CALSCALE:GREGORIAN
METHOD:PUBLISH
UID:37333439-3561-4931-b336-633138373938
X-WR-CALNAME:iCagenda
X-WR-CALDESC:Event Management Extension for Joomla!
X-WR-RELCALID:3E26604A-50F4-4449-8B3E-E4F4932D05B5
X-WR-TIMEZONE:Europe/Berlin
BEGIN:VTIMEZONE
TZID:Europe/Berlin
TZUNTIL:20261025T010000Z
BEGIN:STANDARD
TZNAME:CET
DTSTART:20241027T030000
TZOFFSETFROM:+0200
TZOFFSETTO:+0100
RDATE:20251026T030000
END:STANDARD
BEGIN:DAYLIGHT
TZNAME:CEST
DTSTART:20240331T020000
TZOFFSETFROM:+0100
TZOFFSETTO:+0200
RDATE:20250330T020000
RDATE:20260329T020000
END:DAYLIGHT
END:VTIMEZONE
BEGIN:VEVENT
UID:36393930-6161-4364-b139-626138356233
DTSTAMP:20260425T231956Z
CATEGORIES:Radfahren
CLASS:PUBLIC
DESCRIPTION;ALTREP="CID:<FFFF__=0ABBE548DFE235B58f9e8a93d@coffeebean.com>":
 Samstag\, 22.3.: Anradeln Leipziger Parks\nLiebe Apricusse und Gäste\,\ndi
 e Anradeltour mit dem ADFC Leipzig erkundet dieses Jahr einige Parks der M
 esse- und Buchstadt und verlässt die Stadt keinen Meter. Leipzig ist eine 
 der grünsten Großstädte Deutschlands (in den 90ern war es wohl statistisch
  noch die grünste)\, was vor allem am Auenwald aber auch an den vielen kle
 inen und großen Parks liegt.\nWir starten am/im Botanischen Garten und fah
 ren ostwärts in den Stünzer Park\, weiter zum Mariannenpark und an der Par
 the entlang bis zum Abtnaundorfer Park\; einem wunderschönen\, sehr grünen
  Park mit Teich und Pavillon im Nordosten Leipzigs. Dann drehen wir westwä
 rts ab\, durchradeln das Rosental und fahren weiter über den Heuweg\, durc
 h den nordwestlichen Auenwald bis zum Kulkwitzer See\, wo wir im Seegarten
 -Imbiss Pause machen\, uns stärken und die Toilette nutzen können. Nach de
 r Pause und einem möglichen Anbade-Stopp im „Kulki“ geht es weiter zum Wil
 dpark – mal sehen\, ob es da schon Wildschweine oder andere Tiere zu sehen
  gibt - und dann zum Ascheberg im Dölitzer Park\, dem größten Park in Leip
 zig. Vom Berg aus kann man wunderbar und weit in die Stadt und zum Markkle
 eberger See schauen. Das letzte Teilstück führt uns dann über den Fockeber
 g zum Ziel auf der Sachsenbrücke im Clara-Zetkin-Park.\nDie Tour ist ca. 5
 5 km lang und nicht allzu schwer – es gibt ja(fast) keine Höhenmeter in Le
 ipzig.\nEs ist keine Anmeldung nötig – wäre aber nett\, dann bei mkraus70@
 yahoo.de oder unter 0176 3133010.\nDie Teilnahme an der Tour kostet 2€ für
  Apricus- oder ADFC-Mitglieder und 3€ für Gäste.\nBis zum Frühlingsanfang 
 dann!\nEs freut sich\,Der Micha\n\nSonntag\, 23.3.: Industrie im Norden vo
 n Leipzig\nDie heutige Tour führt uns in den Norden von Leipzig. Dort hat 
 sich im Laufe der letzten Jahrzehnte Industrie angesiedelt - grüne Stellen
  von Leipzig werden auch nicht zu kurz kommen.\nTreffpunkt ist 10:00&nbsp\
 ;Uhr die Geschäftsstelle vom ADFC Leipzig e.V. am Ranstädter Steinweg 1.\n
 Im ersten Teilstück kommen wir über kleine Straßen in das Rosenthal. Das i
 st ein kleines\, grünes Gebiet\, in dem viele Leipziger und Gäste Erholung
  suchen. An der Neuen Luppe entlang kommen wir am Rande vom Auensee zur Au
 waldstation. Dort gibt es Informationen über den Auwald. Nach einer kurzen
  Pause geht es über eine Kopfsteinpflasterstraße in den Norden von Leipzig
 \, Nach Überquerung der Bundesstraße nach Schkeuditz beginnen die Gebiete\
 , in denen sich einiges an Industrie angesiedelt hat\, von einer Brücke üb
 er der A14 hat man einen kleinen Überblick von oben.\nBei knapp der Hälfte
  ist dann der Schladitzer See das nächste Ziel. Eine längere Erholungspaus
 e ist dort angesagt\, bei schönem Wetter hat die Eisdiele bestimmt auf. Hi
 er wäre auch die Gelegenheit für ein kleines Picknick mit selbst mitgebrac
 htem - eine Einkehr ist nicht geplant. Nach der Rast geht es weiter nach O
 sten über Rackwitz nach Seehausen. Dabei kommen wir an einer großen Bauste
 lle vorbei\, an der gerade ein weiteres Unternehmen entsteht. Zwischen den
  Gewerbegebieten gibt es einen Golfplatz. Wir lassen dann den Norden hinte
 r uns und begeben uns über Thekla und den Mariannenpark teilweise im Grüne
 n auf den Rückweg in die Innenstadt. Nach ca. 42&nbsp\;km erreichen wir wi
 eder den Startort.\nDie Teilnahme an dieser Tour kostet ebenfalls 2€ für A
 pricus- oder ADFC-Mitglieder und 3€ für Gäste. Eine Anmeldung ist nicht no
 twendig.\nAuf eine schöne\, ruhige Frühlingstour freut sich derThomas
DTSTART:20250322T083000Z
DTEND:20250323T170000Z
GEO:00;0
LOCATION:
ORGANIZER:
SEQUENCE:1
SUMMARY:Anradelwochenende Leipzig und Umgebung
TRANSP:OPAQUE
URL:https://test.apricus-ev.de/component/icagenda/anradelwochenende-leipzig
 -und-umgebung?layout=vcal
END:VEVENT
END:VCALENDAR
