BEGIN:VCALENDAR
VERSION:2.0
PRODID:-//TEST Apricus e.V.//NONSGML kigkonsult.se iCalcreator 2.41.92//
CALSCALE:GREGORIAN
METHOD:PUBLISH
UID:31326632-6232-4438-a365-326538316632
X-WR-CALNAME:iCagenda
X-WR-CALDESC:Event Management Extension for Joomla!
X-WR-RELCALID:3E26604A-50F4-4449-8B3E-E4F4932D05B5
X-WR-TIMEZONE:Europe/Berlin
BEGIN:VTIMEZONE
TZID:Europe/Berlin
TZUNTIL:20250330T010000Z
BEGIN:STANDARD
TZNAME:CET
DTSTART:20221030T030000
TZOFFSETFROM:+0200
TZOFFSETTO:+0100
RDATE:20231029T030000
RDATE:20241027T030000
END:STANDARD
BEGIN:DAYLIGHT
TZNAME:CEST
DTSTART:20230326T020000
TZOFFSETFROM:+0100
TZOFFSETTO:+0200
RDATE:20240331T020000
END:DAYLIGHT
END:VTIMEZONE
BEGIN:VEVENT
UID:35613464-6630-4333-a561-393265366266
DTSTAMP:20260425T221218Z
CATEGORIES:Absage bzw. Verschiebung
CLASS:PUBLIC
DESCRIPTION;ALTREP="CID:<FFFF__=0ABBE548DFE235B58f9e8a93d@coffeebean.com>":
 Da sich leider nicht genügend Leute für die Standbetreuung gefunden haben\
 , werden wir dieses Mal nicht mit einem eigenen Infostand auf dem Umweltfe
 st des Vereins Grüne Liga e.V. am Ziel der Sternfahrt vertreten sein. Im n
 ächsten Jahr versuchen wir es erneut.
DTSTART:20230604T080000Z
DTEND:20230604T150000Z
GEO:00;0
LOCATION:
ORGANIZER:
SEQUENCE:1
SUMMARY:Apricus auf dem Umweltfestival
TRANSP:OPAQUE
URL:https://test.apricus-ev.de/component/icagenda/apricus-auf-dem-umweltfes
 tival?layout=vcal
END:VEVENT
END:VCALENDAR
