BEGIN:VCALENDAR
VERSION:2.0
PRODID:-//TEST Apricus e.V.//NONSGML kigkonsult.se iCalcreator 2.41.92//
CALSCALE:GREGORIAN
METHOD:PUBLISH
UID:64636538-3263-4163-a230-646430323033
X-WR-CALNAME:iCagenda
X-WR-CALDESC:Event Management Extension for Joomla!
X-WR-RELCALID:3E26604A-50F4-4449-8B3E-E4F4932D05B5
X-WR-TIMEZONE:Europe/Berlin
BEGIN:VTIMEZONE
TZID:Europe/Berlin
TZUNTIL:20260329T010000Z
BEGIN:STANDARD
TZNAME:CET
DTSTART:20231029T030000
TZOFFSETFROM:+0200
TZOFFSETTO:+0100
RDATE:20241027T030000
RDATE:20251026T030000
END:STANDARD
BEGIN:DAYLIGHT
TZNAME:CEST
DTSTART:20240331T020000
TZOFFSETFROM:+0100
TZOFFSETTO:+0200
RDATE:20250330T020000
END:DAYLIGHT
END:VTIMEZONE
BEGIN:VEVENT
UID:61396436-3964-4164-b736-366363323866
DTSTAMP:20260425T215226Z
CATEGORIES:Treffen
CLASS:PUBLIC
DESCRIPTION;ALTREP="CID:<FFFF__=0ABBE548DFE235B58f9e8a93d@coffeebean.com>":
 Liebe Apricüsse\,\n\nam kommenden Sonntag\, dem 28. April\, findet auf der
  Straße des 17. Juni zwischen Siegessäule und Brandenburger Tor das 29.&nb
 sp\;Umweltfestival statt: https://www.umweltfestival.de.\nNeben etwa 200 I
 nitiativen\, Organisationen und Vereinen\, die sich dort präsentieren\, gi
 bt es auch ein ganztägiges Bühnenprogramm mit Live-Musik und Diskussionsru
 nden zum Thema Umwelt-\, Natur- und Klimaschutz.\nApricus wird sich dort w
 ieder beteiligen und damit unseren Bekanntheitsgrad steigern! Ihr findet u
 ns von 11 bis 19 Uhr an Stand 199 - kommt gerne vorbei und sagt uns Hallo.
  Natürlich könnt ihr auch gerne mal hinter den Stand springen und Interess
 ierten etwas über unseren Verein erzählen.\nAuf nächsten Sonntag und zahlr
 eiche Besucherinnen &amp\; Besucher auf dem Umweltfest in Berlin freut sic
 h:Das Apricus-Orga-Team!
DTSTART:20240428T080000Z
DTEND:20240428T170000Z
GEO:00;0
LOCATION:Berlin
ORGANIZER:
SEQUENCE:1
SUMMARY:Apricus auf dem Berliner Umweltfest
TRANSP:OPAQUE
URL:https://test.apricus-ev.de/component/icagenda/apricus-berliner-umweltfe
 stival?layout=vcal
END:VEVENT
END:VCALENDAR
