BEGIN:VCALENDAR
VERSION:2.0
PRODID:-//TEST Apricus e.V.//NONSGML kigkonsult.se iCalcreator 2.41.92//
CALSCALE:GREGORIAN
METHOD:PUBLISH
UID:36333361-6264-4563-a537-353437386436
X-WR-CALNAME:iCagenda
X-WR-CALDESC:Event Management Extension for Joomla!
X-WR-RELCALID:3E26604A-50F4-4449-8B3E-E4F4932D05B5
X-WR-TIMEZONE:Europe/Berlin
BEGIN:VTIMEZONE
TZID:Europe/Berlin
TZUNTIL:20271031T010000Z
BEGIN:STANDARD
TZNAME:CET
DTSTART:20251026T030000
TZOFFSETFROM:+0200
TZOFFSETTO:+0100
RDATE:20261025T030000
END:STANDARD
BEGIN:DAYLIGHT
TZNAME:CEST
DTSTART:20250330T020000
TZOFFSETFROM:+0100
TZOFFSETTO:+0200
RDATE:20260329T020000
RDATE:20270328T020000
END:DAYLIGHT
END:VTIMEZONE
BEGIN:VEVENT
UID:37353336-3637-4465-a330-636366333766
DTSTAMP:20260425T214142Z
CATEGORIES:Wandern
CLASS:PUBLIC
DESCRIPTION;ALTREP="CID:<FFFF__=0ABBE548DFE235B58f9e8a93d@coffeebean.com>":
 Hallo liebe Apricusse (und Gäste)\,\nnachdem wir die letzten 2 Jahre unser
  Vereinstreffen im Süden des Ostens\, im Erz- und Zittauer Gebirge abgehal
 ten haben\, verschlägt es uns dieses Jahr mal wieder deutlich nördlicher\,
  an den Werbellinsee unweit Eberswalde. Das Seezeit-Resort liegt direkt am
  See in der wunderschönen Schorfheide. Die Schorfheide (auch Große Heide) 
 ist ein überwiegend geschlossenes\, leicht hügeliges Waldgebiet im Norden 
 Brandenburgs. Sie erstreckt sich über Teile der Landkreise Barnim\, Oberha
 vel und Uckermark. Über Jahrhunderte hatte die Schorfheide eine besondere 
 Bedeutung als Jagdgebiet&nbsp\;– unter anderem für preußische Könige und d
 eutsche Staatsoberhäupter&nbsp\;– und blieb deshalb von größeren Rodungen 
 verschont. Sie ist seit 1990 teilweise in das Biosphärenreservat Schorfhei
 de-Chorin einbezogen.\nFreitag - Anreise:\nWer mit dem ÖPNV anreist\, fähr
 t mit dem Zug nach Eberswalde und von da mit dem Bus 915 direkt nach 'Alte
 nhof\, Seezeit Werbellinsee' um 16:20 Uhr\, 17:20 Uhr (der letzte um 19:20
  Uhr). Der Bus benötigt 37 Minuten. Mit dem Auto bitte an die Adresse navi
 gieren: Joachimsthaler Str. 20\, 16247 Joachimsthal. Bitte seid bis spätes
 tens 18:15 Uhr zum Abendbrot da\, sonst wird es schwierig mit dem Hinkomme
 n und dem Abendessen.\nNach dem Essen und dem Einrichten in den Zimmern bl
 icken wir zurück auf das Apricus-Jahr 2025. Dazu werden wir mal wieder jed
 e Menge Bilder an die Wand werfen und in Erinnerungen schwelgen. Wer Bilde
 r von Veranstaltungen des Jahres hat und uns teilhaben lassen möchte\, der
  kann sie bitte per Stick\, Computer oder CD mitbringen oder irgendwo (Clo
 ud) hochladen\, wo Jens und/oder ich sie abrufen und dann an die Wand beam
 en können (wenn ihr einen Cloudplatz zum Hochladen haben wollt\, meldet Eu
 ch gern).\nSamstag:\nNach dem Frühstück wandern wir am und teilweise um de
 n See und durch die Schorfheide. Wohin genau\, dazu später mehr. Je nach W
 etter können sich die Eisheiligen unter uns auch mal in den See schmeißen.
 \nAm Abend steht das bekannte Programm an: Wir prämieren die Helden des Ja
 hres. Mal sehen\, wen es dieses Jahr erwischt?&nbsp\; Und wir schmeißen wi
 eder kräftig die Würfel um uns\, um herauszufinden\, welches Wichtel-Gesch
 enk für wen bestimmt ist. Denkt bitte alle dran\, ein kleines(!) Wichtel-G
 eschenk für dieses traditionelle Herum-Gewürfel mitzubringen. Ihr müsst da
  nix neues/großes kaufen. Es soll nur Spaß machen!\nSonntag:\nNach dem Frü
 hstück und dem Zimmeraufräumen können wir noch eine Wanderung zum Eberswal
 der Weihnachtsmarkt unternehmen. Da das 15&nbsp\;km sind\, können wir aber
  auch ein Stück mit dem 915er Bus abkürzen. Mal sehen\, wie es passt.\nPre
 ise:\n\n*) Bürgergeldempfänger bitte Nachweis vorlegen**) Die Preise für K
 inder und Jugendliche bis 26 Jahre sind durch den Verein gestützt/reduzier
 t.\n  \n\n\n\n\n\nTN-Gruppe\nApricus\nGäste\n\n\n\n\nErwachsene\n\n105\n11
 5\n\n\nBürgergeldempfänger */ Studenten ab 27 Jahre\n\n90\n100\n\n\nJugend
 liche 16-26 Jahre **\n\n75\n79\n\n\nKinder/Jugendliche 3-15 Jahre **\n\n60
 \n64\n\n\n\n{loadmoduleid 164}\nIm Preis enthalten:\n\nÜbernachtung (incl.
 Bettwäsche)\, Frühstück und Abendbrot\n\nNicht enthalten:\n\nMittagessen S
 amstag und ggf. Sonntag\nAn-\, Abreisekosten\n\nMitbringen:\n\nWichtelgesc
 henke\nFotos von 2025er Veranstaltungen per Stick oder Cloud\n\nAnmelden:
 \nBitte meldet Euch bis spätestens zum 8. 12.10.&nbsp\;(verlängert) bei Mi
 chael Kraus unter per Mail an mkraus70@yahoo.de an. Sorry für den frühen T
 ermin\, aber das Resort muss zeitnah planen.\nWie immer gilt die Anmeldung
  nur bei gleichzeitger Einzahlung des Teilnehmerbeitrags (s.o.) auf das&nb
 sp\; {loadposition ap-kontodaten}\nBitte gebt bei der Anmeldung an\, wann 
 ihr kommt und ob ihr vegetarisch essen wollt.\nAuf ein schönes – vielleich
 t winterliches oder zum Baden einladendes - Wochenende am Werbellinsee fre
 ut sichDer Micha
DTSTART:20251205T170000Z
DTEND:20251207T170000Z
GEO:00;0
LOCATION:
ORGANIZER:
SEQUENCE:1
SUMMARY:Apricus-Jahrestreffen im Seezeit-Resort am Werbellinsee (bei Ebersw
 alde)
TRANSP:OPAQUE
URL:https://test.apricus-ev.de/component/icagenda/apricus-jahrestreffen-2?l
 ayout=vcal
END:VEVENT
END:VCALENDAR
