BEGIN:VCALENDAR
VERSION:2.0
PRODID:-//TEST Apricus e.V.//NONSGML kigkonsult.se iCalcreator 2.41.92//
CALSCALE:GREGORIAN
METHOD:PUBLISH
UID:33396265-3033-4264-b538-313563386163
X-WR-CALNAME:iCagenda
X-WR-CALDESC:Event Management Extension for Joomla!
X-WR-RELCALID:3E26604A-50F4-4449-8B3E-E4F4932D05B5
X-WR-TIMEZONE:Europe/Berlin
BEGIN:VTIMEZONE
TZID:Europe/Berlin
TZUNTIL:20221030T010000Z
BEGIN:STANDARD
TZNAME:CET
DTSTART:20201025T030000
TZOFFSETFROM:+0200
TZOFFSETTO:+0100
RDATE:20211031T030000
END:STANDARD
BEGIN:DAYLIGHT
TZNAME:CEST
DTSTART:20200329T020000
TZOFFSETFROM:+0100
TZOFFSETTO:+0200
RDATE:20210328T020000
RDATE:20220327T020000
END:DAYLIGHT
END:VTIMEZONE
BEGIN:VEVENT
UID:64653466-3235-4638-b331-616634316332
DTSTAMP:20260425T213431Z
CATEGORIES:Wandern
CLASS:PUBLIC
DESCRIPTION;ALTREP="CID:<FFFF__=0ABBE548DFE235B58f9e8a93d@coffeebean.com>":
 Liebe Apricusse\, liebe Gäste\,\nlasst uns am nächsten Wochenende nochmals
  das beste aus unserem unverschuldeten Single- oder Kleingruppendasein mac
 hen und gemeinsam etwas an den verschiedenen Orten unternehmen\, an denen 
 wir uns aufhalten.\nOsama machte den Vorschlag\, den nächsten Hausberg zu 
 besteigen\, egal ob der nun 115 m\, 1.215 m oder noch höher ist. Da jetzt 
 tatsächlich Winter ist\, bietet sich an vielen Orten auch eine Skiwanderun
 g an. Jede andere Aktivität entsprechend unseren Wettbewerbsregeln ist auc
 h möglich.\nWer mitmachen will\, unternimmt einfach allein\, zu zweit oder
  mit den Angehörigen des eigenen Haushalts am 06. oder 07. Februar eine Wa
 nderung\, Rad- oder Skitour\, wo auch immer ihr gerade seid. Wir fühlen un
 s verbunden\, weil wir alle zur gleichen Zeit unterwegs sind.\nIhr braucht
  dazu nur einen Nachweis für das\, was ihr unternommen habt (am besten ein
 e gute alte (ausgefüllte) Fahrtenkontrollkarte oder einen GPX-Track mit mi
 ndestens einem Foto von unterwegs). Dies schickt ihr dann als Meldung an J
 ens (JensA@apricus-ev.de\, Postadresse folgt) und ergänzt noch folgende An
 gaben:\n\nNamen der Teilnehmer (bei neuen zusätzlich auch das Geburtsdatum
 )\nArt der Aktivität\nStreckenlänge (mindestens 30 km bei Radtouren / 7\,5
  km bei (Ski-)Wanderungen)\neventuelle Kulturpunkte\n\nEs ist die erste Ak
 tivität des Apricus-Wettberwerbs 2021. Wegen der geltenden Einschränkungen
  handelt es sich jedoch um Individual-\, und nicht um Gruppensport.\nEs en
 tfällt auch der sonst übliche Versicherungseuro für Gäste \, da es keine o
 ffizielle Vereinsveranstaltung ist\, sonden eine Reihe von Einzelaktivität
 en.\nAnschließend tauschen wir uns aus\, wer wo was unternommen hat und es
  soll dann hier eine kleine Darstellung der verschiedenen Touren geben - b
 itte schickt uns dazu ein paar Bilder und ein paar Zeilen eurer Aktivität 
 per Mail an MarianneA@apricus-ev.de. Wer bei Facebook ist\, kann vielleich
 t direkt ein Bild mit einer kleinen Beschreibung auf unserer Fanpage 'Apri
 cusFreizeitsport' teilen..\nViel Spaß beim MitmachenMarianne und Frank
DTSTART:20210206T090000Z
DTEND:20210207T180000Z
GEO:00;0
LOCATION:
ORGANIZER:
SEQUENCE:1
SUMMARY:Apricus regional\, Teil 2
TRANSP:OPAQUE
URL:https://test.apricus-ev.de/component/icagenda/apricus-regional-2?layout
 =vcal
END:VEVENT
END:VCALENDAR
