BEGIN:VCALENDAR
VERSION:2.0
PRODID:-//TEST Apricus e.V.//NONSGML kigkonsult.se iCalcreator 2.41.92//
CALSCALE:GREGORIAN
METHOD:PUBLISH
UID:31663064-3766-4066-b466-323562376136
X-WR-CALNAME:iCagenda
X-WR-CALDESC:Event Management Extension for Joomla!
X-WR-RELCALID:3E26604A-50F4-4449-8B3E-E4F4932D05B5
X-WR-TIMEZONE:Europe/Berlin
BEGIN:VTIMEZONE
TZID:Europe/Berlin
TZUNTIL:20221030T010000Z
BEGIN:STANDARD
TZNAME:CET
DTSTART:20201025T030000
TZOFFSETFROM:+0200
TZOFFSETTO:+0100
RDATE:20211031T030000
END:STANDARD
BEGIN:DAYLIGHT
TZNAME:CEST
DTSTART:20210328T020000
TZOFFSETFROM:+0100
TZOFFSETTO:+0200
RDATE:20220327T020000
END:DAYLIGHT
END:VTIMEZONE
BEGIN:VEVENT
UID:62653930-3961-4236-b039-653038343263
DTSTAMP:20260425T213429Z
CATEGORIES:Radfahren
CLASS:PUBLIC
DESCRIPTION;ALTREP="CID:<FFFF__=0ABBE548DFE235B58f9e8a93d@coffeebean.com>":
 Liebe Apricusse\, liebe Gäste\,\nwegen der leider immer noch komplizierten
  Pandemielage ist die geplante E11-Wanderung zu Ostern nicht möglich - die
 se wird in den Herbst verschoben (s.a. E11-Wanderung\, Teil 15). Anstelle 
 dessen möchten wir euch ein weiteres Mal zu einem 'Apricus regional' aufru
 fen\, wobei über Ostern vier Tage zur Verfügung stehen\, um 'was Schönes d
 raußen zu unternehmen - wie zuvor ausprobiert: gemeinsam aber kontaktarm a
 n den verschiedenen Orten\, an denen wir uns aufhalten.\nDa euch eigentlic
 h eine Tour versprochen war\, die an der Elbe bei Coswig bzw. Dessau enden
  sollte\, wäre mein Mottovorschlag dieses Mal 'Aktivität am oder auf dem F
 luss'. Wer es einrichten kann\, wandert oder fährt mit dem Fahrrad an der 
 Elbe\, einem ihrer Zuflüsse oder an einem anderen Fluss\; vielleicht biete
 t sich irgendwo auch schon eine Paddeltour an?\nWer mitmachen will\, unter
 nimmt einfach allein\, zu zweit oder mit weiteren Personen - entsprechend 
 der jeweiligen regionalen Bestimmungen - an den Ostertagen eine Wanderung\
 , Rad- oder Paddeltour\, wo auch immer ihr gerade seid. Wir fühlen uns ver
 bunden\, weil wir alle zur gleichen Zeit unterwegs sind.\nIhr braucht dazu
  nur einen Nachweis für das\, was ihr unternommen habt (am besten eine gut
 e alte (ausgefüllte) Fahrtenkontrollkarte oder einen GPX-Track mit mindest
 ens einem Foto von unterwegs). Dies schickt ihr dann als Meldung an Jens (
 JensA@apricus-ev.de\, Postadresse folgt) und ergänzt noch folgende Angaben
 :\n\nNamen der Teilnehmer (bei neuen zusätzlich auch das Geburtsdatum)\nAr
 t der Aktivität\nStreckenlänge (mindestens 30 km bei Radtouren / 7\,5 km b
 ei Wanderungen oder Paddeltouren)\neventuelle Kulturpunkte\n\nWegen der ge
 ltenden Einschränkungen handelt es sich um Individual-\, und nicht um Grup
 pensport. Es entfällt der sonst übliche Versicherungseuro für Gäste \, da 
 es keine offizielle Vereinsveranstaltung ist\, sonden eine Reihe von Einze
 laktivitäten.\nAnschließend tauschen wir uns aus\, wer wo was unternommen 
 hat und es soll dann hier eine kleine Darstellung der verschiedenen Touren
  geben - bitte schickt uns dazu ein paar Bilder und ein paar Zeilen eurer 
 Aktivität per Mail an MarianneA@apricus-ev.de. Wer bei Facebook ist\, kann
  vielleicht direkt ein Bild mit einer kleinen Beschreibung auf unserer Fan
 page 'ApricusFreizeitsport' teilen..\nViel Spaß beim MitmachenMarianne und
  Frank\n&nbsp\;\n&nbsp\;
DTSTART:20210402T070000Z
DTEND:20210405T180000Z
GEO:00;0
LOCATION:
ORGANIZER:
SEQUENCE:1
SUMMARY:Apricus regional\, Teil 3
TRANSP:OPAQUE
URL:https://test.apricus-ev.de/component/icagenda/apricus-regional-3?layout
 =vcal
END:VEVENT
END:VCALENDAR
