BEGIN:VCALENDAR
VERSION:2.0
PRODID:-//TEST Apricus e.V.//NONSGML kigkonsult.se iCalcreator 2.41.92//
CALSCALE:GREGORIAN
METHOD:PUBLISH
UID:34653864-6535-4737-a466-383761626665
X-WR-CALNAME:iCagenda
X-WR-CALDESC:Event Management Extension for Joomla!
X-WR-RELCALID:3E26604A-50F4-4449-8B3E-E4F4932D05B5
X-WR-TIMEZONE:Europe/Berlin
BEGIN:VTIMEZONE
TZID:Europe/Berlin
TZUNTIL:20230326T010000Z
BEGIN:STANDARD
TZNAME:CET
DTSTART:20201025T030000
TZOFFSETFROM:+0200
TZOFFSETTO:+0100
RDATE:20211031T030000
RDATE:20221030T030000
END:STANDARD
BEGIN:DAYLIGHT
TZNAME:CEST
DTSTART:20210328T020000
TZOFFSETFROM:+0100
TZOFFSETTO:+0200
RDATE:20220327T020000
END:DAYLIGHT
END:VTIMEZONE
BEGIN:VEVENT
UID:32333530-3164-4666-b561-616666346138
DTSTAMP:20260425T213429Z
CATEGORIES:Radfahren
CLASS:PUBLIC
DESCRIPTION;ALTREP="CID:<FFFF__=0ABBE548DFE235B58f9e8a93d@coffeebean.com>":
 Liebe Apricusse\, liebe Gäste\,\nwegen der leider immer noch komplizierten
  Pandemielage bieten wir euch 'Apricus regional\, Teil 4' an\, um 'was Sch
 önes draußen zu unternehmen - wie zuvor ausprobiert: gemeinsam aber kontak
 tarm an den verschiedenen Orten\, an denen wir uns aufhalten.\nEinen Vorsc
 hlag\, die 'Radtour nach Polenzko' findet ihr hier am Ende der Beschreibun
 g. In Anlehnung an diese Tour schlagen wir als Motto dieses Mal 'Dorfkirch
 en' für eure eigene Unternehmung vor. So eng muss das aber nicht gesehen w
 erden... jede Apricus-Aktivität zählt.\nWer mitmachen will\, unternimmt ei
 nfach allein\, zu zweit oder mit weiteren Personen - entsprechend der jewe
 iligen regionalen Bestimmungen - am Wochenende 1./2. Mai eine Wanderung\, 
 Rad- oder Paddeltour\, wo auch immer ihr gerade seid. Wir fühlen uns verbu
 nden\, weil wir alle zur gleichen Zeit unterwegs sind.\nIhr braucht dazu n
 ur einen Nachweis für das\, was ihr unternommen habt (am besten eine gute 
 alte (ausgefüllte) Fahrtenkontrollkarte oder einen GPX-Track mit mindesten
 s einem Foto von unterwegs). Dies schickt ihr dann als Meldung an Jens (Je
 nsA@apricus-ev.de\, Postadresse folgt) und ergänzt noch folgende Angaben:
 \n\nNamen der Teilnehmer (bei neuen zusätzlich auch das Geburtsdatum)\nArt
  der Aktivität\nStreckenlänge (mindestens 30 km bei Radtouren / 7\,5 km be
 i Wanderungen oder Paddeltouren)\neventuelle Kulturpunkte\n\nWegen der gel
 tenden Einschränkungen handelt es sich um Individual-\, und nicht um Grupp
 ensport. Es entfällt der sonst übliche Versicherungseuro für Gäste\, da es
  keine offizielle Vereinsveranstaltung ist\, sonden eine Reihe von Einzela
 ktivitäten.\nAnschließend tauschen wir uns aus\, wer wo was unternommen ha
 t und es soll dann hier eine kleine Darstellung der verschiedenen Touren g
 eben - bitte schickt uns dazu ein paar Bilder und ein paar Zeilen eurer Ak
 tivität per Mail an MarianneA@apricus-ev.de. Wer bei Facebook ist\, kann v
 ielleicht direkt ein Bild mit einer kleinen Beschreibung auf unserer Fanpa
 ge 'ApricusFreizeitsport' teilen..\nViel Spaß beim MitmachenMarianne und F
 rank\n\nRadtour nach Polenzko oder auch: Dorfkirchentour\nAllmählich den Ü
 berblick verlierend\, was wo gerade noch geht oder auch nicht\, möchte ich
  für den 1.&nbsp\;Mai die Radtour nach Polenzko anbieten.\nTreffpunkt ist 
 am 1.&nbsp\;Mai\, 10:30 Uhr der Bahnhof Coswig (Südseite)\nDann fahren wir
  in kleinen Gruppen mit ausreichend Abstand (macht man ja eigentlich autom
 atisch auf dem Rad). Alternativ kann natürlich jeder auch die Tour komplet
 t separat fahren und durch Fotos / ggf. Essenquittung belegen.\nVom Bahnho
 f geht es zunächst Richtung Schloss und am Rande der Elbaue nach Buro und 
 Klieken. Hier ist der erste Stopp an der Kirche mit hoffentlich kurzem Bli
 ck ins Innere mit Cranachaltar. An der Steinmühle vorbei und unter Windräd
 ern entlang gelangen wir auf kleinen Straßen nach Thießen und nach Ragösen
 . Hier im Rosenhof (ca. 100&nbsp\;m nach rechts von der Straßengabelung in
  Ragösen) kann\, wer möchte\, Essen bestellen und es u.U. auch im Garten h
 interm Haus verzehren. Das wäre zumindest meine Empfehlung\, denn danach k
 ommt nicht mehr viel bzw. nichts zur Einkehr…\nVon hier aus geht es wieder
  auf kleinen Straßen&nbsp\;/ asphaltierten Wegen über Felder und an kleine
 n Wäldchen und an Kleinleitzkau vorbei nach Bornum. Kurz dahinter haben wi
 r dann Trüben erreicht mit der Osterkirche (romanische Feldsteinkirche\, w
 o anschaulich auch für Nichtchristen die Ostergeschichte dargestellt wird)
 . In Trüben haben wir unseren westlichsten Punkt der Tour erreicht\, jetzt
  geht`s zurück auf dem Flämingradweg über Garitz (Dorfkirchenmuseum\, fall
 s Zeit ist) nach Polenzko. Hier gibt es nun die Weihnachtskirche zu sehen 
 mit angeblich der größten Weihnachtskrippe Deutschlands.\nZurück haben wir
  jetzt mehrere Optionen\, vorzugsweise über Bärenthoren durch den Wald nac
 h Stackelitz. Dann geht's weiter nach Jeber-Bergfrieden\, Weiden und Bräse
 n und nach Buko. Das könnte manchem etwas bekannt vorkommen (z.B. kamen wi
 r auf der Radtour nach Reuden und Bräsen auch hier lang). Evtl. könnte man
  dort auch etwas bestellen\, aber für Mittag etwas spät! Ab Buko fahren wi
 r natürlich wieder über kleine Straßen und Wege nach Zieko und kurz danach
  nach Coswig.\nLänge: ca. 65&nbsp\;km\nBei viel Lust und Laune … natürlich
  ausbaubar\, z.B. ab Polenzko nach Golmenglin mit der angeblich letzten er
 haltenen Ausspanne Sachsen-Anhalts\, und von hier durch den Wald nach Schl
 eesen (Kirchenruine) und Stackelitz\, weiter wie oben.\nAuf ein Wiedersehe
 n mit Euch freut sich\,Andreas
DTSTART:20210501T083000Z
DTEND:20210502T160000Z
GEO:00;0
LOCATION:
ORGANIZER:
SEQUENCE:1
SUMMARY:Apricus regional\, Teil 4
TRANSP:OPAQUE
URL:https://test.apricus-ev.de/component/icagenda/apricus-regional-4?layout
 =vcal
END:VEVENT
END:VCALENDAR
