BEGIN:VCALENDAR
VERSION:2.0
PRODID:-//TEST Apricus e.V.//NONSGML kigkonsult.se iCalcreator 2.41.92//
CALSCALE:GREGORIAN
METHOD:PUBLISH
UID:37333963-3834-4034-a238-303939333231
X-WR-CALNAME:iCagenda
X-WR-CALDESC:Event Management Extension for Joomla!
X-WR-RELCALID:3E26604A-50F4-4449-8B3E-E4F4932D05B5
X-WR-TIMEZONE:Europe/Berlin
BEGIN:VTIMEZONE
TZID:Europe/Berlin
TZUNTIL:20231029T010000Z
BEGIN:STANDARD
TZNAME:CET
DTSTART:20211031T030000
TZOFFSETFROM:+0200
TZOFFSETTO:+0100
RDATE:20221030T030000
END:STANDARD
BEGIN:DAYLIGHT
TZNAME:CEST
DTSTART:20210328T020000
TZOFFSETFROM:+0100
TZOFFSETTO:+0200
RDATE:20220327T020000
RDATE:20230326T020000
END:DAYLIGHT
END:VTIMEZONE
BEGIN:VEVENT
UID:65393663-3561-4237-a439-353837393835
DTSTAMP:20260425T213428Z
CATEGORIES:Wandern
CLASS:PUBLIC
DESCRIPTION;ALTREP="CID:<FFFF__=0ABBE548DFE235B58f9e8a93d@coffeebean.com>":
 Liebe Apricusse\, liebe Gäste\,\nda jetzt kurzfristig sicher kein größeres
  Treffen möglich sein wird\, möchten wir wieder einmal ein Apricus-Regiona
 l-Wochenende mit kleinen Touren in der heimischen Umgebung anbieten. Thema
  diesmal: „Wasser“ – also eine Wanderung oder eine Skitour o.ä. an bzw. um
  einen See oder an einem Fluss oder Bach entlang.\nWer mitmachen will\, un
 ternimmt einfach allein\, zu zweit oder mit weiteren Personen - entspreche
 nd der jeweiligen regionalen Bestimmungen - am Wochenende 8./9. Januar ein
 e Wanderung mit oder ohne Skier\, wo auch immer ihr gerade seid. Wir fühle
 n uns verbunden\, weil wir alle zur gleichen Zeit unterwegs sind.\nIhr bra
 ucht dazu nur einen Nachweis für das\, was ihr unternommen habt (am besten
  eine gute alte (ausgefüllte) Fahrtenkontrollkarte oder einen GPX-Track mi
 t mindestens einem Foto von unterwegs). Dies schickt ihr dann als Meldung 
 per Mail an unseren Wettbewerbsreferenten Jens (wettbewerb@apricus-ev.de) 
 und ergänzt noch folgende Angaben:\n\nNamen der Teilnehmer (bei neuen zusä
 tzlich auch das Geburtsdatum)\nArt der Aktivität\nStreckenlänge (mindesten
 s 30 km bei Radtouren / 7\,5 km bei Wanderungen oder Paddeltouren)\neventu
 elle Kulturpunkte\n\nWegen der geltenden Einschränkungen handelt es sich u
 m Individual-\, und nicht um Gruppensport. Es entfällt der sonst übliche V
 ersicherungseuro für Gäste\, da es keine offizielle Vereinsveranstaltung i
 st\, sonden eine Reihe von Einzelaktivitäten.\nAnschließend tauschen wir u
 ns aus\, wer wo was unternommen hat und es soll dann hier eine kleine Dars
 tellung der verschiedenen Touren geben - bitte schickt uns dazu ein paar B
 ilder und ein paar Zeilen eurer Aktivität per Mail an medien@apricus-ev.de
  (Marianne). Wer bei Facebook ist\, kann vielleicht direkt ein Bild mit ei
 ner kleinen Beschreibung auf unserer Fanpage 'ApricusFreizeitsport' teilen
 ..\nViel Spaß beim MitmachenDer Micha
DTSTART:20220108T080000Z
DTEND:20220109T170000Z
GEO:00;0
LOCATION:
ORGANIZER:
SEQUENCE:1
SUMMARY:Apricus regional\, Teil 5
TRANSP:OPAQUE
URL:https://test.apricus-ev.de/component/icagenda/apricus-regional-5?layout
 =vcal
END:VEVENT
END:VCALENDAR
