BEGIN:VCALENDAR
VERSION:2.0
PRODID:-//TEST Apricus e.V.//NONSGML kigkonsult.se iCalcreator 2.41.92//
CALSCALE:GREGORIAN
METHOD:PUBLISH
UID:37396266-3366-4666-a265-656132346130
X-WR-CALNAME:iCagenda
X-WR-CALDESC:Event Management Extension for Joomla!
X-WR-RELCALID:3E26604A-50F4-4449-8B3E-E4F4932D05B5
X-WR-TIMEZONE:Europe/Berlin
BEGIN:VTIMEZONE
TZID:Europe/Berlin
TZUNTIL:20221030T010000Z
BEGIN:STANDARD
TZNAME:CET
DTSTART:20201025T030000
TZOFFSETFROM:+0200
TZOFFSETTO:+0100
RDATE:20211031T030000
END:STANDARD
BEGIN:DAYLIGHT
TZNAME:CEST
DTSTART:20200329T020000
TZOFFSETFROM:+0100
TZOFFSETTO:+0200
RDATE:20210328T020000
RDATE:20220327T020000
END:DAYLIGHT
END:VTIMEZONE
BEGIN:VEVENT
UID:37653331-3235-4239-b331-653965313133
DTSTAMP:20260425T213433Z
CATEGORIES:Wandern
CLASS:PUBLIC
DESCRIPTION;ALTREP="CID:<FFFF__=0ABBE548DFE235B58f9e8a93d@coffeebean.com>":
 Dieses Jahr sollte das alljährliche Jahresabschlusstreffen des Vereins am 
 ersten Adventswochenende stattfinden. Leider fällt dies noch in den Zeitra
 um der verstärkten Anti-Corona-Maßnahmen. Anstelle dessen möchten wir mit 
 euch ein erstes 'Apricus regional' starten:\n\nLiebe Apricusse\, liebe Gäs
 te\,\nder Winter liegt vor uns und aus den bekannten Gründen müssen wir le
 ider auf vieles verzichten\, was wir sonst so miteinander erleben.\nDas Ja
 hrestreffen fällt aus. Was nun?\nWir haben uns gedacht\, dass es schön wär
 e\, trotzdem am geplanten Wochenende gemeinsam in der Natur sportlich akti
 v zu sein\, wenn auch an verschiedenen Orten.\nWer mitmachen will\, untern
 immt einfach allein\, zu zweit oder in einer kleinen Gruppe (maximal zwei 
 Haushalte und höchstens 10&nbsp\;Leute) am 28.&nbsp\;oder 29.&nbsp\;Novemb
 er eine Wanderung\, Rad- oder Skitour\, wo auch immer ihr gerade seid. Wir
  fühlen uns verbunden\, weil wir alle zur gleichen Zeit unterwegs sind.\nU
 nsere verschiedenen Aktivitäten sollen dann hier miteinander geteilt werde
 n und auch in den Wettbewerb eingehen. Für den Wettbewerb müsstet ihr eine
  Meldung an Jens (JensA@apricus-ev.de\, Postadresse folgt) schicken\, in d
 er folgende Angaben enthalten sind:\n\nNamen der Teilnehmer (bei neuen zus
 ätzlich auch das Geburtsdatum)\nArt der Aktivität\nStreckenlänge (mindeste
 ns 30 km bei Radtouren / 7\,5 km bei Wanderungen)\neventuelle Kulturpunkte
 \n\nAls Nachweis legt ihr am besten eine gute alte (ausgefüllte) Fahrtenko
 ntrollkarte oder einen GPX-Track mit mindestens einem Foto von unterwegs b
 ei.\nAuf unserer Homepage wird es danach eine Darstellung der verschiedene
 n Touren geben\, wenn ihr uns ein paar Fotos und ein paar Anmerkungen dazu
  schickt (Mail an MarianneA@apricus-ev.de). Wer bei Facebook ist\, kann vi
 elleicht direkt ein Bild mit einer kleinen Beschreibung auf unserer Fanpag
 e 'ApricusFreizeitsport' teilen.\nViel Spaß beim Mitmachen!\nMarianne und 
 Frank\n\nP.S.: Für diese Veranstaltung wurde zusätzlich durch den Vorstand
  eine Verlängerung des Jahreswettbewerbszeitraums beschlossen.
DTSTART:20201128T090000Z
DTEND:20201129T180000Z
GEO:00;0
LOCATION:
ORGANIZER:
SEQUENCE:1
SUMMARY:Apricus regional
TRANSP:OPAQUE
URL:https://test.apricus-ev.de/component/icagenda/apricus-regional?layout=v
 cal
END:VEVENT
END:VCALENDAR
