BEGIN:VCALENDAR
VERSION:2.0
PRODID:-//TEST Apricus e.V.//NONSGML kigkonsult.se iCalcreator 2.41.92//
CALSCALE:GREGORIAN
METHOD:PUBLISH
UID:62633938-3438-4533-b430-636233323365
X-WR-CALNAME:iCagenda
X-WR-CALDESC:Event Management Extension for Joomla!
X-WR-RELCALID:3E26604A-50F4-4449-8B3E-E4F4932D05B5
X-WR-TIMEZONE:Europe/Berlin
BEGIN:VTIMEZONE
TZID:Europe/Berlin
TZUNTIL:20210328T010000Z
BEGIN:STANDARD
TZNAME:CET
DTSTART:20181028T030000
TZOFFSETFROM:+0200
TZOFFSETTO:+0100
RDATE:20191027T030000
RDATE:20201025T030000
END:STANDARD
BEGIN:DAYLIGHT
TZNAME:CEST
DTSTART:20190331T020000
TZOFFSETFROM:+0100
TZOFFSETTO:+0200
RDATE:20200329T020000
END:DAYLIGHT
END:VTIMEZONE
BEGIN:VEVENT
UID:35383638-6432-4536-b262-663036653833
DTSTAMP:20260420T221811Z
CATEGORIES:Laufen
CLASS:PUBLIC
DESCRIPTION;ALTREP="CID:<FFFF__=0ABBE548DFE235B58f9e8a93d@coffeebean.com>":
 Aus gesundheitlichen Gründen kann ich dieses Jahr nicht beim Auen&shy\;see
 &shy\;lauf über die 50 km antreten. Darum fällt diese Veranstaltung für Ap
 ricus aus.\nWer dennoch teilnehmen möchte\, kann sich gern bei mir per Mai
 l unter mkraus70@yahoo.de oder telefonisch unter 0176-31330108 melden und 
 ich vermittle dann alles Wichtige. (s.a. Homepage der Veranstaltung)\nMich
 a
DTSTART:20190817T070000Z
DTEND:20190817T150000Z
GEO:00;0
LOCATION:
ORGANIZER:
SEQUENCE:1
SUMMARY:'Auenseelauf' Leipzig
TRANSP:OPAQUE
URL:https://test.apricus-ev.de/component/icagenda/auenseelauf-leipzig?iccal
 date=2027-04-1
END:VEVENT
END:VCALENDAR
