BEGIN:VCALENDAR
VERSION:2.0
PRODID:-//TEST Apricus e.V.//NONSGML kigkonsult.se iCalcreator 2.41.92//
CALSCALE:GREGORIAN
METHOD:PUBLISH
UID:34316263-3935-4638-a461-653337636135
X-WR-CALNAME:iCagenda
X-WR-CALDESC:Event Management Extension for Joomla!
X-WR-RELCALID:3E26604A-50F4-4449-8B3E-E4F4932D05B5
X-WR-TIMEZONE:Europe/Berlin
BEGIN:VTIMEZONE
TZID:Europe/Berlin
TZUNTIL:20210328T010000Z
BEGIN:STANDARD
TZNAME:CET
DTSTART:20181028T030000
TZOFFSETFROM:+0200
TZOFFSETTO:+0100
RDATE:20191027T030000
RDATE:20201025T030000
END:STANDARD
BEGIN:DAYLIGHT
TZNAME:CEST
DTSTART:20190331T020000
TZOFFSETFROM:+0100
TZOFFSETTO:+0200
RDATE:20200329T020000
END:DAYLIGHT
END:VTIMEZONE
BEGIN:VEVENT
UID:36313936-6237-4866-b332-666162656331
DTSTAMP:20260425T221241Z
CATEGORIES:Radfahren
CLASS:PUBLIC
DESCRIPTION;ALTREP="CID:<FFFF__=0ABBE548DFE235B58f9e8a93d@coffeebean.com>":
 Hallo Leute\, auch dieses Jahr findet die weltgrößte Fahrraddemonstration 
 und damit die ADFC-Sternfahrt nach Berlin statt. Dabei setzen sich etliche
  tausend&nbsp\;Menschen auf die Räder\, um die Brandenburger und Berliner 
 Straßen inklusive der Stadtautobahn und der Avus zu erobern. Das Ganze fin
 det am Sonntag den 02.&nbsp\;Juni statt. Genauere Informationen zur Verans
 taltung findet Ihr hier: Sternfahrt Berlin auf der ADFC-Seite.\nWichtig: D
 as ganze findet im Rahmen des Umweltfestes Berlin statt. Dort wird sich un
 ser kleiner Verein auch mit einem kleinen Info-Stand präsentieren s.a. .\n
 2019 starten wir zum dritten Mal einen Zubringer aus Leipzig als gemeinsam
 en Strahl mit dem ADFC Leipzig. Wer Lust hat\, mal was Verrücktes zu mache
 n und ab Leipzig oder irgendwo unterwegs mit einzusteigen… hier die Fahrte
 ntabelle\, wann wir wo sein werden:\nZeitplan und Treffpunkte\n\n\n1\nLeip
 zig Hbf.\, Westseite\nkm 0\nab 01:20&nbsp\;Uhr\n\n2\nBad Düben\, Brunnen /
  B107\nkm 37\nab 03:20&nbsp\;Uhr\n\n3\nWittenberg\, Aral-Tankstelle (Berli
 ner Straße)\nkm 73\nan 05:05&nbsp\;Uhr ab 05:30&nbsp\;Uhr\n\n4\nTreuenbrie
 tzen\, Bahnhof\nkm 102\nab 07:05&nbsp\;Uhr\n\n5\nBorkheide\, Bahnhof\nkm 1
 21\nab 08:10&nbsp\;Uhr\n\n6\nWerder (Havel)\, Bahnhof *\nkm 143\nan 09:15&
 nbsp\;Uhr\n\n\n*) Bei einer kleinen Verspätung stoßen wir zur ADFC-Sternfa
 hrt auf der B1 in Werder dazu&nbsp\;- sollte es noch später werden\, fahre
 n wir direkt nach Potsdam und lassen Werder links liegen.\n\n\n\nIn Werder
  beginnt die offizielle Sternfahrt\, zu deren Teilnahme ich Euch gern moti
 vieren möchte. Der Start hier ist 09:30&nbsp\;Uhr. In Potsdam (Hbf) geht e
 s 11:30&nbsp\;Uhr weiter\, Berlin-Mitte wird dann ca. 14:00&nbsp\;Uhr erre
 icht.\nTeilnahme:\nWer früher als ab Werder mitfahren möchte\, meldet sich
  bitte bei mir (Michael Kraus)\, damit wir uns wegen des Treffens und alle
 m Weiteren abstimmen können: entweder telefonisch unter 0176-31330108 oder
  per Mail mkraus70&lt\;@&gt\;yahoo.de.\nWer in Werder oder später hinzukom
 men möchte\, braucht nicht Bescheid zu sagen - kann das aber trotzdem mach
 en\, damit wir uns in der Menge dann auch finden.\nKosten:\nDie Anreise ab
  Leipzig als Apricus-&nbsp\;/ ADFC Leipzig Tour kostet 2&nbsp\;€ für die O
 rganisation (Gäste +1&nbsp\;€ als Ver&shy\;siche&shy\;rungs&shy\;beitrag).
 \nAlso dann bis zum 02.Juni - früh 1:20&nbsp\;Uhr in Leipzig… oder irgendw
 o dazwischen (siehe Zeitplan)!\nEs freuen sich Micha und Jens
DTSTART:20190601T220000Z
DTEND:20190602T140000Z
GEO:00;0
LOCATION:
ORGANIZER:
SEQUENCE:1
SUMMARY:Berliner Sternradtour - Zubringer ab Leipzig
TRANSP:OPAQUE
URL:https://test.apricus-ev.de/component/icagenda/berliner-sternradtour-zub
 ringer-ab-leipzig?layout=vcal
END:VEVENT
END:VCALENDAR
