BEGIN:VCALENDAR
VERSION:2.0
PRODID:-//TEST Apricus e.V.//NONSGML kigkonsult.se iCalcreator 2.41.92//
CALSCALE:GREGORIAN
METHOD:PUBLISH
UID:32616630-3430-4630-a363-353338336139
X-WR-CALNAME:iCagenda
X-WR-CALDESC:Event Management Extension for Joomla!
X-WR-RELCALID:3E26604A-50F4-4449-8B3E-E4F4932D05B5
X-WR-TIMEZONE:Europe/Berlin
BEGIN:VTIMEZONE
TZID:Europe/Berlin
TZUNTIL:20230326T010000Z
BEGIN:STANDARD
TZNAME:CET
DTSTART:20201025T030000
TZOFFSETFROM:+0200
TZOFFSETTO:+0100
RDATE:20211031T030000
RDATE:20221030T030000
END:STANDARD
BEGIN:DAYLIGHT
TZNAME:CEST
DTSTART:20210328T020000
TZOFFSETFROM:+0100
TZOFFSETTO:+0200
RDATE:20220327T020000
END:DAYLIGHT
END:VTIMEZONE
BEGIN:VEVENT
UID:35353837-3139-4262-a137-386438376235
DTSTAMP:20260425T221241Z
CATEGORIES:Absage bzw. Verschiebung
CLASS:PUBLIC
DESCRIPTION;ALTREP="CID:<FFFF__=0ABBE548DFE235B58f9e8a93d@coffeebean.com>":
 Die Veranstaltung wurde vorerst auf den Termin 18. - 21. Juni verschoben.
DTSTART:20210513T080000Z
DTEND:20210516T160000Z
GEO:00;0
LOCATION:
ORGANIZER:
SEQUENCE:1
SUMMARY:Boofen in der Sächsischen Schweiz
TRANSP:OPAQUE
URL:https://test.apricus-ev.de/component/icagenda/boofen-klettern-in-der-sa
 echsischen-schweiz-1?layout=vcal
END:VEVENT
END:VCALENDAR
