BEGIN:VCALENDAR
VERSION:2.0
PRODID:-//TEST Apricus e.V.//NONSGML kigkonsult.se iCalcreator 2.41.92//
CALSCALE:GREGORIAN
METHOD:PUBLISH
UID:37613634-6438-4934-a236-633630663131
X-WR-CALNAME:iCagenda
X-WR-CALDESC:Event Management Extension for Joomla!
X-WR-RELCALID:3E26604A-50F4-4449-8B3E-E4F4932D05B5
X-WR-TIMEZONE:Europe/Berlin
BEGIN:VTIMEZONE
TZID:Europe/Berlin
TZUNTIL:20231029T010000Z
BEGIN:STANDARD
TZNAME:CET
DTSTART:20211031T030000
TZOFFSETFROM:+0200
TZOFFSETTO:+0100
RDATE:20221030T030000
END:STANDARD
BEGIN:DAYLIGHT
TZNAME:CEST
DTSTART:20220327T020000
TZOFFSETFROM:+0100
TZOFFSETTO:+0200
RDATE:20230326T020000
END:DAYLIGHT
END:VTIMEZONE
BEGIN:VEVENT
UID:35663434-6139-4135-a166-633435383334
DTSTAMP:20260425T231730Z
CATEGORIES:Radfahren
CLASS:PUBLIC
DESCRIPTION;ALTREP="CID:<FFFF__=0ABBE548DFE235B58f9e8a93d@coffeebean.com>":
 ...in Petzow\nNach den Absagen der letzten Jahre werden wir es dieses Jahr
  wieder probieren. Im herrlichen Havelland am Glindower See befindet sich 
 das KiEZ Inselparadies Petzow. Dort werden wir unser Quartier aufschlagen.
  Nur wenige 100&nbsp\;Meter entfernt ist auch der Schwielowsee erreichbar.
  Die Landschaft in dieser Gegend ist geprägt von Obstplantagen\, Spargelhö
 fen\, viel Wald und vor allem reichlich Wasser.\n\nWichtig: Auf Grund der 
 anhaltenden Einschränkungen wegen des Virus' kann es passieren\, dass die 
 Veranstaltung ausfällt oder in ihrer Art geändert werden muss. Lasst Euch 
 davon erst mal nicht schrecken. Im schlechtesten Fall bekommt ihr Eure Tei
 lnahmegebühren zurück. Über absehbare Plan-Änderungen halten wir euch auf 
 dem Laufenden.\nDa wahrscheinlich erst kurzfristig absehbar ist\, ob es un
 d was dann geht\, verzichten wir dieses Jahr auch auf den Früh- und Spätbu
 cher-Spaß und verweisen auf das – für die Herberge – späteste Anmeldedatum
  als Anmeldeschluss.\n\nFreitag\n… findet eine Weit- und Meistbeteiligung 
 statt. Die Anreise sollte bis 17:30&nbsp\;Uhr erfolgen\, um in die Wertung
  zu kommen\, aber auch\, um am Abendbrot teilnehmen zu können. Ein Zurücks
 tellen ist höchstwahrscheinlich nach den Erfahrungen der vorigen Jahre nic
 ht möglich. Für Teilnehmer\, die wirklich nicht bis um 18:00&nbsp\;Uhr anr
 eisen können\, bemühen wir uns um eine Lösung.\nSamstag\n… starten wir nac
 h dem Frühstück um 10:00&nbsp\;Uhr zu den obligatorischen Fahrradtouren. D
 iesmal werden sich die kleine und große Tour auch durch die Länge deutlich
  unterscheiden. Die kleine Tour wird mit 30-40&nbsp\;km wie gewohnt auf Ki
 nder und Familien zugeschnitten sein. Für die anderen ist eine große Tour 
 mit 70-80 km vorgesehen. Eine Entscheidung kann auch noch kurzfristig vor 
 Ort erfolgen. Für Verpflegung unterwegs wird gesorgt. In welcher Form könn
 en wir zum jetzigen Zeitpunkt noch nicht sagen. Verhungern wird aber mit S
 icherheit keiner.\nMehr Details wo es hingehen wird und was es zu sehen gi
 bt\, können wir wegen der aktuellen Einschränkungen erst kurz vor der Vera
 nstaltung fertig planen. Also lasst Euch einfach überraschen.\nAuf jeden F
 all wird es viel Wasser rechts und links der Route geben und je nach Wette
 r landen wir auch mal drinnen. Den Abend können wir ganz gemütlich an eine
 m Lagerfeuer ausklingen lassen\, denn die Unterlagen für die Rallye gibt e
 s erst am Sonntag früh. Für alle Kinder und wer sich sonst noch gruseln mö
 chte\, gibt es dann noch eine kleine Nachtwanderung. Also: Lampen nicht ve
 rgessen.\nSonntag\n… ist endlich wieder Rallyetag. Ab 9:00&nbsp\;Uhr bis z
 um Mittag hat jeder Zeit\, seinen Schlachtplan zu erstellen. Der Start erf
 olgt dann ab 12:30&nbsp\;Uhr mit hoffentlich nicht zu vollem Bauch und ihr
  könnt die Kalorien gleich wieder verbrennen. Die Rallye wird nach dem von
  den Navigationsfreunden sehr beliebten Stempelsystem erfolgen. Man muss n
 ur „am 3. Baum links\, über den Fluss und nach der vierten Rechtskurve\, h
 inter der Hecke“ in das Navi eingeben und dann geht alles fast vollautomat
 isch \;-)\nNach der Rallye werden wir schauen\, ob der Osterhase etwas ver
 steckt hat.\nAm Abend werden die Gewinner hoch prämiert und dann heißt es:
  das Tanzbein schwingen oder wir schauen nochmal ans Feuer.\nMontag\n… ist
  der Abreisetag. Bis 09:30&nbsp\;Uhr müssen wir die Zimmer räumen.\nDa ein
 ige von uns/Euch die gleiche Richtung auf dem Heimweg haben\, bietet sich 
 eine gemeinsame Abreise an\, wobei noch einmal Kilometer und Kulturpunkte 
 für die Apricus-Jahreswertung gesammelt werden könnten.\nInformationen\nAn
 reise und Adresse:\n\nFreitag bis 17:30&nbsp\;Uhr (oder es wird eng mit de
 m Abendbrot)\nZum Inselparadies 9-12\, 14542 Werder (Havel) OT Petzow\n\nN
 ächster Bahnhof ist Caputh-Geltow. Besser erreichbar ist aber der Bahnhof 
 Werder\, wo regelmäßig RE fahren.\nPreise:\n\n*) Bitte Nachweis Organisato
 r vorlegen **) Die Preise für Kinder und Jugendliche sind durch den Verein
  gestützt / reduziert\nHinweis: Kinder\, Jugendliche und Familien können e
 inen Zuschuss zu den An- und Abreisekosten bei der Anmeldung beantragen (f
 ormlos beim Organisator).\n  \n\n\n\n\n\nTN-Gruppe\nApricus\nGäste\n\n\n\n
 \nErwachsene\n\n122\n137\n\n\nErmäßigt / Hartz-IV-Empfänger *\n\n107\n122
 \n\n\nJugendliche bis 26 Jahre\, Studenten **\n\n82\n88\n\n\nKinder 7 bis 
 14 Jahre **\n\n62\n68\n\n\nKinder 4 bis 6 Jahre **\n\n52\n58\n\n\n\nDer An
 meldeschluss ist der 20&nbsp\;März.\nIm Preis enthalten sind:\n\n3x Überna
 chtung\nalle Mahlzeiten (ohne Getränke)\nLagerfeuer\neine hammermäßig orga
 nisierte Veranstaltung\n\nBettwäsche kann vor Ort für 5\,50&nbsp\;€ auf ei
 gene Kosten ausgeliehen werden. Bitte bei Anmeldung angeben.\nFür die Nach
 twanderung bitte Taschenlampen mitbringen.\nAnmeldung\nBitte anmelden per 
 E-Mail an radwandertage2022@apricus-ev.de oder bei Thomas per Telefon unte
 r 0160-97061324.\nWie immer gilt die Anmeldung nur bei gleichzeitiger Einz
 ahlung des Teilnehmerbeitrages auf das{loadmoduleid 114}.\nAuf aktive und 
 schöne Radwandertage und darauf\, euch alle wiederzusehen freuen sich der 
 Jens\, der Thomas und der Micha\n\n&nbsp\;\nCorona-Regeln bei Apricus-Vera
 nstaltungen\n{loadmoduleid 135}\nDer Veranstaltungsort liegt im Bundesland
  Brandenburg.
DTSTART:20220415T080000Z
DTEND:20220418T130000Z
GEO:00;0
LOCATION:Petzow an der Havel
ORGANIZER:
SEQUENCE:1
SUMMARY:Coswiger Radwandertage 2022
TRANSP:OPAQUE
URL:https://test.apricus-ev.de/component/icagenda/coswiger-radwandertage-20
 22?layout=vcal
END:VEVENT
END:VCALENDAR
