BEGIN:VCALENDAR
VERSION:2.0
PRODID:-//TEST Apricus e.V.//NONSGML kigkonsult.se iCalcreator 2.41.92//
CALSCALE:GREGORIAN
METHOD:PUBLISH
UID:62653434-3964-4962-b633-333264343839
X-WR-CALNAME:iCagenda
X-WR-CALDESC:Event Management Extension for Joomla!
X-WR-RELCALID:3E26604A-50F4-4449-8B3E-E4F4932D05B5
X-WR-TIMEZONE:Europe/Berlin
BEGIN:VTIMEZONE
TZID:Europe/Berlin
TZUNTIL:20251026T010000Z
BEGIN:STANDARD
TZNAME:CET
DTSTART:20231029T030000
TZOFFSETFROM:+0200
TZOFFSETTO:+0100
RDATE:20241027T030000
END:STANDARD
BEGIN:DAYLIGHT
TZNAME:CEST
DTSTART:20240331T020000
TZOFFSETFROM:+0100
TZOFFSETTO:+0200
RDATE:20250330T020000
END:DAYLIGHT
END:VTIMEZONE
BEGIN:VEVENT
UID:62643537-6330-4938-b666-633262313838
DTSTAMP:20260425T231647Z
CATEGORIES:Radfahren
CLASS:PUBLIC
DESCRIPTION;ALTREP="CID:<FFFF__=0ABBE548DFE235B58f9e8a93d@coffeebean.com>":
 14.02.2024: Bitte denkt daran - Ostern ist dieses Jahr recht früh!\nHallo 
 liebe Apricusse und Gäste\,\nbitte denkt an die Coswiger Radwandertage in 
 Hohenspringe bei Bad Belzig. Dieses Jahr liegt Ostern mal wieder etwas frü
 her (29.3.-1.4)\, darum müssen die Anmeldungen auch früher kommen. Anmelde
 schluss ist der 25.&nbsp\;Februar. Wenn sich jemand danach meldet\, müsste
 n wir sehen\, was noch geht.\nAlso: auf die Räder und freut Euch mit uns a
 uf Ostern!Grüße Torsten\, Jakob und Micha&nbsp\;&nbsp\; &nbsp\;\n\nNördlic
 her Hoher Fläming und dessen Brandenburger Vorland\nIn diesem Jahr werden 
 wir den nördlichsten Teil des Naturparks Hoher Fläming und das vorgelagert
 e Havel-Urstromtal erkunden. Es wird wieder einmal sehr waldreich und natü
 rlich auch sandig\, von daher sind Schlauchreifen auch dieses Jahr nicht z
 u empfehlen. Dafür sind wir mal wieder auf Hamsterfahrt durch Brandenburg\
 , auch hier bieten immer mal einige Bauern Eier und anderes am Straßenrand
  an und es ist mit Wild zu rechnen...\nUnterkommen werden wir in der Ferie
 nanlage Hohenspringe\, einem Bungalowdorf mitten im Wald\, welches bereits
  zu DDR-Zeiten als Ferienlager eines Dessauer Betriebes diente und immer n
 och existiert\, mit altem Charme und neuem Konzept. Einen Link zur Unterku
 nft gibt es hier: Ferienpark Hohenspringe (ffp-hohenspringe.de).\nAnreise 
 am Freitag\, 29. März 2024:\nDie Anreise mit der Bahn kann über die Streck
 e Berlin - Dessau (nächste Bahnhöfe Bad Belzig oder Wiesenburg) oder über 
 die Strecke Berlin - Magdeburg (ab Brandenburg z.B.) erfolgen. Wie jedes J
 ahr möchten wir wieder die weiteste Anreise mit dem Fahrrad sowie die best
 e Gruppenanreise bei der Weit- und die Meistbeteiligung auszeichnen. Dazu 
 müsst Ihr ab 17:00&nbsp\;Uhr bis spätestens 18:00&nbsp\;Uhr&nbsp\;(!) das 
 Bungalowdorf erreicht haben - sonst gibt es Abzüge. Die Fahrtenkontrollkar
 ten könnt ihr euch hier laden:&nbsp\;fahrtenkontrollkarte.pdf. Frühester W
 ertungsstart ist der 29.03.2024\, 00:00&nbsp\;Uhr\nSamstag\, 30. März 2024
 :\nHeute führen uns zwei geführte Radtouren durch das abwechslungsreiche G
 ebiet zwischen Bad Belzig und Brandenburg.\nDie&nbsp\;kleine Runde&nbsp\;(
 ca. 50 km) führt uns vorbei am ehemaligen Mittelpunkt der DDR nach Golzow\
 , wo wir die oktogonale barocke Dorfkirche mit ihrer restaurierten Gruft b
 esuchen und das Mittagessen einnehmen. Anschließend geht es nach Reckahn\,
  wo das Schloss und eine alte Schule auf ihre Besichtigung warten. Ab Woll
 in erreichen wir dann wieder den Naturpark Hoher Fläming.\nEtwa 85 km müss
 en bei der&nbsp\;großen Tour&nbsp\;bewältigt werden. Es gibt hier zunächst
  eine etwas größere Schleife\, auf der wir zusätzlich einen der eiszeitlic
 hen Findlinge entdecken\, aber auch auf den Mittelpunkt der DDR muss nicht
  verzichtet werden\, dann haben wir wie bei der kleinen Tour die Besichtig
 ungen in Golzow und Reckahn mit im Programm\, ab Wollin gibt es dann aber 
 noch eine zusätzliche Schleife nach Ziesar mit seiner mittelalterlichen Bu
 rganlage.\nMittags kehren wir in Golzow ein\, es darf gewählt werden zwisc
 hen hausgemachter Kohlroulade mit Salzkartoffeln oder Schnitzel mit Tagesg
 emüse und Pommes! Wer beides nicht mag\, darf einen Burger essen – je nach
  Lust vegetarisch oder vegan. Zur besseren Planung bitte bereits bei der A
 nmeldung die Wahl große oder kleine Tour und das gewünschte Essen mit ange
 ben.\nSonntag\, 31. März 2024:\nThe same procedure as every year: Rallye\,
  Ostereiersuche und Auswertung der Wettbewerbe. Die Rallye ist dieses Mal 
 eine 4-Stunden Rallye mit zwei Pflichtpunkten und der Möglichkeit\, dort Z
 usatzpunkte durch richtiges Beantworten der Quizfragen zu erheischen. Am Z
 ielort erwartet uns ein Mittagessen aus der Gulaschkanone. Auch hier bitte
 n wir um verbindliche Angabe des Essenswunsches bei der Anmeldung. Es darf
  gewählt werden zwischen dem Klassiker Erbseneintopf mit Bockwurst bzw. Nu
 deln mit Tomatensoße (ohne Fleisch / Wurst – quasi für die Vegetarier). We
 r am hübschen Zielort noch verweilen möchte\, kann dort noch auf eigene Ko
 sten Kaffee und Kuchen oder anderes zu sich nehmen.\nLasst Euch überrasche
 n\, was auf Euch wartet und bringt den notwendigen Elan mit. Der Tag wird 
 dann mit der traditionellen Auswertung der Wettbewerbe und dem gemütlichen
  Beisammensein ausklingen.\nMontag 01. April 2024:\nNach einem Wochenende 
 mit vielen schönen Eindrücken treten wir nach dem Frühstück die Heimreise 
 an. Wir können noch gemeinsam nach Bad Belzig radeln und dort eine kleine 
 Stadtbesichtigung machen oder auch auf eigene Kosten dort zu Mittag einkeh
 ren. Bei rechtzeitigem Bescheid geben würde ich versuchen\, Plätze dafür i
 m kultigen nepalesischen Restaurant zu reservieren.\nOrganisatorisches:\nA
 dresse:&nbsp\; Ferienpark Hohenspringe\, Hohenspringe 10\, 14806 Bad Belzi
 g\nKosten:\n*) Die Preise für Kinder und Jugendliche bis 26 Jahre sind dur
 ch den Verein gestützt/reduziert.  \n\n\n\n\n\nTN-Gruppe\nApricus\nGäste\n
 \n\n\n\nErwachsene\n\n160\n175\n\n\nBürgergeldempfänger/Studenten ab 27 Ja
 hre\n\n145\n160\n\n\nJugendliche 16-26 Jahre *\n\n120\n126\n\n\nKinder/Jug
 endliche 3-15 Jahre *\n\n110\n116\n\n\n\nAnmeldeschluss&nbsp\;ist der&nbsp
 \;25.&nbsp\;Februar 2024.\nDanach&nbsp\;eingehende Anmeldungen werden\, be
 i noch freien Kapazitäten\, mit einem&nbsp\;Preisaufschlag von 10%&nbsp\;f
 ür den entstehenden Mehraufwand berechnet.\nGetreu unserem Motto „Natur ge
 meinsam aktiv erleben“ wollen wir jedem ermöglichen\, an unseren Veranstal
 tungen teilzunehmen. Daher gibt es besonders für Kinder\, Jugendliche und 
 Familien schon einige Fördermöglichkeiten\, beispielsweise für die Reiseko
 sten oder Zuschüsse aus einem Spendentopf.Genaue Informationen erhaltet Ih
 r unter folgendem Link: Fördermöglichkeiten bei Apricus-Veranstaltungen.\n
 Wenn für Jemanden der Teilnehmerbeitrag zu hoch ist\, meldet euch bitte un
 bedingt bei uns. \nIm Preis enthalten sind:\n\nÜbernachtungen mit Halbpens
 ion (Freitagabend bis Montagfrüh) mit warmen Abendessen am Freitag\, bei e
 ntsprechendem Wetter Grillen\nMittagessen am Samstag in Golzow in der Gast
 stätte bzw. Sonntag aus der Gulaschkanone\nEintrittspreise für Museen in R
 eckahn (für die Dorfkirche Golzow darf jeder spenden\, wie er möchte)\n\n.
 ..nicht enthalten:\n\nBettwäsche! Diese ist selbst mitzubringen oder auf e
 igene Kosten vor Ort zu leihen\n\nMitzubringen:\n\ngute Laune\, Lust auf s
 chöne gemeinsame Tage und\nHausschuhe\n\nAnmeldungen\n...bitte bei : Torst
 en Hammer an die Mailadresse&nbsp\;thapricus@aol.com oder telefonisch: 034
 903-189761 (auch auf AB sprechen). Unbedingt angeben: Kleine oder große To
 ur\, Rallyeteilnahme\, Essenswünsche für Samstag- und Sonntagmittag.\nDie 
 Anmeldung gilt nur bei Einzahlung auf das {loadposition ap-kontodaten}\nAu
 f tolle Tage und auf Euch freuen sich\,Micha\, Jakob und Torsten
DTSTART:20240329T090000Z
DTEND:20240401T140000Z
GEO:00;0
LOCATION:Hohenspringe
ORGANIZER:
SEQUENCE:1
SUMMARY:38. Coswiger Radwandertage 2024
TRANSP:OPAQUE
URL:https://test.apricus-ev.de/component/icagenda/coswiger-radwandertage-ho
 henspringe?layout=vcal
END:VEVENT
END:VCALENDAR
