BEGIN:VCALENDAR
VERSION:2.0
PRODID:-//TEST Apricus e.V.//NONSGML kigkonsult.se iCalcreator 2.41.92//
CALSCALE:GREGORIAN
METHOD:PUBLISH
UID:30633232-6438-4538-b331-613263366435
X-WR-CALNAME:iCagenda
X-WR-CALDESC:Event Management Extension for Joomla!
X-WR-RELCALID:3E26604A-50F4-4449-8B3E-E4F4932D05B5
X-WR-TIMEZONE:Europe/Berlin
BEGIN:VTIMEZONE
TZID:Europe/Berlin
TZUNTIL:20201025T010000Z
BEGIN:STANDARD
TZNAME:CET
DTSTART:20181028T030000
TZOFFSETFROM:+0200
TZOFFSETTO:+0100
RDATE:20191027T030000
END:STANDARD
BEGIN:DAYLIGHT
TZNAME:CEST
DTSTART:20190331T020000
TZOFFSETFROM:+0100
TZOFFSETTO:+0200
RDATE:20200329T020000
END:DAYLIGHT
END:VTIMEZONE
BEGIN:VEVENT
UID:36623334-3231-4332-b631-636536313961
DTSTAMP:20260426T003730Z
CATEGORIES:Radfahren
CLASS:PUBLIC
DESCRIPTION;ALTREP="CID:<FFFF__=0ABBE548DFE235B58f9e8a93d@coffeebean.com>":
 Die Oster-Radwandertage führen dieses Jahr in die Kleinstadt Bad Sulza in 
 Thüringen. Die Entwicklung des Kurortes ist untrennbar mit der Salzherstel
 lung durch eine Saline verbunden. Die Wurzeln reichen bis ins 15. / 16. Ja
 hrhundert zurück.\nNeben den Radtouren durch die schöne Landschaft im Saal
 e-Unstrut-Gebiet laden daher auch die salinetechnischen Anlagen zum Besuch
  ein\, um sich einen interessanten Überblick über die Gewinnung von Siedes
 alz zu verschaffen. Die Sulzaer Saline mit ihren einzelnen Objekten ist he
 ute die umfangreichste erhaltene Anlage in Deutschland. Weiterhin wird in 
 Bad Sulza nachweislich seit über 800 Jahren Weinbau betrieben und es ergib
 t sich sicher die eine oder andere Gelegenheit diese Köstlichkeit zu probi
 eren.\nFreitag / Anreise:\nWir treffen uns in der JH Bad Sulza (Adresse: s
 .o.).\nBis 24:00 Uhr sollte die Anreise erfolgen\, um in die Wertung für d
 ie Weit- und Meist&shy\;beteiligung zu kommen. - Wenn ihr an den Anreisewe
 ttbewerben teilnehmen wollt\, bringt bitte die Fahrtenkontrollkarte mit un
 d lasst diese alle 20 - 30 km abstempeln. Das ist möglich in Gaststätten\,
  Läden oder auch Tankstellen. Alternativ lassen wir aber auch eine eindeut
 ige Handy-Fotodokumentation gelten. Hier könnt ihr die Karte herunter&shy\
 ;laden: fahrtenkontrollkarte.pdf.\nAnreise mit dem Rad:\nBad Sulza ist übe
 r den Saale- und den Ilm-Radweg sehr gut an das Fernradwegenetz in Deutsch
 land angeschlossen.\nAnreise mit der Bahn:\nEs gibt in Bad Sulza Regionalb
 ahn- bzw. Regionalexpress-Verbindungen nach Erfurt\, Naumburg\, Leipzig (j
 eweils mit Fernzugverbindungen).\nSamstag\nAm Sonnabend sind 2 verschieden
 e Radtouren vorgesehen. Die kleinere Tour hat eine Länge von ca. 40 km. Fü
 r die Teilnehmer der größeren Tour werden es ca. 80 km. Die Strecken werde
 n so liegen\, dass wir das Mittagessen in großer Runde einnehmen können.\n
 Die Radtouren führen uns u.a. über die Hochebene südlich von Bad Sulza dur
 ch das Weimarer Land. Dabei durchqueren wir die Schlachtfelder von 1806 - 
 zu dieser Zeit wurde die preußische Armee von Napoleons Truppen vernichten
 d geschlagen. Über die Region hinaus sind auch die historische Bockwindmüh
 le bei Krippendorf und die mittelalterliche Wasserburg in Kapellendorf bek
 annt. Die Hochfläche (mit der Bezeichnung Saaleplatte) wird von wunderschö
 nen Flusstälern der Saale und Ilm begrenzt. Wir werden strecken&shy\;weise
  der Ilm folgen und auf dem Ilmtal-Radweg die Region erkunden.\nDie genaue
  Streckenführung wird noch bekanntgegeben.\nSonntag\nAm Sonntag wird es wi
 eder sportlich: die Fahrradrallye steht an. Es geht in das teilweise mit W
 äldern bedeckte und hügelige Finne-Triasland nördlich um Bad Sulzaund\, üb
 er die ehemaligen Schlachtfelder bei Auerstedt (bei dem die Franzosen unte
 r Marschall Davout eine zahlenmäßig überlegene preußische Armee unter dem 
 Herzog von Braumschweig geschlagen haben).\nAm Abend werden Preise für die
  erfolgreichen Sportler verliehen und wir lassen den Tag gesellig auskling
 en. Wenn noch genug Energie vorhanden ist\, kann das Tanzbein ge&shy\;schw
 ungen werden. Zu diesem Zweck könnt ihr eure Musik mitbringen.\nMontag / A
 breise\nNach dem Frühstück reisen wir ab. Dabei organisieren wir - sofern 
 gewünscht und das Wetter das erlaubt - eine kleine Radtour in Richtung Jen
 a oder vlt. auch Naumburg / Leipzig. Somit kann jeder auch noch einmal etw
 as sportlich unterwegs sein.\nTeilnahme\n*) Nachweis beim Organisator vorl
 egen **) Die Preise für Kinder und Jugendliche sind durch den Verein gestü
 tzt / reduziert  \n\n\nbis 13.02.2019\nbis 28.02.2019\n\nTN-Gruppe\nApricu
 s\nGäste\nApricus\nGäste\n\n\n\n\nErwachsene\n\n135\n150\n140\n155\n\n\n15
 - bis 26-Jährige / Studenten*\n\n95\n101\n100\n106\n\n\nKinder 7-14 Jahre*
 *\n\n80\n86\n85\n91\n\n\nKinder 4-6 Jahre**\n\n65\n71\n70\n76\n\n\n\nKinde
 r\, Jugendliche und Familien können einen Zuschuss zu den An- und Abreisek
 osten bei der Anmeldung beantragen (formlos beim Organisator).\nDer Frühbu
 cherrabatt gilt bis zum 13. Februar\, der endgültige Anmeldeschluss ist de
 r 28. Februar.\nIm Preis enthalten sind Übernachtung und alle Mahlzeiten (
 ohne Getränke) von Freitag&shy\;abend bis Montagfrüh.\nAnmeldung\nBitte an
 melden bei Heiko\, per Mail unter heiko.griebsch&lt\;@&gt\;web.de.\nWie im
 mer gilt die Anmeldung nur bei gleichzeitiger Einzahlung des Teilnehmerbei
 trages auf das{loadposition ap-kontodaten}\nBis bald\, auf schöne Ostertag
 e in Thüringen!Heiko
DTSTART:20190419T100000Z
DTEND:20190422T150000Z
GEO:00;0
LOCATION:Jugendherberge Bad Sulza
ORGANIZER:
SEQUENCE:1
SUMMARY:'Coswiger Radwandertage' in Bad Sulza
TRANSP:OPAQUE
URL:https://test.apricus-ev.de/component/icagenda/coswiger-radwandertage-in
 -bad-sulza?layout=vcal
END:VEVENT
END:VCALENDAR
