BEGIN:VCALENDAR
VERSION:2.0
PRODID:-//TEST Apricus e.V.//NONSGML kigkonsult.se iCalcreator 2.41.92//
CALSCALE:GREGORIAN
METHOD:PUBLISH
UID:38666561-6530-4163-a165-616335643862
X-WR-CALNAME:iCagenda
X-WR-CALDESC:Event Management Extension for Joomla!
X-WR-RELCALID:3E26604A-50F4-4449-8B3E-E4F4932D05B5
X-WR-TIMEZONE:Europe/Berlin
BEGIN:VTIMEZONE
TZID:Europe/Berlin
TZUNTIL:20241027T010000Z
BEGIN:STANDARD
TZNAME:CET
DTSTART:20221030T030000
TZOFFSETFROM:+0200
TZOFFSETTO:+0100
RDATE:20231029T030000
END:STANDARD
BEGIN:DAYLIGHT
TZNAME:CEST
DTSTART:20230326T020000
TZOFFSETFROM:+0100
TZOFFSETTO:+0200
RDATE:20240331T020000
END:DAYLIGHT
END:VTIMEZONE
BEGIN:VEVENT
UID:65343231-3230-4635-b634-373430373838
DTSTAMP:20260425T215227Z
CATEGORIES:Radfahren
CLASS:PUBLIC
DESCRIPTION;ALTREP="CID:<FFFF__=0ABBE548DFE235B58f9e8a93d@coffeebean.com>":
 Mecklenburgisches Elbetal –Lübtheener Heide\nIm zweiten Anlauf nach der co
 ronabedingten Absage 2020 wollen wir die CRWT nun endlich nach Mecklenburg
  bringen. Mitten im UNESCO-Biosphärenreservat „Flusslandschaft Elbe' und a
 m Rande der Lübtheener Heide liegt unsere Unterkunft\, das Jugendhotel Bib
 er „Jesse' Tours im Lübtheener OT Jessenitz (www.biber-jesse-tours.de). Un
 s stehen 2-\, 4- und 6-Bettzimmer zur Verfügung. Auf dem Gelände können ei
 ne Kleinfeldfußballanlage\, Minigolf\, TT-Platte\, ein Billardraum sowie e
 ine Kletterwand im Sportcenter genutzt werden.\nDie Lübtheener Heide ist e
 in ehemaliger Truppenübungsplatz und 2007 wurden hier die ersten Wölfe in 
 der Region nachgewiesen. Das länderübergreifende Biosphärenreservat „Fluss
 landschaft Elbe' ist Deutschlands größtes im Binnenland gelegene Biosphäre
 nreservat und repräsentiert eine der letzten naturnahen Stromlandschaften 
 Mitteleuropas.\nAnreise am Freitag\, 7. April 2023:\nDie Anreise mit der B
 ahn kann über die Bahnhöfe Ludwigslust\, Boizenburg oder Hagenow erfolgen.
  Wie jedes Jahr möchten wir wieder die weiteste Anreise mit dem Fahrrad so
 wie die beste Gruppenanreise bei der Weit- und die Meistbeteiligung auszei
 chnen. Dazu müsst Ihr bis 18:00&nbsp\;Uhr (!) das Jugendhotel erreicht hab
 en - sonst gibt es Abzüge. Die Fahrtenkontrollkarten könnt ihr euch hier l
 aden: fahrtenkontrollkarte.pdf.\nSamstag\, 8. April 2023:\nHeute führen un
 s zwei geführte Radtouren durch das Biosphärenreservat „Flusslandschaft El
 be'.\nDie kleine Runde (ca. 50 km) führt zunächst nach Lübtheen in das Hei
 matmuseum „Altes Küsterhaus' und anschließend zur Stixer Wanderdüne. Diese
  hat eine Größe von ca. 9\,5&nbsp\;ha und entstand vor etwa 10.000&nbsp\;J
 ahren nach der Eiszeit und ist der Rest einer einst weitgehend vom Flugsan
 d bestimmten Dünenlandschaft.\nEtwa 70 km müssen bei der großen Tour bewäl
 tigt werden. Die Festungsanlage Dömitz\, gelegen am mecklenburgischen Elbu
 fer\, ist eine der wenigen sehr gut erhaltenen Flachlandfestungen des 16.&
 nbsp\;Jahrhunderts in Norddeutschland und eines unserer geplanten Ziele. I
 nteressant ist auch das im ehemaligem Sperrgebiet liegende Dorf Rüterberg.
  Als Protest gegen die durch die Isolierung bestehende Situation riefen di
 e Bewohner am 8. November 1989 die „Dorfrepublik Rüterberg“ aus\, um ein Z
 eichen gegen die jahrelange Demütigung durch die DDR zu setzen.\nMittags o
 rganisieren wir wieder unterwegs eine Einkehr in eine Gaststätte\, die Kos
 ten dafür sind aber nicht im Teilnehmerpreis enthalten!\nSonntag\, 9. Apri
 l 2023:\nThe same procedure as every year: Rallye\, Ostereiersuche und Aus
 wertung der Wettbewerbe.\nLasst Euch überraschen\, was auf Euch wartet und
  bringt den notwendigen Elan mit. Der Tag wird dann mit der traditionellen
  Auswertung der Wettbewerbe und dem gemütlichen Beisammensein ausklingen.
 \nMontag 10. April 2023:\nNach einem Wochenende mit vielen schönen Eindrüc
 ken treten wir nach dem Frühstück die Heimreise an. Gerne können sich wied
 er Abfahrtgemeinschaften zu den Bahnhöfen Hagenow oder Ludwigslust bilden.
 \nOrganisatorisches:\nAdresse: Jugendhotel Biber „Jesse' Tours\, Schloßstr
 aße 2\, 19249 Lübtheen OT Jessenitz\nKosten:\nHINWEIS: Die Preise für Kind
 er und Jugendliche bis 26 Jahre sind durch den Verein gestützt/reduziert. 
  \n\n\n\n\n\nTN-Gruppe\nApricus\nGäste\n\n\n\n\nErwachsene\n\n160\n175\n\n
 \nBürgergeldempfänger/Studenten ab 27. Jahre\n\n130\n145\n\n\nJugendliche 
 16-26 Jahre *\n\n105\n111\n\n\nKinder/Jugendliche 3-15 Jahre *\n\n80\n86\n
 \n\n\nAnmeldeschluss ist der 28.&nbsp\;Februar 2023.\nDanach eingehende An
 meldungen werden\, bei noch freien Kapazitäten\, mit einem Preisaufschlag 
 von 10% für den entstehenden Mehraufwand berechnet.\nGetreu unserem Motto 
 „Natur gemeinsam aktiv erleben“ wollen wir jedem ermöglichen\, an unseren 
 Veranstaltungen teilzunehmen. Daher gibt es besonders für Kinder\, Jugendl
 iche und Familien schon einige Fördermöglichkeiten wie z.B. den Fahrtkoste
 nzuschuss entsprechend unserer Finanzrichtlinie.\nWenn für Jemanden der Te
 ilnehmerbeitrag zu hoch ist\, meldet euch bitte unbedingt bei uns. Wir hab
 en einen Spendentopf eingerichtet\, um bedürftige Personen oder Familien z
 u unterstützen.\nIm Preis enthalten sind:\n\nÜbernachtungen mit Halbpensio
 n mit warmen Abendessen am Freitag\nMittagessen am Sonntag\nEintrittspreis
 e Museum\nOrganisation\nBettwäsche\n\nMitzubringen:\n\nWechselschuhe /Turn
 schuhe für die Nutzung der Spiel- und Bewegungshalle mit Kletterwand\nHaus
 schuhe\n\nAnmeldungen\n...bitte bei : Jörg und Diana Schulze an die Mailad
 resse diana.schulze@mailbox.org oder telefonisch: 038352-669975.\nDie Anme
 ldung gilt nur bei Einzahlung auf das {loadmoduleid 114}.\nAuf tolle Tage 
 und auf Euch freuen sich\,Thomas\, Jens\, Jörg und Diana
DTSTART:20230407T080000Z
DTEND:20230410T130000Z
GEO:00;0
LOCATION:
ORGANIZER:
SEQUENCE:1
SUMMARY:37. Coswiger Radwandertage 2023
TRANSP:OPAQUE
URL:https://test.apricus-ev.de/component/icagenda/coswiger-radwandertage-in
 -mv?layout=vcal
END:VEVENT
END:VCALENDAR
