BEGIN:VCALENDAR
VERSION:2.0
PRODID:-//TEST Apricus e.V.//NONSGML kigkonsult.se iCalcreator 2.41.92//
CALSCALE:GREGORIAN
METHOD:PUBLISH
UID:30616437-3033-4263-b561-626132393466
X-WR-CALNAME:iCagenda
X-WR-CALDESC:Event Management Extension for Joomla!
X-WR-RELCALID:3E26604A-50F4-4449-8B3E-E4F4932D05B5
X-WR-TIMEZONE:Europe/Berlin
BEGIN:VTIMEZONE
TZID:Europe/Berlin
TZUNTIL:20211031T010000Z
BEGIN:STANDARD
TZNAME:CET
DTSTART:20191027T030000
TZOFFSETFROM:+0200
TZOFFSETTO:+0100
RDATE:20201025T030000
END:STANDARD
BEGIN:DAYLIGHT
TZNAME:CEST
DTSTART:20200329T020000
TZOFFSETFROM:+0100
TZOFFSETTO:+0200
RDATE:20210328T020000
END:DAYLIGHT
END:VTIMEZONE
BEGIN:VEVENT
UID:65356539-3930-4163-b531-656634636430
DTSTAMP:20260425T214125Z
CATEGORIES:Absage bzw. Verschiebung
CLASS:PUBLIC
DESCRIPTION;ALTREP="CID:<FFFF__=0ABBE548DFE235B58f9e8a93d@coffeebean.com>":
 Liebe Sportfreunde\,\ndie von der Bundesregierung und den Ländern beschlos
 senen Maßnahmen betreffen auch unsere Veranstaltungen. Damit die Ausbreitu
 ng der Pandemie verzögert und schließlich gestoppt wird\, müssen wir auf g
 eplante Aktivitäten verzichten. Bis zum 19.&nbsp\;April fallen daher alle 
 Veranstaltungen aus. Das betrifft die Coswiger Radwandertage vom 10.&nbsp\
 ;- 13.&nbsp\;April und - falls ihr die Angebote schon entdeckt hattet - di
 e geplante Tageswanderung bei Möllensdorf am Sonnabend\, dem 21.03.\, sowi
 e die Radwande&shy\;rung um Jeber-Bergfrieden am Sonnabend\, dem 04.&nbsp\
 ;April. Bis jetzt an uns überwiesene Teilnehmerbeiträge erhaltet ihr zurüc
 k.\nFür die ausgeschriebenen Veranstaltungen 'Fahrt in den Mai' und 'Neiße
 -Oder-Radtour' könntet ihr euch nach wie vor anmelden und Teilnehmerbeiträ
 ge überweisen\; es ist aber noch offen\, ob sie durchgeführt werden können
 . Wir halten euch auf dem Laufenden und bitten um Beachtung der allgemeine
 n Verhaltenshinweise des Gesund&shy\;heitsministeriums.\nWir versuchen\, e
 uch so viele Aktivitäten wie möglich zu erhalten. Die Erhaltung der Gesund
 heit ist aber noch wichtiger. Deshalb: bleibt vor allem gesund!\nEuer Vors
 tand
DTSTART:20200409T220000Z
DTEND:20200413T140000Z
GEO:00;0
LOCATION:
ORGANIZER:
SEQUENCE:1
SUMMARY:36. Coswiger Radwandertage: Meetzen am Schaalsee
TRANSP:OPAQUE
URL:https://test.apricus-ev.de/component/icagenda/coswiger-radwandertage?la
 yout=vcal
END:VEVENT
END:VCALENDAR
