BEGIN:VCALENDAR
VERSION:2.0
PRODID:-//TEST Apricus e.V.//NONSGML kigkonsult.se iCalcreator 2.41.92//
CALSCALE:GREGORIAN
METHOD:PUBLISH
UID:36666630-3638-4130-a163-333862633362
X-WR-CALNAME:iCagenda
X-WR-CALDESC:Event Management Extension for Joomla!
X-WR-RELCALID:3E26604A-50F4-4449-8B3E-E4F4932D05B5
X-WR-TIMEZONE:Europe/Berlin
BEGIN:VTIMEZONE
TZID:Europe/Berlin
TZUNTIL:20230326T010000Z
BEGIN:STANDARD
TZNAME:CET
DTSTART:20201025T030000
TZOFFSETFROM:+0200
TZOFFSETTO:+0100
RDATE:20211031T030000
RDATE:20221030T030000
END:STANDARD
BEGIN:DAYLIGHT
TZNAME:CEST
DTSTART:20210328T020000
TZOFFSETFROM:+0100
TZOFFSETTO:+0200
RDATE:20220327T020000
END:DAYLIGHT
END:VTIMEZONE
BEGIN:VEVENT
UID:65303838-6338-4438-b532-626639616637
DTSTAMP:20260426T032008Z
CATEGORIES:Radfahren
CLASS:PUBLIC
DESCRIPTION;ALTREP="CID:<FFFF__=0ABBE548DFE235B58f9e8a93d@coffeebean.com>":
 Unsere dritte Etappe der Süd-Nord-Tour durch Deutschland führt uns von uns
 erem letzten Zielort Rothenburg&nbsp\;o.d.&nbsp\;Tauber weiter an der Taub
 er und am Main entlang.\nDiese alte Kulturlandschaft ist schon seit Jahrta
 usenden besiedelt. Einst bewohnten Kelten das Land und ließen eine sehensw
 erte Befestigungsanlage zurück\, die wir uns heute noch ansehen können. De
 r Name des Flusses Tauber wird auf das keltische Wort „Dubr“ (Wasser) zurü
 ckgeführt. Den Kelten folgen Römer und Germanen\, weshalb Teile des Radweg
 es auch der ehemalige Grenze des Römischen Reiches (Limes) entsprechen.\nH
 eute gilt der Radweg durch das Liebliche Taubertal als einer der schönsten
  des Landes. Neben einer idyllischen und weitgehend naturbelassenen Flussl
 andschaft erwarten uns Städte und Dörfer mit mittelalterlichen Häusern aus
  Fachwerk oder Buntsandstein\, historische Sonnenuhren\, ein Planetenweg\,
  uralte Brücken\, Schlösser\, Ruinen und Klöster aber auch der eine oder a
 ndere Badesee\, wie es sich für einen Sommerurlaub gehört. Wer sich auf de
 m Klassischen Taubertal-Radweg\, den wir fahren\, unterfordert fühlt\, dem
  oder der empfehle ich für die nächste Tour die sportive Variante. Diese w
 eist zahlreiche Anstiege und Gefälle auf und bietet sehr schöne Ausblicke 
 in das Tal. Dieser Weg fährt sich aber besser mit leichtem Gepäck.\nNordwe
 stlich von Wertheim begleitet uns dann der Main. Der Fluss ist etwas breit
 er\, die Landschaft bleibt abwechslungsreich. Wir fahren an Wäldern und We
 inbergen entlang und wer will\, bekommt sicherlich Gelegenheit\, den Frank
 enwein in den charakteristischen Flaschen\, „Bocksbeutel“ genannt\, zu pro
 bieren. Über ein paar Hügel des Spessart gelangen wir in die sehenswerte S
 tadt Miltenberg mit dem Gasthaus „Zum Riesen“ - welches das älteste Deutsc
 hlands sein soll. Weiter geht es nach Aschaffenburg mit dem aus rotem Sand
 stein errichteten Schloss Johannisburg. Schließlich gelangen wir nach Fran
 kfurt. Nach einem kurzen Blick auf die Skyline und evtl. einer kleinen Sta
 dtbesichtigung (ja – Frankfurt hat neben den vielen Banken auch ein histor
 isches Zentrum) geht es am nächsten Morgen zurück nach Hause.\nOrganisator
 isches\nWir treffen uns am Sonnabend\, dem 07.&nbsp\;August\, nachmittags 
 bis abends voraussichtlich am Bahnhof Rothenburg ob der Tauber. Von dort r
 adeln wir zum Campingplatz Tauberidyll im Rothenburger Ortsteil Detwang. D
 ie Leute\, die auf der zweiten Etappe dabei waren\, dürften den noch kenne
 n.\nDie Tour ist mit einigen Abstechern etwa 300&nbsp\;km lang. Bei 6&nbsp
 \;Fahrtagen haben wir also genügend Zeit und können uns überlegen\, ob wir
  an irgendeiner schönen Stelle evtl. zwei Tage bleiben.\nWir übernachten a
 uf Campingplätzen\, es kann aber auch die eine oder andere feste Unterkunf
 t dabei sein. Da die Unterkünfte noch nicht feststehen\, braucht ihr vorab
  keinen Teilnehmerbeitrag zu überweisen. Stattdessen trägt jede/r die Kost
 en vor Ort selbst. Für Zeltplatzübernachtungen solltet ihr mit ca. 15&nbsp
 \;€ Übernachtungskosten pro Nacht und Person rechnen – bei Festunterkünfte
 n entsprechend etwas mehr.\nWährend der Tour ist Selbstverpflegung geplant
 \, kombiniert mit gelegentlichen Gaststättenbesuchen. Für Besichtigungen s
 ollte auch noch etwas Taschengeld eingeplant werden.\nAnmeldung\n...bei Fr
 ank Petrovsky (eMail: frankp@apricus-ev.de\; Telefon: 0173&nbsp\;/&nbsp\;8
 13&nbsp\;2345) bis spätestens 31.&nbsp\;Juli.\nGäste: bitte bis zum 31.&nb
 sp\;Juli den Gästebeitrag von&nbsp\; 7&nbsp\;€ (1&nbsp\;€&nbsp\;/ Tag) auf
  das{loadmoduleid 114}einzahlen.\nWer mit uns gemeinsam mit der Bahn anrei
 sen möchte\, meldet sich bitte bis zum 04.07.2021\, da die Anzahl an Fahrr
 adstellplätzen in den Zügen begrenzt ist.\nDa wir (Marianne und ich) nach 
 der Apricus-Tour noch eine Weile im Südwesten bleiben wollen\, müsstet ihr
  jedoch die Rückfahrt selbst organisieren.\nBitte mitbringen: Zelte\, Isom
 atten\, Schlafsäcke\, Sonnen- und Mückenschutz\, evtl. Kocher\, Besteck\, 
 Geschirr\, Fahrradflickzeug\nAuf eine abwechslungsreiche Sommertour mit eu
 ch freuen sichFrank und Marianne
DTSTART:20210807T080000Z
DTEND:20210814T160000Z
GEO:00;0
LOCATION:
ORGANIZER:
SEQUENCE:1
SUMMARY:Deutschland von Süd nach Nord – Teil 3
TRANSP:OPAQUE
URL:https://test.apricus-ev.de/component/icagenda/deutschland-von-sued-nach
 -nord-teil-3?layout=vcal
END:VEVENT
END:VCALENDAR
