BEGIN:VCALENDAR
VERSION:2.0
PRODID:-//TEST Apricus e.V.//NONSGML kigkonsult.se iCalcreator 2.41.92//
CALSCALE:GREGORIAN
METHOD:PUBLISH
UID:65646561-3461-4766-b432-343761353263
X-WR-CALNAME:iCagenda
X-WR-CALDESC:Event Management Extension for Joomla!
X-WR-RELCALID:3E26604A-50F4-4449-8B3E-E4F4932D05B5
X-WR-TIMEZONE:Europe/Berlin
BEGIN:VTIMEZONE
TZID:Europe/Berlin
TZUNTIL:20240331T010000Z
BEGIN:STANDARD
TZNAME:CET
DTSTART:20211031T030000
TZOFFSETFROM:+0200
TZOFFSETTO:+0100
RDATE:20221030T030000
RDATE:20231029T030000
END:STANDARD
BEGIN:DAYLIGHT
TZNAME:CEST
DTSTART:20220327T020000
TZOFFSETFROM:+0100
TZOFFSETTO:+0200
RDATE:20230326T020000
END:DAYLIGHT
END:VTIMEZONE
BEGIN:VEVENT
UID:30326338-6331-4166-b564-623835646235
DTSTAMP:20260425T221232Z
CATEGORIES:Radfahren
CLASS:PUBLIC
DESCRIPTION;ALTREP="CID:<FFFF__=0ABBE548DFE235B58f9e8a93d@coffeebean.com>":
 ...im Hohen Fläming zu Pfingsten\nEigentlich sollte es ja dieses Jahr zu P
 fingsten etwas sportlicher werden\, aber meine OP im Februar machte diesen
  Plan erst mal zunichte. Aber dennoch soll es - wie schon Pfingsten 2020 -
  dieses Jahr wieder eine Veranstaltung auf dem Zeltplatz in Rädigke geben\
 , der allen 2020 beteiligten so gut gefallen hatte. Dieses Jahr ist das Pr
 ogramm dann aber touristischer und weniger „ernsthaft“ im Bildungscharakte
 r als beim Geländeorientierungskurs vor zwei Jahren. Dafür hoffen wir\, da
 ss wir wieder in der Gruppe unterwegs sein dürfen.\nWir treffen uns am Pfi
 ngstsamstag auf dem Zeltplatz\, jeder kann den Tag zur individuellen Anrei
 se nutzen\, am Abend wollen wir alle gemeinsam zusammen sitzen und entspan
 nt plaudern. Da ohnehin Selbstverpflegung angesagt ist\, gibt es keine str
 ikte Anreisezeit - schön wäre\, wenn aber bis gegen 19.00 Uhr alle da sind
 .\nAm Pfingstsonntag wird es eine Radwanderung geben\, die die Burg Eisenh
 ardt in Belzig und das Schloss mit Park in Wiesenburg zum Ziel hat\, dazu 
 gibt es einige Findlinge am Weg. Die Radwanderung wird etwas mehr als 60&n
 bsp\;km lang sein\; wer abkürzen möchte\, muss zumindest auf die Burg in B
 elzig verzichten und kommt dann auf nur etwas über 40 km bei gleicher Eink
 ehrmöglichkeit. Die „große“ Runde wird von mir geführt angeboten.\nAm Pfin
 gstmontag lassen wir die Räder stehen und wandern durch das NSG Planetal z
 ur Burg Rabenstein\, wo es die Möglichkeit zu einer Imbiss-Einkehr gibt. A
 nschließend geht es über den Riesenstein wieder zum Zeltplatz\, wo dann da
 s Ende der Veranstaltung gegen 14&nbsp\;Uhr geplant ist. Die Wanderung ist
  zwischen 11&nbsp\;und 13&nbsp\;km lang - je nach dem Bogen\, den wir zur 
 Burg Rabenstein hoch nehmen.\nSonntag und Montag besteht mittags die Mögli
 chkeit zur Einkehr auf eigene Kosten\; ansonsten ist Selbstverpflegung. Au
 f dem Campingplatz gibt es eine gut ausgestattete Gemeinschaftsküche und e
 inen kleinen Lebensmittelverkauf für das Nötigste sowie einen Brötchenserv
 ice. Auch ein Grill kann ausgeliehen werden.\nWer mir vorher rechtzeitig B
 escheid gibt\, für den bringe ich auch gern wirklich guten Wein mit\, auch
  Olivenöl sollte ich bis dahin Neues haben... Bier und alkoholfreie Geträn
 ke gibt es auch auf dem Zeltplatz zu kaufen.\nWie auf vielen Zeltplätzen ü
 blich\, gibt es eine komplizierte Berechnung der Übernachtungskosten\, die
  von verschiedenen Faktoren abhängt. Von daher sind die individuellen Über
 nachtungskosten nicht im Teilnehmerbetrag enthalten sondern sind direkt an
  den Zeltplatzbetreiber zu zahlen. Damit sich jeder seine Kosten vorab aus
 rechnen kann\, gibt es hier den Link zur Preisliste (Die Bungalows sind wo
 hl leider schon vermietet):Naturcamping Hoher Fläming - Öffnungszeiten &am
 p\; Preise\nTeilnehmergebühren\n\nKinder und Jugendliche bis 18 Jahren:\n
 \n5&nbsp\;€&nbsp\; für Apricus-Mitglieder\n9&nbsp\;€ für Nichtmitglieder\n
 \n\nErwachsene:\n\n15 € für Apricus-Mitglieder\n18 € für Nichtmitglieder\n
 \n\n\nAchtung – bei Anmeldung und Nichterscheinen wird die Teilnehmergebüh
 r fällig und zusätzlich die dem Zeltplatz verloren gegangenen Kosten für d
 ie individuelle Übernachtung\, da der Platz uns die gewünschte Fläche frei
  hält und dafür andere Interessenten abweisen muss. Aufgrund des über die 
 Feiertage gut besuchten Platzes ist es auch notwendig\, sich vorher anzume
 lden. Kurzfristig Interessierte können nur nach Rücksprache mit dem Campin
 gplatz noch aufgenommen werden bzw. können abgewiesen werden\, wenn die Ge
 samtkapazität des Platzes erschöpft ist.\nNähere Auskünfte und Anmeldungen
  bis 20.05.2022 bei Torsten Hammer unter thapricus@aol.com oder telefonisc
 h unter 034903-189761 (auch AB nutzen!). Rückmeldungen auf Anfragen bzw. A
 nmeldungen erfolgen meinerseits ab dem 09.05.2022. Ebenso erfolgt dann die
  Aufforderung zur Einzahlung der Teilnehmerbeiträge. Mit der erfolgten Ein
 zahlung ist die Anmeldung wirksam. Bei der Anmeldung ist anzugeben\, wie ü
 bernachtet wird\, d.h. wie viele Leute im Zelt\, ob mit Auto angereist wir
 d oder ohne - sprich Anzahl Erwachsene\, Kinder (5-13 Jahre)\, Zelte\, Aut
 os.\nUnter Umständen kann es immer noch coronabedingte Einschränkungen geb
 en – zuständig ist hier der Landkreis Potsdam-Mittelmark\, Land Brandenbur
 g – bitte unmittelbar vorher erkundigen\, was gilt! Wir hoffen natürlich a
 uf ein unbeschwertes und frohes Treffen und Miteinander!\nTorsten
DTSTART:20220604T120000Z
DTEND:20220606T160000Z
GEO:00;0
LOCATION:Rädigke\, Burg Rabenstein
ORGANIZER:
SEQUENCE:1
SUMMARY:Drei-Burgen-und Schlösser-Wochenende
TRANSP:OPAQUE
URL:https://test.apricus-ev.de/component/icagenda/drei-burgen-und-schloesse
 r?layout=vcal
END:VEVENT
END:VCALENDAR
