BEGIN:VCALENDAR
VERSION:2.0
PRODID:-//TEST Apricus e.V.//NONSGML kigkonsult.se iCalcreator 2.41.92//
CALSCALE:GREGORIAN
METHOD:PUBLISH
UID:66626563-6365-4334-b761-396633313865
X-WR-CALNAME:iCagenda
X-WR-CALDESC:Event Management Extension for Joomla!
X-WR-RELCALID:3E26604A-50F4-4449-8B3E-E4F4932D05B5
X-WR-TIMEZONE:Europe/Berlin
BEGIN:VTIMEZONE
TZID:Europe/Berlin
TZUNTIL:20271031T010000Z
BEGIN:STANDARD
TZNAME:CET
DTSTART:20251026T030000
TZOFFSETFROM:+0200
TZOFFSETTO:+0100
RDATE:20261025T030000
END:STANDARD
BEGIN:DAYLIGHT
TZNAME:CEST
DTSTART:20260329T020000
TZOFFSETFROM:+0100
TZOFFSETTO:+0200
RDATE:20270328T020000
END:DAYLIGHT
END:VTIMEZONE
BEGIN:VEVENT
UID:34333064-3764-4331-b738-313034343065
DTSTAMP:20260425T131845Z
CATEGORIES:Wandern
CLASS:PUBLIC
DESCRIPTION;ALTREP="CID:<FFFF__=0ABBE548DFE235B58f9e8a93d@coffeebean.com>":
 Wanderung von Trebbin nach Zossen durch vielseitige typische Brandenburger
  Landschaft mit Feldern\, Wiesen\, Wäldern\, kleinen Orten und dem Mellens
 ee
DTSTART:20260425T080000Z
DTEND:20260425T160000Z
GEO:00;0
LOCATION:
ORGANIZER:
SEQUENCE:1
SUMMARY:E10-Wanderung von Trebbin nach Zossen
TRANSP:OPAQUE
URL:https://test.apricus-ev.de/component/icagenda/e10-wanderung-von-trebbin
 -nach-zossen?iccaldate=2027-04-1
END:VEVENT
END:VCALENDAR
