BEGIN:VCALENDAR
VERSION:2.0
PRODID:-//TEST Apricus e.V.//NONSGML kigkonsult.se iCalcreator 2.41.92//
CALSCALE:GREGORIAN
METHOD:PUBLISH
UID:61333531-3533-4733-b764-343562363830
X-WR-CALNAME:iCagenda
X-WR-CALDESC:Event Management Extension for Joomla!
X-WR-RELCALID:3E26604A-50F4-4449-8B3E-E4F4932D05B5
X-WR-TIMEZONE:Europe/Berlin
BEGIN:VTIMEZONE
TZID:Europe/Berlin
TZUNTIL:20250330T010000Z
BEGIN:STANDARD
TZNAME:CET
DTSTART:20221030T030000
TZOFFSETFROM:+0200
TZOFFSETTO:+0100
RDATE:20231029T030000
RDATE:20241027T030000
END:STANDARD
BEGIN:DAYLIGHT
TZNAME:CEST
DTSTART:20230326T020000
TZOFFSETFROM:+0100
TZOFFSETTO:+0200
RDATE:20240331T020000
END:DAYLIGHT
END:VTIMEZONE
BEGIN:VEVENT
UID:64366363-3632-4438-b736-613633336630
DTSTAMP:20260425T215226Z
CATEGORIES:Radfahren
CLASS:PUBLIC
DESCRIPTION;ALTREP="CID:<FFFF__=0ABBE548DFE235B58f9e8a93d@coffeebean.com>":
 Liebe E11-Wanderer\,\nnachdem wir in den letzten Jahren den Europäischen F
 ernwanderweg zwischen Kunowice und Dessau erkundet haben\, standen wir nun
  vor der Frage 'Wie weiter?'. Der E11 führt von Dessau aus westwärts über 
 Halle bis in den Harz\, im Bereich bis Halle ist die Landschaft eher nicht
  so spannend und durch Ackerwirtschaft geprägt - und zusätzlich fehlen gut
 e An-/Abreise- oder Übernachtungsmöglichkeiten.\nAus diesem Grund haben wi
 r uns überlegt\, diese Strecke mit dem Fahrrad zurückzulegen: die Wege sin
 d recht breit&nbsp\;- allerdings sieht es hier und da etwas sandig aus\, e
 s kann also sein\, dass stellenweise über Alternativrouten gefahren werden
  muss.\nWir treffen uns am 7.&nbsp\;Mai um 9&nbsp\;Uhr am Bahnof Dessau\, 
 Bahnhofsvorplatz. Dann geht es zunächst durch die Stadt bis zur Mulde\, na
 ch deren Überquerung treffen wir auf den E11\, der sich dann südlich aus d
 er Stadt schlängelt. Anschließend führt uns der Weg durch das große Waldge
 biet der Mosigkauer Heide bevor es durch eine Feldlandschaft weiter in Ric
 htung Halle geht. In Krosigk gibt es eventuell die Möglichkeit einzukehren
 \, sodass wir gut gestärkt das Stück in Richtung und über den Petersberg i
 n Angriff nehmen können\, auf dem noch ein paar Höhenmeter hinzukommen. Ge
 rade in diesem Abschnitt kann es sein\, dass wir etwas vom Wanderweg abwei
 chen und eher auf regionale Radwege ausweichen werden\, wenn die Wegoberfl
 äche nicht radtauglich ist. Ab Teicha sieht es aber so aus\, als ob wir fü
 r das letzte Stück bis Halle wieder auf den Wanderweg wechseln können. Im 
 Stadtgebiet von Halle bleiben wir noch auf dem E11 bis dieser an der Kröll
 witzer Brücke die Saale überquert - ab hier geht es dann entlang der Stadt
 straßen zum Bahnhof Halle\, von wo aus die Heimfahrt angetreten werden kan
 n.\nOrganisatorisches\n\nTreffpunkt: Bf. Dessau am 7.&nbsp\;Mai um 9&nbsp\
 ;Uhr\, BahnhofsvorplatzDie Züge aus Berlin\, Leipzig und Coswig (Anhalt) k
 ommen jeweils kurz vor 9 Uhr an.\nStreckenlänge: ca. 65&nbsp\;- 70kmAlle D
 etails der Strecke können nicht vorgeplant werden\, es kann spontane Änder
 ungen geben.\nWegbeschaffenheit: vmtl. hier und dort sandig\, auf Schlauch
 reifen sollte verzichtet werden \;)\nEinkehr: ist geplant\, aber noch nich
 t sicherNehmt Euch sicherheitshalber genug Proviant und Getränke mit. Aktu
 elle Informationen werde ich kurz vorher auch an die Angemeldeten 'rumschi
 cken.\nZiel: Halle (Saale) HbfHeimfahrt ab dort nach Berlin\, Leipzig\, Wi
 ttenberg (dann Coswig) möglich. Für Berliner empfehlen sich wenige Regiona
 lzugverbindungen - es gibt IC-/ICE-Verbindungen\, aber Fahrradstellplätze 
 sind rar (wir selbst planen\, über Bitterfeld und Dessau mit dem RE zu fah
 ren).\nAnmeldungen: bis zum 5.&nbsp\;Mai wegen der TischreservierungWer ni
 cht Essen gehen möchte\, kann auch so mitkommen\, allerdings hilft eine An
 meldung auch bei Abstimmungen für den Fall\, dass es Probleme bei der Anre
 ise gibt. Am besten meldet Ihr Euch per Mail unter mariannea@apricus-ev.de
  .\nKosten: für Apricus-Mitglieder keine\, Gäste zahlen 1€ für die Versich
 erung.\n\nAuf eine spannende E11-Etappe per Rad freuen sichFrank und Maria
 nne
DTSTART:20230507T073000Z
DTEND:20230507T163000Z
GEO:00;0
LOCATION:
ORGANIZER:
SEQUENCE:1
SUMMARY:E11-Radtour\, Dessau - Halle
TRANSP:OPAQUE
URL:https://test.apricus-ev.de/component/icagenda/e11-radtour-dessau-halle?
 layout=vcal
END:VEVENT
END:VCALENDAR
