BEGIN:VCALENDAR
VERSION:2.0
PRODID:-//TEST Apricus e.V.//NONSGML kigkonsult.se iCalcreator 2.41.92//
CALSCALE:GREGORIAN
METHOD:PUBLISH
UID:35353139-3239-4232-a235-313562386434
X-WR-CALNAME:iCagenda
X-WR-CALDESC:Event Management Extension for Joomla!
X-WR-RELCALID:3E26604A-50F4-4449-8B3E-E4F4932D05B5
X-WR-TIMEZONE:Europe/Berlin
BEGIN:VTIMEZONE
TZID:Europe/Berlin
TZUNTIL:20240331T010000Z
BEGIN:STANDARD
TZNAME:CET
DTSTART:20211031T030000
TZOFFSETFROM:+0200
TZOFFSETTO:+0100
RDATE:20221030T030000
RDATE:20231029T030000
END:STANDARD
BEGIN:DAYLIGHT
TZNAME:CEST
DTSTART:20220327T020000
TZOFFSETFROM:+0100
TZOFFSETTO:+0200
RDATE:20230326T020000
END:DAYLIGHT
END:VTIMEZONE
BEGIN:VEVENT
UID:33366266-6662-4562-b036-326331666538
DTSTAMP:20260425T221238Z
CATEGORIES:Radfahren
CLASS:PUBLIC
DESCRIPTION;ALTREP="CID:<FFFF__=0ABBE548DFE235B58f9e8a93d@coffeebean.com>":
 Besser spät als nie. Hier ist die Ausschreibung für unsere diesjährige Elb
 e-Radtour durch Tschechien.\nDabei werden wir -&nbsp\; wie es sich gehört 
 - an der Quelle beginnen\, die am Hauptkamm des Riesengebirges in 1.387 m 
 Höhe in der Nähe der polnischen Grenze liegt. Für diejenigen\, die das Rie
 sengebirge aus Winterurlauben kennen\, bietet sich die Möglichkeit\, die t
 raumhafte Bergwelt im Sommer zu erleben.\nAm Tag nach unserer Anreise nach
  Vrchlabí werden wir zunächst mit dem Bus nach Špindlerův Mlýn (Spindlermü
 hle) fahren und von dort aus zur Elbequelle wandern. Wer es sportlich ansp
 ruchsvoll mag\, kann auch die 29&nbsp\;km von Vrchlabí bis zur Quelle berg
 auf mit dem Rad zurücklegen und anschließend wieder bergab fahren.\nNachde
 m wir in Vrchlabí zweimal übernachtet haben\, folgt eine abwechslungsreich
 e längere Radetappe\, überwiegend bergab aber auch mit einigen kleinen Ans
 tiegen. Höhepunkt des Tages ist am Ende Hradec Králové (Königgrätz) mit se
 inem historischen Zentrum.\nAm nächsten Tag gibt es mit Pardubice wieder e
 ine sehenswerte alte Stadt. Dann wird die Landschaft weniger hügelig. Wir 
 fahren an Seen entlang\, die auch Bademöglichkeiten bieten\, und durch kle
 ine Dörfer. Kurz vor Tynec ist das Elbufer landschaftlich sehr schön\, sod
 ass uns auch der dann etwas holprige Weg nichts ausmachen wird. Weiter geh
 t es direkt am Ufer entlang. Wir durchqueren mehrere kleine Städte\, von d
 enen jede einzelne ihren ganz speziellen Charme verbreitet: So gibt es u.a
 . in Poděbrady einen weitläufigen Kurgarten\, in Nymburk eine alte Stadtma
 uer und dazwischen Wälder\, artenreiche Feuchtgebiete am Flussufer und kle
 ine Siedlungen. Ein kurzer Anstieg führt uns schließlich nach Mělník\, der
  Stadt am Zusammenfluss von Elbe (Labe) und Moldau (Vltava). Aus luftiger 
 Höhe werden wir einen Blick werfen auf die beiden Flüsse\, die sich verein
 igen.\nDer Abschnitt von Mělník nach Bad Schandau führt über Roudnice (sch
 öne Aussicht übers Elbtal vom Wachturm)\, Litoměřice (sehenswerte Stadt) z
 ur Porta Bohemica (Česká Brána&nbsp\;/ Böhmisches Tor)\, wo sich die Elbe 
 zwischen steilen Bergen hinduch ihren Weg durch das Böhmische Mittelgebirg
 e bahnt. Schließlich gelangen wir in die Sächsisch-Böhmische Schweiz. Wir 
 übernachten in Mezná\, einem Ortsteil von Hřensko. Dort können wir am letz
 ten Tag unserer Radreise noch eine Kahnfahrt auf der Edmundsklamm und/oder
  der Wilden Klamm unternehmen\, was unbedingt zu empfehlen ist. Von Hřensk
 o sind es schließlich noch ca. 12&nbsp\;km bis zum Bahnhof Bad Schandau. D
 ort werden wir uns verabschieden und mit verschiedenen Zügen die Heimnreis
 e antreten. Vielleicht hat ja auch die eine oder der andere Lust\, seinen 
 Urlaub zu verlängern und noch ein paar Tage in der Sächsisch-Böhmischen Sc
 hweiz zu verbringen. Die Elbe jedenfalls ist Apricus am Abschluss unserer 
 Tour einmal komplett von der Quelle bis zur Nordsee abgeradelt.\nBitte bea
 chtet\, dass die Tour damit 2 Tage länger ist\, als ursprünglich vorgesehe
 n (Ende am 19.08. und nicht am 17.08.)!\nOrganisatorisches\nTeilnehmerbetr
 äge bei Übernachtung in Festunterkünften\n\n*) Nachweis beim Organisator v
 orlegen\n  \n\n\n\n\n\nTN-Gruppe\nApricus\nGäste\n\n\n\n\nErwachsene\n\n26
 0\n290\n\n\nErmäßigt / Hartz-IV-Empfänger *\n\n240\n270\n\n\nSchüler\, Jug
 endliche\, Studenten\n\n220\n250\n\n\n\nDarin enthalten sind: alle 8 Übern
 achtungen in Pensionen und anderen Festunterkünften\, Frühstück teilweise\
 , Eintritte und Fährüberfahrten.\nDie Anzahl der Plätze in den Festunterkü
 nften ist begrenzt\, d.h. wer sich als erstes anmeldet und einzahlt\, hat 
 seinen Platz sicher ('Windhundprinzip')\nTeilnahme bei Übernachtung auf Ze
 ltplätzen\nFür Leute\, die statt der Nutzung von Festunterkünften preisgün
 stig zelten wollen\, gibt es die Möglichkeit\, einen Anteil von 10\,00&nbs
 p\;€ (Mitglieder) bzw. 20\,00&nbsp\;€ (Gäste) für die Organisation zu über
 weisen und sich für alles weitere an Michael Kraus mkraus70@yahoo.de\, Tel
 .: 0176-31330108\, zu wenden.\nDie Kosten für die Übernachtungen selbst\, 
 sowie für Kultur und Fährüberfahrten etc. sind dann durch jede/n einzelne/
 n vor Ort zu tragen und nicht in dem Beitrag enthalten.\nAnmeldung\nBitte 
 meldet euch bis spätestens 01.07.22 per E-Mail bei Frank (frankp@apricus-e
 v.de) an. Das gilt auch für die Leute\, die mir schon mündlich ihre Teilna
 hme zugesagt haben.\nRückfragen nehme ich gern unter Tel. 0173-8132345 ent
 gegen. Da ich vom 2.&nbsp\;bis 19.&nbsp\;Juli im Urlaub bin\, meldet euch 
 bitte in diesem Zeitraum bei Micha\, wenn ihr Fragen habt (Kontakt siehe o
 ben).\nWie immer gilt die Anmeldung nur bei gleichzeitiger Einzahlung des 
 Teilnehmerbeitrages auf das {loadmoduleid 114}.\nWir freuen uns auf euch u
 nd auf ein paar schöne Tage an der Elbe bei unseren südöstlichen Nachbarn.
 \nFrank und Marianneund der Micha
DTSTART:20220811T070000Z
DTEND:20220819T160000Z
GEO:00;0
LOCATION:
ORGANIZER:
SEQUENCE:1
SUMMARY:Elberadtour Vrchlabí - Bad Schandau
TRANSP:OPAQUE
URL:https://test.apricus-ev.de/component/icagenda/elberadtour-vrchlabi-bad-
 schandau?layout=vcal
END:VEVENT
END:VCALENDAR
