BEGIN:VCALENDAR
VERSION:2.0
PRODID:-//TEST Apricus e.V.//NONSGML kigkonsult.se iCalcreator 2.41.92//
CALSCALE:GREGORIAN
METHOD:PUBLISH
UID:64383037-6239-4463-a161-636432646430
X-WR-CALNAME:iCagenda
X-WR-CALDESC:Event Management Extension for Joomla!
X-WR-RELCALID:3E26604A-50F4-4449-8B3E-E4F4932D05B5
X-WR-TIMEZONE:Europe/Berlin
BEGIN:VTIMEZONE
TZID:Europe/Berlin
TZUNTIL:20240331T010000Z
BEGIN:STANDARD
TZNAME:CET
DTSTART:20211031T030000
TZOFFSETFROM:+0200
TZOFFSETTO:+0100
RDATE:20221030T030000
RDATE:20231029T030000
END:STANDARD
BEGIN:DAYLIGHT
TZNAME:CEST
DTSTART:20220327T020000
TZOFFSETFROM:+0100
TZOFFSETTO:+0200
RDATE:20230326T020000
END:DAYLIGHT
END:VTIMEZONE
BEGIN:VEVENT
UID:30616635-6264-4134-b836-363937373337
DTSTAMP:20260425T214643Z
CATEGORIES:Absage bzw. Verschiebung
CLASS:PUBLIC
DESCRIPTION;ALTREP="CID:<FFFF__=0ABBE548DFE235B58f9e8a93d@coffeebean.com>":
 Wegen Erkrankung des Organisators kann sich Apricus dieses Jahr leider nic
 ht auf dem Coswiger Fest der Vereine präsentieren. Die geplante kleine Akt
 ivität in der Gegend ist ebenfalls nicht möglich.
DTSTART:20220709T080000Z
DTEND:20220709T170000Z
GEO:00;0
LOCATION:Coswig (Anhalt)
ORGANIZER:
SEQUENCE:1
SUMMARY:Fest der Vereine
TRANSP:OPAQUE
URL:https://test.apricus-ev.de/component/icagenda/fest-der-vereine?layout=v
 cal
END:VEVENT
END:VCALENDAR
