BEGIN:VCALENDAR
VERSION:2.0
PRODID:-//TEST Apricus e.V.//NONSGML kigkonsult.se iCalcreator 2.41.92//
CALSCALE:GREGORIAN
METHOD:PUBLISH
UID:39643134-6637-4635-b037-623434613139
X-WR-CALNAME:iCagenda
X-WR-CALDESC:Event Management Extension for Joomla!
X-WR-RELCALID:3E26604A-50F4-4449-8B3E-E4F4932D05B5
X-WR-TIMEZONE:Europe/Berlin
BEGIN:VTIMEZONE
TZID:Europe/Berlin
TZUNTIL:20241027T010000Z
BEGIN:STANDARD
TZNAME:CET
DTSTART:20221030T030000
TZOFFSETFROM:+0200
TZOFFSETTO:+0100
RDATE:20231029T030000
END:STANDARD
BEGIN:DAYLIGHT
TZNAME:CEST
DTSTART:20220327T020000
TZOFFSETFROM:+0100
TZOFFSETTO:+0200
RDATE:20230326T020000
RDATE:20240331T020000
END:DAYLIGHT
END:VTIMEZONE
BEGIN:VEVENT
UID:39376231-3464-4739-b364-363466383766
DTSTAMP:20260425T214128Z
CATEGORIES:Skilaufen\, Skaten
CLASS:PUBLIC
DESCRIPTION;ALTREP="CID:<FFFF__=0ABBE548DFE235B58f9e8a93d@coffeebean.com>":
 Info vom 27.2.:Die Wanderung war ursprünglich für den 19.1. geplant und wu
 rde nun neu auf den 5.3. terminiert und die Strecke wurde umgeplant.\n\n&n
 bsp\;\nLiebe Apricüsse und Fläming-(Winter?)Fans\,\nvielleicht erhaschen w
 ir am Sonntag noch ein paar winterliche Eindrücke\, zum Skifahren wird es 
 wohl leider aller Wahrscheinlichkeit nach nicht reichen. Aber wir hatten j
 a gesagt\, notfalls findet die Ski- dann als 'normale' Wanderung statt.\nD
 er Einfachheit halber wird es eine Rundwanderung um Belzig sein\, und zwar
  wollen wir den Panaromawanderweg rund um Bad Belzig erwandern und es so v
 on seiner schönsten Seite kennenlernen. Wir können dabei reizvolle Ausblic
 ke auf die Kurstadt genießen und auch idyllische Naturräume wie die Rummel
  'Steile Kieten'\, den Belziger Bach im Mühlenhölzchen oder einsamen Buche
 nwald in den Belziger Bergen kennenlernen. Andererseits sind wir nie weit 
 weg von gastronomischen Einkehrmöglichkeiten\, z.B. den von Torsten sehr g
 elobten Nepalesen am Markt. Mit der Burg Eisenhardt\, die natürlich nicht 
 fehlen darf\, und den historischen Gassen gibt es auch ausreichend Kultur.
 \n\nTreffpunkt: 10:20 Uhr am Bahnhof Bad Belzig\nLänge: ca. 15 km\, Rundto
 ur\nKosten: Teilnahme für Gäste 1\,00€ Versicherung\nEintrittsgelder sind 
 ggf. vor Ort selbst zu tragen\n\nFür 2 - 3 Leipziger könnte ich Abholdiens
 t ab WB-Hbf. ca. 9:00 Uhr spielen\, bitte Bescheid geben (0151 57534833). 
 Ansonsten ist eine Anmeldung nicht unbedingt notwendig\, aber empfehlenswe
 rt.\nBis dahin -&nbsp\; Liebe GrüßeAndreas\ndieses Mal wollen wir wieder d
 ie 'klassische Route' durch den Fläming\, d.h. von Belzig nach Wiesenburg 
 über Hagelberg und Schmerwitz auf dem schönen Kunstwanderweg unterwegs sei
 n. Da es möglichst eine Ski-wanderung sein soll\, hoffen wir natürlich auf
  genügend Schnee. Und wenn nicht genügend davon liegt\, wird die Tour vers
 choben. Entsprechend kurzfristige Infos bitte beachten.
DTSTART:20230305T090000Z
DTEND:20230305T160000Z
GEO:00;0
LOCATION:
ORGANIZER:
SEQUENCE:1
SUMMARY:Fläming-(Ski-)Wanderung
TRANSP:OPAQUE
URL:https://test.apricus-ev.de/component/icagenda/flaeming-ski-wanderung?la
 yout=vcal
END:VEVENT
END:VCALENDAR
