BEGIN:VCALENDAR
VERSION:2.0
PRODID:-//TEST Apricus e.V.//NONSGML kigkonsult.se iCalcreator 2.41.92//
CALSCALE:GREGORIAN
METHOD:PUBLISH
UID:32653664-6236-4834-b639-636238616339
X-WR-CALNAME:iCagenda
X-WR-CALDESC:Event Management Extension for Joomla!
X-WR-RELCALID:3E26604A-50F4-4449-8B3E-E4F4932D05B5
X-WR-TIMEZONE:Europe/Berlin
BEGIN:VTIMEZONE
TZID:Europe/Berlin
TZUNTIL:20251026T010000Z
BEGIN:STANDARD
TZNAME:CET
DTSTART:20221030T030000
TZOFFSETFROM:+0200
TZOFFSETTO:+0100
RDATE:20231029T030000
RDATE:20241027T030000
END:STANDARD
BEGIN:DAYLIGHT
TZNAME:CEST
DTSTART:20230326T020000
TZOFFSETFROM:+0100
TZOFFSETTO:+0200
RDATE:20240331T020000
RDATE:20250330T020000
END:DAYLIGHT
END:VTIMEZONE
BEGIN:VEVENT
UID:36366530-3763-4132-b931-373832656535
DTSTAMP:20260425T213437Z
CATEGORIES:Wandern
CLASS:PUBLIC
DESCRIPTION;ALTREP="CID:<FFFF__=0ABBE548DFE235B58f9e8a93d@coffeebean.com>":
 Zum Flaemingkulturpartie-Tag am 08.10.2023 gibt es leider kein Radtourenan
 gebot von Apricus.&nbsp\; Aber es gibt eine Wanderung ab Pülzig\, geleitet
  von Torsten Hammer\, die als Teil des Programmes stattfindet.\nStart der 
 Wanderung ist an der Ferienwohnung Mohnblume in&nbsp\;Pülzig (Adresse: Pül
 ziger Dorfstraße 4) um 12&nbsp\;Uhr. Streckenlänge ca. 10&nbsp\;km\, Dauer
  ca. 2&nbsp\;h\,&nbsp\; Zwischenstopp in der Wahlsdorfer Kirche\, Besuch d
 er Kunstausstellung mit Werken der Malerin Rita Volkmann.\nDa die Veransta
 ltung vom Naturpark aus koordiniert ist\, gibt es für Nichtmitglieder wie 
 auch für Mitglieder keinerlei Unkosten\; eine Anmeldung ist ebenfalls nich
 t notwendig.\nDas Pülziger Programm findet ihr unter&nbsp\;https://naturpa
 rk-flaeming.de/flakupa/ (zu 'Pülzig' herunterscrollen oder auf den entspre
 chenden Button in der Auswahl links klicken).\nVielleicht mag ja auch der 
 eine oder andere Apricus teilnehmen...
DTSTART:20231008T073000Z
DTEND:20231008T160000Z
GEO:00;0
LOCATION:
ORGANIZER:
SEQUENCE:1
SUMMARY:FlaKuPa
TRANSP:OPAQUE
URL:https://test.apricus-ev.de/component/icagenda/flakupa?layout=vcal
END:VEVENT
END:VCALENDAR
