BEGIN:VCALENDAR
VERSION:2.0
PRODID:-//TEST Apricus e.V.//NONSGML kigkonsult.se iCalcreator 2.41.92//
CALSCALE:GREGORIAN
METHOD:PUBLISH
UID:63356333-3438-4438-b439-393737313230
X-WR-CALNAME:iCagenda
X-WR-CALDESC:Event Management Extension for Joomla!
X-WR-RELCALID:3E26604A-50F4-4449-8B3E-E4F4932D05B5
X-WR-TIMEZONE:Europe/Berlin
BEGIN:VTIMEZONE
TZID:Europe/Berlin
TZUNTIL:20211031T010000Z
BEGIN:STANDARD
TZNAME:CET
DTSTART:20191027T030000
TZOFFSETFROM:+0200
TZOFFSETTO:+0100
RDATE:20201025T030000
END:STANDARD
BEGIN:DAYLIGHT
TZNAME:CEST
DTSTART:20190331T020000
TZOFFSETFROM:+0100
TZOFFSETTO:+0200
RDATE:20200329T020000
RDATE:20210328T020000
END:DAYLIGHT
END:VTIMEZONE
BEGIN:VEVENT
UID:33326361-3837-4766-b035-643238343839
DTSTAMP:20260425T213434Z
CATEGORIES:Laufen
CLASS:PUBLIC
DESCRIPTION;ALTREP="CID:<FFFF__=0ABBE548DFE235B58f9e8a93d@coffeebean.com>":
 Hallo zusammen\, mal was ganz Anderes / Neues:\nDer Verein „Leipziger Tria
 thlon e.V.“ veranstaltet seit Mitte der 90er zweimal jährlich den „Fockebe
 rglauf“. (s.a. Homepage des Veranstalters)\nDer Start ist am Fuße des 153&
 nbsp\;m hohen ehemaligen Schuttberges. Es geht zuerst einen Waldweg bergau
 f\, dabei sind auf ca. einem Kilometer 45 Höhenmeter zu überwinden. Nach e
 iner kleinen Runde auf der Dammkrone des Fockeberg-Plateaus geht es wieder
  auf Asphalt einen Kilometer bergab. Die ganze Runde ist zwei Kilometer la
 ng. Drei dieser Runden sind beim Fitnesslauf und sechs sind beim Hauptlauf
  zu absolvieren.\nIn der ersten Runde gibt es einen Bergpreis - wer in der
  ersten Runde die Bergankunft gewinnt\, bekommt den Sonderpreis. Bedingung
  ist jedoch\, den Lauf zu finishen!\nDamit wir gar nicht erst auf die Idee
  kommen\, in den Winterschlaf überzuwechseln\, nehmen wir diese kleine Her
 ausforderung an und erobern 6-mal (oder „nur“ 3-mal) den Hammer-Berg! ?\nO
 rganisatorisches\n\nStart ist 10:00&nbsp\;Uhr am Fuße des Berges.\nDie Anm
 eldung erfolgt bis spätestens 09:40&nbsp\;Uhr vor Ort.\nStartpreis sind 10
 &nbsp\;€.\n\nWer von außerhalb kommt und eine Übernachtung vorher benötigt
 \, kann sich gern bei mir per Mai unter mkraus70&lt\;@&gt\;yahoo.de oder t
 elefonisch unter 0176-31330108 melden und einquartieren. (Von mir aus ist 
 der Berg 4&nbsp\;km entfernt und mit dem Bus um 08:40&nbsp\;Uhr oder per R
 ad erreichbar.)\nAlso dann: auf in einen aktiven Winter!\nEs grüßt und fre
 ut sichDer Micha
DTSTART:20191102T080000Z
DTEND:20191102T160000Z
GEO:00;0
LOCATION:
ORGANIZER:
SEQUENCE:1
SUMMARY:Teilnahme am 57. Fockeberglauf
TRANSP:OPAQUE
URL:https://test.apricus-ev.de/component/icagenda/fockeberglauf?layout=vcal
END:VEVENT
END:VCALENDAR
