BEGIN:VCALENDAR
VERSION:2.0
PRODID:-//TEST Apricus e.V.//NONSGML kigkonsult.se iCalcreator 2.41.92//
CALSCALE:GREGORIAN
METHOD:PUBLISH
UID:37643434-3839-4536-a665-303862306264
X-WR-CALNAME:iCagenda
X-WR-CALDESC:Event Management Extension for Joomla!
X-WR-RELCALID:3E26604A-50F4-4449-8B3E-E4F4932D05B5
X-WR-TIMEZONE:Europe/Berlin
BEGIN:VTIMEZONE
TZID:Europe/Berlin
TZUNTIL:20241027T010000Z
BEGIN:STANDARD
TZNAME:CET
DTSTART:20221030T030000
TZOFFSETFROM:+0200
TZOFFSETTO:+0100
RDATE:20231029T030000
END:STANDARD
BEGIN:DAYLIGHT
TZNAME:CEST
DTSTART:20220327T020000
TZOFFSETFROM:+0100
TZOFFSETTO:+0200
RDATE:20230326T020000
RDATE:20240331T020000
END:DAYLIGHT
END:VTIMEZONE
BEGIN:VEVENT
UID:34643535-3134-4633-b737-626561653231
DTSTAMP:20260425T213434Z
CATEGORIES:Wandern
CLASS:PUBLIC
DESCRIPTION;ALTREP="CID:<FFFF__=0ABBE548DFE235B58f9e8a93d@coffeebean.com>":
 Mit Apricus in den Frühling... 1: Wandern\n&nbsp\;\n\nWie bereits in den l
 etzten Jahren bieten wir zwei Tagestouren an ein und demselben Wochenende 
 an\, so dass man sowohl in den Frühling radeln als auch wandern kann. Jede
 r kann nach seinem Gusto an nur einer oder auch an beiden Touren teilnehme
 n.\nDie Wanderung am Samstag\, 11.03.2023 startet am Bahnhof (stadtseitig)
 \, Treffzeit ist 10:30&nbsp\;Uhr\, beide Züge (aus Wittenberg wie auch aus
  Dessau) werden abgewartet.\nHier beschäftigen uns zunächst die Auenwälder
  an der Elbe mit ihren Sümpfen bis Buro und dann geht es über die Neumühle
  bis ans Flämingbad\, wo wir im Feriendorf einen kleinen Imbiss zu uns neh
 men können. Wir werden Frühjahrsblüher entdecken und vielleicht auch das e
 ine oder andere Tier beobachten können. Die gesamte Wanderung ist etwa 10&
 nbsp\;bis 12&nbsp\;km lang. Wir lassen uns aber ausreichend Zeit dafür\, e
 ntdecken ehemalige Wüstungen\, die Komtureikirche in Buro und den Choleras
 tein.\nIn weit früheren Zeiten hätten wir so einige Ausflugsgaststätten am
  Weg gehabt\, heute dürfen wir froh sein\, dass wir zum Festpreis von 8&nb
 sp\;€ pro Person (Getränke exklusive) von Manfred Bühnemanns Team einen Im
 biss nach mehr als dre viertel der Strecke bekommen. Um den Imbiss im Vora
 us planen zu können\, wird um eine Anmeldung hierfür bis zum 09.03.2023 ge
 beten.\nNähere Auskünfte und Anmeldungen bei Torsten Hammer unter thapricu
 s@aol.com oder telefonisch unter 034903-189761 (auch AB nutzen!).\nGäste z
 ahlen neben den Kosten ihrer Verpflegung einen Nichtmitgliederbeitrag in H
 öhe von 1 €&nbsp\;pro Tag. Für Apricus Mitglieder entstehen keine Teilnehm
 erkosten außerhalb der Verpflegung.\nAm Sonntag gibt es dann noch die Radt
 our in den Frühling durch den Fläming (ursprünglich sollte erst geradelt u
 nd dann gewandert werden\, aber ein Termintausch stand bereits im Raum).\n
 Torsten
DTSTART:20230311T090000Z
DTEND:20230311T160000Z
GEO:00;0
LOCATION:
ORGANIZER:
SEQUENCE:1
SUMMARY:Frühlingswanderung
TRANSP:OPAQUE
URL:https://test.apricus-ev.de/component/icagenda/fruehlingswanderung-2?lay
 out=vcal
END:VEVENT
END:VCALENDAR
