BEGIN:VCALENDAR
VERSION:2.0
PRODID:-//TEST Apricus e.V.//NONSGML kigkonsult.se iCalcreator 2.41.92//
CALSCALE:GREGORIAN
METHOD:PUBLISH
UID:66306565-6438-4432-b062-646166303735
X-WR-CALNAME:iCagenda
X-WR-CALDESC:Event Management Extension for Joomla!
X-WR-RELCALID:3E26604A-50F4-4449-8B3E-E4F4932D05B5
X-WR-TIMEZONE:Europe/Berlin
BEGIN:VTIMEZONE
TZID:Europe/Berlin
TZUNTIL:20261025T010000Z
BEGIN:STANDARD
TZNAME:CET
DTSTART:20241027T030000
TZOFFSETFROM:+0200
TZOFFSETTO:+0100
RDATE:20251026T030000
END:STANDARD
BEGIN:DAYLIGHT
TZNAME:CEST
DTSTART:20240331T020000
TZOFFSETFROM:+0100
TZOFFSETTO:+0200
RDATE:20250330T020000
RDATE:20260329T020000
END:DAYLIGHT
END:VTIMEZONE
BEGIN:VEVENT
UID:31306664-6136-4839-a239-336138316664
DTSTAMP:20260425T213433Z
CATEGORIES:Wandern
CLASS:PUBLIC
DESCRIPTION;ALTREP="CID:<FFFF__=0ABBE548DFE235B58f9e8a93d@coffeebean.com>":
 Mit Apricus den Frühling im Dessau-Wörlitzer Gartenreich suchen\nIn der Ho
 ffnung\, dass das Wetter in diesem Jahr besser mitspielt\, soll es wieder 
 ein Aktiv-Wochenende der Coswiger Apricüsse geben\, zu dem ihr herzlich ei
 ngeladen seid. Am Samstag startet das Wochenende mit einer Tageswanderung 
 im Dessau-Wörlitzer Gartenreich. Ich habe dieses Mal eine Runde herausgesu
 cht\, die vielleicht noch nicht jeder so in der Form kennt\, im Zentrum st
 eht diesmal der Großkühnauer Park und der Beckerbruch/Georgengarten.\nStar
 t ist um 11:00&nbsp\;Uhr am Nordeingang des Dessauer Hauptbahnhofes (koste
 nfreier Parkplatz)\, die Anreise mit der Bahn ist aus verschiedenen Richtu
 ngen sehr gut abgestimmt machbar.\n\nAus Berlin (Hbf) kommt um 10:48&nbsp\
 ;Uhr eine Verbindung an (ab Berlin Hbf 8\;32&nbsp\;Uhr\, RE3 – 1 Umstieg i
 n Wittenberg)\, eine weitere Möglichkeit ist der RE7 (9:14&nbsp\;Uhr ab Be
 rlin Hbf\, 10:53&nbsp\;Uhr an Dessau Hbf).\nAus Leipzig kann man die S2 ne
 hmen (9:48&nbsp\;Uhr ab Leipzig Hbf\, 10:41&nbsp\;Uhr an Dessau Hbf) oder 
 den RE13 (10:04&nbsp\;Uhr ab Leipzig Hbf\, an Dessau Hbf 10:45&nbsp\;Uhr).
 \nAb Wittenberg Hbf geht es mit der RB51 ab 10:16&nbsp\;Uhr nach Dessau Hb
 f\, hier Ankunft in Dessau Hbf um 10:48&nbsp\;Uhr – Zustieg in Coswig um 1
 0:30&nbsp\;Uhr.\n\nVorbei am Bauhaus und den Meisterhäusern gelangen wir z
 um Amaliensitz\, der bereits kurz vor dem Großkühnauer Park zu finden ist.
  Auch das Rondell gehört schon zu einem kleineren Park\, ehe wir dann noch
  einen Schlenker durch Dessau-Ziebigk drehen\, um dann über die Mühlstraße
  wieder ins Grüne zu gelangen. Dann drehen wir eine ausführliche Runde dur
 ch den Park Großkühnau\, der ebenso wie die anderen Parks im Gartenreich m
 it verschiedenen Denkmälern und Bauten aufwartet.\nMit etwas Glück ist auc
 h die Großkühnauer Kirche offen\, ehe wir dann in der wohl einzigen dort n
 och vorhandenen Gaststätte zur Mittagsrast einkehren. Nördlich des Kühnaue
 r Sees geht es dann an die Elbe\, die wir kurz vor dem Kornhaus erreichen\
 , einem weiteren Gebäude im Bauhausstil. Kurz darauf erreichen wir den im 
 Parkstil ausgebauten Beckerbruch\, der dann nahtlos in den Georgengarten ü
 bergeht. Dann sind wir wieder an unserem Startpunkt.\nWenn sich bis Mittwo
 ch\, 12.03.2025 insgesamt mindestens 7&nbsp\;Leute bei mir angemeldet habe
 n\, bekommen wir exklusiv an der Wallwitzburg Kaffee und Kuchen serviert. 
 Da der Turm gerade restauriert wird\, ist leider nicht offiziell geöffnet\
 , ab einer Gruppenstärke von 8 Leuten könnten wir an diesem netten Platz k
 onditorn... Die Mitglieder des dortigen Vereines würden uns dann bewirten.
 \nAlso bitte anmelden bei mir\, Torsten Hammer – per Mail: thapricus@aol.c
 om oder telefonisch (auch AB nutzen!) 034903-189761\nWie üblich kostet die
  Teilnahme für Apricus-Mitglieder nichts\, Gäste zahlen den obligatorische
 n 1&nbsp\;€ Beitrag für den Versicherungsschutz. Speisen und Getränke zu M
 ittag und für das Kaffeetrinken zahlt jeder selbst.\nIch freue mich auf ei
 ne schöne\, ca. 14&nbsp\;km lange Wanderung mit euch!Torsten\n\nAm Sonntag
  wird dann Jakob Koch noch eine Radtour anbieten.
DTSTART:20250315T100000Z
DTEND:20250315T170000Z
GEO:00;0
LOCATION:
ORGANIZER:
SEQUENCE:1
SUMMARY:Frühlingswanderung
TRANSP:OPAQUE
URL:https://test.apricus-ev.de/component/icagenda/fruehlingswanderung-3?lay
 out=vcal
END:VEVENT
END:VCALENDAR
