BEGIN:VCALENDAR
VERSION:2.0
PRODID:-//TEST Apricus e.V.//NONSGML kigkonsult.se iCalcreator 2.41.92//
CALSCALE:GREGORIAN
METHOD:PUBLISH
UID:30323737-6330-4633-b739-343434666134
X-WR-CALNAME:iCagenda
X-WR-CALDESC:Event Management Extension for Joomla!
X-WR-RELCALID:3E26604A-50F4-4449-8B3E-E4F4932D05B5
X-WR-TIMEZONE:Europe/Berlin
BEGIN:VTIMEZONE
TZID:Europe/Berlin
TZUNTIL:20231029T010000Z
BEGIN:STANDARD
TZNAME:CET
DTSTART:20211031T030000
TZOFFSETFROM:+0200
TZOFFSETTO:+0100
RDATE:20221030T030000
END:STANDARD
BEGIN:DAYLIGHT
TZNAME:CEST
DTSTART:20210328T020000
TZOFFSETFROM:+0100
TZOFFSETTO:+0200
RDATE:20220327T020000
RDATE:20230326T020000
END:DAYLIGHT
END:VTIMEZONE
BEGIN:VEVENT
UID:65376464-3635-4330-b730-376362376162
DTSTAMP:20260425T213435Z
CATEGORIES:Wandern
CLASS:PUBLIC
DESCRIPTION;ALTREP="CID:<FFFF__=0ABBE548DFE235B58f9e8a93d@coffeebean.com>":
 (2. Teil des Start-in-den-Frühling-Wochenendes bei Coswig\, nach der Radto
 ur am Sonnabend)\nDie Wanderung am Sonntag\, 20.03.2022\n...startet um 11&
 nbsp\;Uhr auf dem Parkplatz vom Getränke-Netto (gegenüber vom Hohen Elbufe
 r!)Wer per Bahn anreist\, sollte als Ankunft auch die Züge gegen 10:30&nbs
 p\;Uhr einplanen und dann selbständig zum Treffpunkt kommen.\nHier beschäf
 tigen uns der Bachlauf des Ziekoer Baches - mit seinen Sümpfen und Biberbu
 rgen - und die Waldgebiete westlich und nordwestlich von Coswig\, diesseit
 s der A9. Wir werden Frühjahrsblüher entdecken und vielleicht auch das ein
 e oder andere Tier beobachten können.\nDie gesamte Wanderung ist etwa 9&nb
 sp\;bis 10&nbsp\;km lang. Es gibt einen Verpflegungspunkt auf eigene Koste
 n im Feriendorf mit Kaffee und Kuchen.&nbsp\; - dafür ist auch hier eine A
 nmeldung vorab ratsam\, um das entsprechend planen zu können (s.u.). Anson
 sten kann sich jeder natürlich seine Verpflegung mitbringen und es wird ge
 picknickt.\nOrganisatorisches\nNähere Auskünfte und Anmeldungen für beide 
 Veranstaltungen bei Torsten Hammer unter thapricus@aol.com oder telefonisc
 h unter 034903-189761 (auch AB nutzen!).\nGäste zahlen neben den Kosten ih
 rer Verpflegung einen Nichtmitgliederbeitrag in Höhe von 1&nbsp\;€ pro Tag
 . Für Apricus-Mitglieder entstehen keine Teilnehmerkosten außerhalb der Ve
 rpflegung.\nBitte beachtet die dann jeweilig gültigen Corona-Auflagen\, di
 e an diesem Wochenende im Landkreis Wittenberg (Sachsen-Anhalt) gelten – i
 nklusive eventuell nötiger Testnachweise etc.. Auskunft darüber erteilt de
 r Landkreis auch auf seiner Internetseite.\n&nbsp\;\n\nCorona-Regeln bei A
 pricus-Veranstaltungen\n{loadmoduleid 135}
DTSTART:20220320T090000Z
DTEND:20220320T160000Z
GEO:00;0
LOCATION:
ORGANIZER:
SEQUENCE:1
SUMMARY:Frühlingswanderung
TRANSP:OPAQUE
URL:https://test.apricus-ev.de/component/icagenda/fruehlingswanderung?layou
 t=vcal
END:VEVENT
END:VCALENDAR
